From mboxrd@z Thu Jan 1 00:00:00 1970 Return-Path: Received: from mails.dpdk.org (mails.dpdk.org [217.70.189.124]) by inbox.dpdk.org (Postfix) with ESMTP id 98993466CF for ; Mon, 5 May 2025 20:16:09 +0200 (CEST) Received: from mails.dpdk.org (localhost [127.0.0.1]) by mails.dpdk.org (Postfix) with ESMTP id 93FF64025D; Mon, 5 May 2025 20:16:09 +0200 (CEST) Received: from mail-oi1-f227.google.com (mail-oi1-f227.google.com [209.85.167.227]) by mails.dpdk.org (Postfix) with ESMTP id EECA94003C for ; Mon, 5 May 2025 20:16:07 +0200 (CEST) Received: by mail-oi1-f227.google.com with SMTP id 5614622812f47-3f9832f798aso3439561b6e.2 for ; Mon, 05 May 2025 11:16:07 -0700 (PDT) DKIM-Signature: v=1; a=rsa-sha256; c=relaxed/relaxed; d=iol.unh.edu; s=unh-iol; t=1746468967; x=1747073767; darn=dpdk.org; h=references:in-reply-to:cc:to:from:subject:message-id:date:from:to :cc:subject:date:message-id:reply-to; bh=iXlyXz/ZI+6xbefrSd2BcFgWmGGdLWAYNyHVFjGp+gw=; b=KqW9S75RKMCZbOBX/5e4Y1298YJJgqG3eJuFwzPkuNZbvFCo7N7IbAQ6+A0+svRbAc nMaGBHDjE+piivMmylNC2MgqrPv/n7yP9T7ZmQtLxidBMEEvuuQ3VTF6GyZKrXIGkOGK rqJlYyFHUWGHCDDiDCQzyvwLdS+g6WKSfppNI= X-Google-DKIM-Signature: v=1; a=rsa-sha256; c=relaxed/relaxed; d=1e100.net; s=20230601; t=1746468967; x=1747073767; h=references:in-reply-to:cc:to:from:subject:message-id:date :x-gm-message-state:from:to:cc:subject:date:message-id:reply-to; bh=iXlyXz/ZI+6xbefrSd2BcFgWmGGdLWAYNyHVFjGp+gw=; b=PI4Oz9HwEdq89A5mQchBB1qca9B0Qy2cy8at9VBQFTjU5+9KxGOv42O4zBXWojdbBo rc8j2aP3+5w0Jiwze3WVCSbWAlTPDPTWDatYcCmsnQGQtYmjGTVxT8mBpNx8rbp+Px7z 3kRRrbioO567pGG8Yg8rbi25z6yE9cpvTP+M/wvnvHL1YlBXZjA0wqh1l3Cj10Mhvjq/ eSodIWXfKj2vn2PEBTHpzSh3iJndtOmMsgHanhrGo5+8RlDEujuMMqa2UYGlWDs20bDm fOFAT525yiEonpBIoK/5OQ23vWd3apvmwknzIwel4LbqCZ9ifPHRbeUqNKSIv58I+I08 EyTQ== X-Gm-Message-State: AOJu0YwVN8KEyNAA6hT1GgNAAT+9eHhGzyQZBCu2eIiYYv+HUA9dM07j bH/74zNQlJN+o8J9EcPWdfDMYrP7nDt1R8c2cHV8kY0ItKjY1C6Io2uLzZioggS6fhoOjFpPe4K gFMT3RYDAEatvSTJy4bY7yGD4SJl87X1/euu5o2N1FZ+nqt1xv7T3cn/r X-Gm-Gg: ASbGnctLj7iOV7Qp0E2MdmeJh7Lni8nhRY+WRJMKoyzXRBwzwoLWKr7xCnwVV0rx1Xn v9sNnDyPTUnqs5lIIVlcHY+Tdq4e1ejGZNIKE7hqOelo3pkt2GX5EM8ksX7+acP9EcjNrgxAFq8 vGRkgpYRzy0BVNIeAuTbRdAJcJauXFAss5/2jwep42yTXLOWRfcDezQFGBAHJYNn1AderLRnoDq pVe9fTi5mWxtjna7YutA9OJKnBWmbT2h4bq97lfVpc7bNqPfuaxShStV4GkkfBRnywTKpP2aKjX yoOrXbLx5pys2A9an6J6mth3ob620wwRvte6 X-Google-Smtp-Source: AGHT+IHTz+eFyvIAnS3kS2YZA2EikAPIp8pi8HByn1VqVmy2gSyCvzfXcg+kEBPUGLvloCvPBuZMGuowQOop X-Received: by 2002:a05:6870:71d6:b0:2bc:8c4a:aac2 with SMTP id 586e51a60fabf-2dab3313445mr7957126fac.27.1746468967241; Mon, 05 May 2025 11:16:07 -0700 (PDT) Received: from postal.iol.unh.edu (postal.iol.unh.edu. [2606:4100:3880:1234::84]) by smtp-relay.gmail.com with ESMTPS id 586e51a60fabf-2daa0ee1962sm2176643fac.10.2025.05.05.11.16.07 (version=TLS1_2 cipher=ECDHE-ECDSA-AES128-GCM-SHA256 bits=128/128); Mon, 05 May 2025 11:16:07 -0700 (PDT) X-Relaying-Domain: iol.unh.edu Date: Mon, 05 May 2025 11:16:07 -0700 (PDT) Message-ID: <68190067.050a0220.331251.65f2SMTPIN_ADDED_MISSING@mx.google.com> Received: from [172.21.0.7] (unknown [172.18.0.240]) by postal.iol.unh.edu (Postfix) with ESMTP id DCCD36052471; Mon, 5 May 2025 14:16:06 -0400 (EDT) Subject: |SUCCESS| pw153294 [PATCH] [1/1] net/nbl add doc and minimun nbl bui From: dpdklab@iol.unh.edu To: Test Report Cc: dpdk-test-reports@iol.unh.edu In-Reply-To: <20250424114919.10349-1-kyo.liu@nebula-matrix.com> References: <20250424114919.10349-1-kyo.liu@nebula-matrix.com> Content-Type: text/plain X-BeenThere: test-report@dpdk.org X-Mailman-Version: 2.1.29 Precedence: list List-Id: automatic DPDK test reports List-Unsubscribe: , List-Archive: List-Post: List-Help: List-Subscribe: , Errors-To: test-report-bounces@dpdk.org Test-Label: iol-unit-amd64-testing Test-Status: SUCCESS http://dpdk.org/patch/153294 _Testing PASS_ Submitter: Kyo Liu Date: Thursday, April 24 2025 11:49:19 DPDK git baseline: Repo:dpdk Branch: master CommitID:ff05ee3e3f8fb4ce958a2ce6461e8141aea959c6 153294 --> testing pass Upstream job id: Generic-Unit-Test-DPDK#335324 Test environment and result as below: +-------------------+----------------+ | Environment | dpdk_unit_test | +===================+================+ | CentOS Stream 9 | PASS | +-------------------+----------------+ | CentOS Stream 10 | PASS | +-------------------+----------------+ | Fedora 40 | PASS | +-------------------+----------------+ | Debian 12 | PASS | +-------------------+----------------+ | Fedora 40 (Clang) | PASS | +-------------------+----------------+ | Fedora 41 (Clang) | PASS | +-------------------+----------------+ | RHEL8 | PASS | +-------------------+----------------+ | Fedora 41 | PASS | +-------------------+----------------+ | Ubuntu 20.04 | PASS | +-------------------+----------------+ | Ubuntu 22.04 | PASS | +-------------------+----------------+ | RHEL9 | PASS | +-------------------+----------------+ | Ubuntu 24.04 | PASS | +-------------------+----------------+ CentOS Stream 9 Kernel: Depends on container host Compiler: gcc 11.5.0 20240719 (Red Hat 11.5.0-2) CentOS Stream 10 Kernel: Depends on container host Compiler: gcc 14.2.1 20241104 (Red Hat 14.2.1-6) Fedora 40 Kernel: Depends on container host Compiler: gcc 14.2.1 20240912 (Red Hat 14.2.1-3) Debian 12 Kernel: Depends on container host Compiler: gcc (Debian 12.2.0-14) 12.2.0 Fedora 40 (Clang) Kernel: Depends on container host Compiler: clang 18.1.8 (Fedora 18.1.8-1.fc40) Fedora 41 (Clang) Kernel: Depends on container host Compiler: clang 19.1.5 (Fedora 19.1.5-1.fc41) RHEL8 Kernel: Depends on container host Compiler: gcc 8.5.0 20210514 (Red Hat 8.5.0-22) Fedora 41 Kernel: Depends on container host Compiler: gcc 14.2.1 20240912 (Red Hat 14.2.1-3) Ubuntu 20.04 Kernel: Depends on container host Compiler: gcc (Ubuntu 9.4.0-1ubuntu1~20.04.2) 9.4.0 Ubuntu 22.04 Kernel: Depends on container host Compiler: gcc (Ubuntu 11.4.0-1ubuntu1~22.04) 11.4.0 RHEL9 Kernel: Depends on container host Compiler: gcc 11.5.0 20240719 (Red Hat 11.5.0-2) Ubuntu 24.04 Kernel: Depends on container host Compiler: gcc (Ubuntu 13.3.0-6ubuntu2~24.04) 13.3.0 To view detailed results, visit: https://lab.dpdk.org/results/dashboard/patchsets/33107/ UNH-IOL DPDK Community Lab To manage your email subscriptions, visit: https://lab.dpdk.org/results/dashboard/preferences/subscriptions/