From mboxrd@z Thu Jan 1 00:00:00 1970 Return-Path: Received: from mails.dpdk.org (mails.dpdk.org [217.70.189.124]) by inbox.dpdk.org (Postfix) with ESMTP id 9B880466CF for ; Mon, 5 May 2025 20:56:53 +0200 (CEST) Received: from mails.dpdk.org (localhost [127.0.0.1]) by mails.dpdk.org (Postfix) with ESMTP id 95C684025D; Mon, 5 May 2025 20:56:53 +0200 (CEST) Received: from mail-oo1-f98.google.com (mail-oo1-f98.google.com [209.85.161.98]) by mails.dpdk.org (Postfix) with ESMTP id 5B3C24003C for ; Mon, 5 May 2025 20:56:52 +0200 (CEST) Received: by mail-oo1-f98.google.com with SMTP id 006d021491bc7-60634f82c77so1317324eaf.1 for ; Mon, 05 May 2025 11:56:52 -0700 (PDT) DKIM-Signature: v=1; a=rsa-sha256; c=relaxed/relaxed; d=iol.unh.edu; s=unh-iol; t=1746471411; x=1747076211; darn=dpdk.org; h=references:in-reply-to:cc:to:from:subject:message-id:date:from:to :cc:subject:date:message-id:reply-to; bh=I2l1oicLRsDwk7H5GLBP5+qA61ebheuTrvsAUDUngDo=; b=OrMcIDMlw0Me8DKrLs8j6DzVckhPLlsReRJdq6n4VMkys15mgZZ1A6Zp6zvcQ53ZOP 9TxAqUbZ/8xBhzDCZ3fTg8O7gwAUbcftiAYqXiJCn2WXmc/QkLIOfSKrIX6a9JPfUmWg d1BwLQXS0YVbgiIz99SySS1tUtFqIOD2DXWIw= X-Google-DKIM-Signature: v=1; a=rsa-sha256; c=relaxed/relaxed; d=1e100.net; s=20230601; t=1746471411; x=1747076211; h=references:in-reply-to:cc:to:from:subject:message-id:date :x-gm-message-state:from:to:cc:subject:date:message-id:reply-to; bh=I2l1oicLRsDwk7H5GLBP5+qA61ebheuTrvsAUDUngDo=; b=UcQgaivfRKoxM0D2BvURaLyvjl76FqGNzjZoBJMmbem3lUKLPWAy2Rkzvd/tvbS581 OOXEZWTOp3LhwhUumJC/Fho4PE4gphDvBSUkxbsEf9zwmOIWwTaZQrVfrBr1D3ZeR4X2 KUlz9+ApTpwzxBFLGFGrD+apV1v9IOAiyGn518x2uUvdax1z4tcU6c8r491brE+JSUkY eHi2KmHUhOm6FGLu6BkM8szY54e9v1Nkw3MxtAwVrzVy3/ZY/HqPG5JcfgNHMXoe993J A/aoZ/JlUHSfa9F8aKUZUI8r7nYJ+V/QHSKUGIhiCcKK7fL7R8/4PLXx1revWka73l/h zNvg== X-Gm-Message-State: AOJu0YxAM2wnJeR1C6UviwqJKfCGocPQa+AQaBcytxUs495V/ay4vDJw R5g8ZRyv1cdwSswbzFTYiJf12w913qcODW5zWSG7M0MpulIqmUSrD6pkCqI84F3DTT1K03FryCR o9mbeseW41qr7tG0wJT4jdK9u88dm7VkgpYEW18sV0AoYAw79dmDWsAzv X-Gm-Gg: ASbGncvh7rPDSSdHLeVoF/w0NCLcvhWbD0YIYuJzelyn+BQprSYJHGja++HlIhIV1bj J3/0ou3KF1T8uGlEM5FlFAY5p0LwMKLgZqnE8XP2llFcGmMU/Kooihp/OhYa1Y2t8qBsLcMvAya hr12iYAnw1JKAb2WmVNVQr/4hVxHRmwVb0lR6VoO8/1uj9ks4KbqlUeNbwlMkGhTl0TgJdZRQze /xmFxQYXScXT7kJXkmVq9+oejWVWjRmJnV7pX/sxzggOmnUzj9xrKEhobxKO+sV+EMkQxvgRLGd A0GwX2yrftrWqaU+QN2By5PxmlTSsstPgGjP X-Google-Smtp-Source: AGHT+IGHEbz1vc9WHcLQTTDeITUmxbSUnIp+1wFXFdAvzNzRMvsYZM7dZOtYPYJZ0b+Wac/4hABYYJbD84fq X-Received: by 2002:a05:6870:4589:b0:2cc:3d66:b6ea with SMTP id 586e51a60fabf-2db391b2b13mr360518fac.34.1746471411459; Mon, 05 May 2025 11:56:51 -0700 (PDT) Received: from postal.iol.unh.edu (postal.iol.unh.edu. [2606:4100:3880:1234::84]) by smtp-relay.gmail.com with ESMTPS id 586e51a60fabf-2daa11a7d32sm2169748fac.32.2025.05.05.11.56.51 (version=TLS1_2 cipher=ECDHE-ECDSA-AES128-GCM-SHA256 bits=128/128); Mon, 05 May 2025 11:56:51 -0700 (PDT) X-Relaying-Domain: iol.unh.edu Date: Mon, 05 May 2025 11:56:51 -0700 (PDT) Message-ID: <681909f3.050a0220.73ad0.6b0aSMTPIN_ADDED_MISSING@mx.google.com> Received: from [172.21.0.5] (unknown [172.18.0.240]) by postal.iol.unh.edu (Postfix) with ESMTP id EB3D26052471; Mon, 5 May 2025 14:56:50 -0400 (EDT) Subject: |SUCCESS| pw153294 [PATCH] [1/1] net/nbl add doc and minimun nbl bui From: dpdklab@iol.unh.edu To: Test Report Cc: dpdk-test-reports@iol.unh.edu In-Reply-To: <20250424114919.10349-1-kyo.liu@nebula-matrix.com> References: <20250424114919.10349-1-kyo.liu@nebula-matrix.com> Content-Type: text/plain X-BeenThere: test-report@dpdk.org X-Mailman-Version: 2.1.29 Precedence: list List-Id: automatic DPDK test reports List-Unsubscribe: , List-Archive: List-Post: List-Help: List-Subscribe: , Errors-To: test-report-bounces@dpdk.org Test-Label: iol-unit-amd64-testing Test-Status: SUCCESS http://dpdk.org/patch/153294 _Testing PASS_ Submitter: Kyo Liu Date: Thursday, April 24 2025 11:49:19 DPDK git baseline: Repo:dpdk Branch: master CommitID:ff05ee3e3f8fb4ce958a2ce6461e8141aea959c6 153294 --> testing pass Upstream job id: Generic-Unit-Test-DPDK#335355 Test environment and result as below: +-------------------+----------------+ | Environment | dpdk_unit_test | +===================+================+ | CentOS Stream 9 | PASS | +-------------------+----------------+ | CentOS Stream 10 | PASS | +-------------------+----------------+ | Debian 12 | PASS | +-------------------+----------------+ | Fedora 40 | PASS | +-------------------+----------------+ | Fedora 40 (Clang) | PASS | +-------------------+----------------+ | Fedora 41 | PASS | +-------------------+----------------+ | RHEL9 | PASS | +-------------------+----------------+ | Ubuntu 20.04 | PASS | +-------------------+----------------+ | Fedora 41 (Clang) | PASS | +-------------------+----------------+ | Ubuntu 22.04 | PASS | +-------------------+----------------+ | RHEL8 | PASS | +-------------------+----------------+ | Ubuntu 24.04 | PASS | +-------------------+----------------+ CentOS Stream 9 Kernel: Depends on container host Compiler: gcc 11.5.0 20240719 (Red Hat 11.5.0-2) CentOS Stream 10 Kernel: Depends on container host Compiler: gcc 14.2.1 20241104 (Red Hat 14.2.1-6) Debian 12 Kernel: Depends on container host Compiler: gcc (Debian 12.2.0-14) 12.2.0 Fedora 40 Kernel: Depends on container host Compiler: gcc 14.2.1 20240912 (Red Hat 14.2.1-3) Fedora 40 (Clang) Kernel: Depends on container host Compiler: clang 18.1.8 (Fedora 18.1.8-1.fc40) Fedora 41 Kernel: Depends on container host Compiler: gcc 14.2.1 20240912 (Red Hat 14.2.1-3) RHEL9 Kernel: Depends on container host Compiler: gcc 11.5.0 20240719 (Red Hat 11.5.0-2) Ubuntu 20.04 Kernel: Depends on container host Compiler: gcc (Ubuntu 9.4.0-1ubuntu1~20.04.2) 9.4.0 Fedora 41 (Clang) Kernel: Depends on container host Compiler: clang 19.1.5 (Fedora 19.1.5-1.fc41) Ubuntu 22.04 Kernel: Depends on container host Compiler: gcc (Ubuntu 11.4.0-1ubuntu1~22.04) 11.4.0 RHEL8 Kernel: Depends on container host Compiler: gcc 8.5.0 20210514 (Red Hat 8.5.0-22) Ubuntu 24.04 Kernel: Depends on container host Compiler: gcc (Ubuntu 13.3.0-6ubuntu2~24.04) 13.3.0 To view detailed results, visit: https://lab.dpdk.org/results/dashboard/patchsets/33107/ UNH-IOL DPDK Community Lab To manage your email subscriptions, visit: https://lab.dpdk.org/results/dashboard/preferences/subscriptions/