From mboxrd@z Thu Jan 1 00:00:00 1970 Return-Path: Received: from mails.dpdk.org (mails.dpdk.org [217.70.189.124]) by inbox.dpdk.org (Postfix) with ESMTP id C39B2466CF for ; Mon, 5 May 2025 21:05:47 +0200 (CEST) Received: from mails.dpdk.org (localhost [127.0.0.1]) by mails.dpdk.org (Postfix) with ESMTP id BF6BA4025D; Mon, 5 May 2025 21:05:47 +0200 (CEST) Received: from mail-io1-f99.google.com (mail-io1-f99.google.com [209.85.166.99]) by mails.dpdk.org (Postfix) with ESMTP id 961C44003C for ; Mon, 5 May 2025 21:05:46 +0200 (CEST) Received: by mail-io1-f99.google.com with SMTP id ca18e2360f4ac-85d9a87660fso511787239f.1 for ; Mon, 05 May 2025 12:05:46 -0700 (PDT) DKIM-Signature: v=1; a=rsa-sha256; c=relaxed/relaxed; d=iol.unh.edu; s=unh-iol; t=1746471946; x=1747076746; darn=dpdk.org; h=references:in-reply-to:cc:to:from:subject:message-id:date:from:to :cc:subject:date:message-id:reply-to; bh=yPAtxvUf2mKhi4CE0cTnZp3Sx5Wn2PhxhpZ5TCmKHi0=; b=fA++x0y0MPuV66KGWo99YghTBHXfd78djpFrOk+39+gh1MFTjTlvodjrYf/lKd3a/J TCOjCctwR9twTTqk6UfYv6F81EklfNn0+yw6sCld3RI9DuYK/LLsJR1O6Azp63ruGCbT cYWwYPCGgd0IariWXuWHMSPdQb3zhZOvHq1HE= X-Google-DKIM-Signature: v=1; a=rsa-sha256; c=relaxed/relaxed; d=1e100.net; s=20230601; t=1746471946; x=1747076746; h=references:in-reply-to:cc:to:from:subject:message-id:date :x-gm-message-state:from:to:cc:subject:date:message-id:reply-to; bh=yPAtxvUf2mKhi4CE0cTnZp3Sx5Wn2PhxhpZ5TCmKHi0=; b=flZBX8y6gyerwwrgyRbCZeTAvB5gOtwozOV50Unnfwj/IIVIWI3piNjLzc48FmHc1r MTyoPKwSfdW4mwqhS7ULjGoJsCjKaXSFwaWGhjFePgVH2vrdof7Ev6AhHVRFgTynvBj4 XNzfs77/EnemgKBkL3dn/9QwEaFgkdiOcHs2pupYHz9Ax2nLRvQBjOmBXn4F6hdFv2cq OMT9TZQggRARdbHumXtVlhGM+qIJ43S9lQSOisdu1IXDfNWRgjoQBIKXPaSydMUX2pnn ZQGppv6eVbjSlcJD4JIjpplS+hGaZr2zGyu0aK/5epT8e0jifT1xsuz+JhhkvNwlkKLZ tvGg== X-Gm-Message-State: AOJu0YzgBLU5I/Qs1ymLd6MD55uG9EbbDT+bByUZ4Usahr6J9XvgOLDi 4aWefbsX9pxpzHCJ6SYQqahEyA4i0kr9iKECDoiIGCJIaQD3bzkr7Rh4TP3NKu1X2WYl0ml+RTN t/RapjbaS+dje0q0ywlEST5w7e3QbTuC+W1jEtDwZ X-Gm-Gg: ASbGnctfxIqrIGyLb43VLdIrzg7yyy6dsrz/TKhTcYeFkUcv2QSEDIQary6sV3YiBV1 RKVxIbV725+u9b//MeaF144h2jd81Vp4n/pJGest7tyUikmj/tdh3WBv9Bwt7lp5rc1owMstM2c xUmCuTN4wy9RVYcFPuoVP9N+YlIFMr+iX4ZQIXmUYbifYZaxdmwyRy6BcugErY+inqr1EnVg1xM 5+LfJQbdjy7oW3h3zye3X23+qbETbFZ6m/9Z3+An6r8zZmpPC0K+xH4giGXVsAP2qIK/K5JLG+A q2zsP1SLhp0OFefHSqC5J1FyNmagY5Z/R5q15Uo1Rw0lSBrKHRBB4Mtb0ck= X-Google-Smtp-Source: AGHT+IHP+bWgHm8LMMc/SzCAbR0BpmhBWETfC/yUSt2s/XOf6kOBiougVtzsJYvzAIKFpSS1wVI5dHg5UEpd X-Received: by 2002:a92:cd82:0:b0:3d9:2aa3:fe2e with SMTP id e9e14a558f8ab-3da6cdd7d9fmr4284295ab.10.1746471945813; Mon, 05 May 2025 12:05:45 -0700 (PDT) Received: from postal.iol.unh.edu (postal.iol.unh.edu. [132.177.123.84]) by smtp-relay.gmail.com with ESMTPS id 8926c6da1cb9f-4f88aa9fd3bsm2001946173.71.2025.05.05.12.05.45 (version=TLS1_2 cipher=ECDHE-ECDSA-AES128-GCM-SHA256 bits=128/128); Mon, 05 May 2025 12:05:45 -0700 (PDT) X-Relaying-Domain: iol.unh.edu Date: Mon, 05 May 2025 12:05:45 -0700 (PDT) Message-ID: <68190c09.050a0220.2f4b8.59e9SMTPIN_ADDED_MISSING@mx.google.com> Received: from [172.21.0.5] (unknown [172.18.0.240]) by postal.iol.unh.edu (Postfix) with ESMTP id 6A1DA6052471; Mon, 5 May 2025 15:05:45 -0400 (EDT) Subject: |SUCCESS| pw153232-153233 [PATCH] [v6,2/2] drivers: add support for From: dpdklab@iol.unh.edu To: Test Report Cc: dpdk-test-reports@iol.unh.edu In-Reply-To: <20250505055717.3697335-2-kirankumark@marvell.com> References: <20250505055717.3697335-2-kirankumark@marvell.com> Content-Type: text/plain X-BeenThere: test-report@dpdk.org X-Mailman-Version: 2.1.29 Precedence: list List-Id: automatic DPDK test reports List-Unsubscribe: , List-Archive: List-Post: List-Help: List-Subscribe: , Errors-To: test-report-bounces@dpdk.org Test-Label: iol-compile-arm64-testing Test-Status: SUCCESS http://dpdk.org/patch/153233 _Testing PASS_ Submitter: Kiran Kumar Kokkilagadda Date: Monday, May 05 2025 05:57:16 DPDK git baseline: Repo:dpdk Branch: master CommitID:ca1690ebd224f148268285b15b97441ccdbdd07e 153232-153233 --> testing pass Upstream job id: Generic-DPDK-Compile-Meson#385052 Test environment and result as below: +----------------------------------------+--------------------+ | Environment | dpdk_meson_compile | +========================================+====================+ | RHEL9 (ARM) | PASS | +----------------------------------------+--------------------+ | Ubuntu 20.04 ARM GCC Cross Compile | PASS | +----------------------------------------+--------------------+ | Ubuntu 20.04 ARM SVE | PASS | +----------------------------------------+--------------------+ | Debian 12 with MUSDK | PASS | +----------------------------------------+--------------------+ | Fedora 40 (ARM Clang) | PASS | +----------------------------------------+--------------------+ | Fedora 40 (ARM) | PASS | +----------------------------------------+--------------------+ | Fedora 41 (ARM Clang) | PASS | +----------------------------------------+--------------------+ | CentOS Stream 9 (ARM) | PASS | +----------------------------------------+--------------------+ | Fedora 41 (ARM) | PASS | +----------------------------------------+--------------------+ | Ubuntu 24.04 (ARM) | PASS | +----------------------------------------+--------------------+ | Ubuntu 22.04 (ARM) | PASS | +----------------------------------------+--------------------+ | Ubuntu 20.04 (ARM) | PASS | +----------------------------------------+--------------------+ | Ubuntu 20.04 ARM Clang Cross Compile | PASS | +----------------------------------------+--------------------+ | Debian 12 (arm) | PASS | +----------------------------------------+--------------------+ | CentOS Stream 10 (ARM) | PASS | +----------------------------------------+--------------------+ | Ubuntu 20.04 aarch32 GCC Cross Compile | PASS | +----------------------------------------+--------------------+ RHEL9 (ARM) Kernel: Depends on container host Compiler: gcc 11.5.0 20240719 (Red Hat 11.5.0-2) Ubuntu 20.04 ARM GCC Cross Compile Kernel: Depends on container host Compiler: aarch64-linux-gnu-gcc (Ubuntu 9.4.0-1ubuntu1~20.04.2) 9.4.0 Ubuntu 20.04 ARM SVE Kernel: Depends on container host Compiler: gcc (Ubuntu 10.5.0-1ubuntu1~20.04) 10.5.0 Debian 12 with MUSDK Kernel: Depends on container host Compiler: gcc (Debian 12.2.0-14) 12.2.0 Fedora 40 (ARM Clang) Kernel: Depends on container host Compiler: clang 18.1.8 (Fedora 18.1.8-1.fc40) Fedora 40 (ARM) Kernel: Depends on container host Compiler: gcc 14.2.1 20240912 (Red Hat 14.2.1-3) Fedora 41 (ARM Clang) Kernel: Depends on container host Compiler: clang 19.1.5 (Fedora 19.1.5-1.fc41) CentOS Stream 9 (ARM) Kernel: Depends on container host Compiler: gcc 11.5.0 20240719 (Red Hat 11.5.0-2) Fedora 41 (ARM) Kernel: Depends on container host Compiler: gcc 14.2.1 20240912 (Red Hat 14.2.1-3) Ubuntu 24.04 (ARM) Kernel: Depends on container host Compiler: gcc (Ubuntu 13.3.0-6ubuntu2~24.04) 13.3.0 Ubuntu 22.04 (ARM) Kernel: Depends on container host Compiler: gcc (Ubuntu 11.4.0-1ubuntu1~22.04) 11.4.0 Ubuntu 20.04 (ARM) Kernel: Depends on container host Compiler: gcc (Ubuntu 9.4.0-1ubuntu1~20.04.2) 9.4.0 Ubuntu 20.04 ARM Clang Cross Compile Kernel: Depends on container host Compiler: clang 10.0.0-4ubuntu1 Debian 12 (arm) Kernel: Depends on container host Compiler: gcc (Debian 12.2.0-14) 12.2.0 CentOS Stream 10 (ARM) Kernel: Depends on container host Compiler: gcc 14.2.1 20241104 (Red Hat 14.2.1-6) Ubuntu 20.04 aarch32 GCC Cross Compile Kernel: Depends on container host Compiler: gcc 9.4.0 To view detailed results, visit: https://lab.dpdk.org/results/dashboard/patchsets/33101/ UNH-IOL DPDK Community Lab To manage your email subscriptions, visit: https://lab.dpdk.org/results/dashboard/preferences/subscriptions/