From mboxrd@z Thu Jan 1 00:00:00 1970 Return-Path: Received: from mails.dpdk.org (mails.dpdk.org [217.70.189.124]) by inbox.dpdk.org (Postfix) with ESMTP id E3DE2466CF for ; Mon, 5 May 2025 21:06:55 +0200 (CEST) Received: from mails.dpdk.org (localhost [127.0.0.1]) by mails.dpdk.org (Postfix) with ESMTP id DEC4A4025D; Mon, 5 May 2025 21:06:55 +0200 (CEST) Received: from mail-oa1-f99.google.com (mail-oa1-f99.google.com [209.85.160.99]) by mails.dpdk.org (Postfix) with ESMTP id 68CFE4003C for ; Mon, 5 May 2025 21:06:55 +0200 (CEST) Received: by mail-oa1-f99.google.com with SMTP id 586e51a60fabf-2d4f832069bso2176244fac.3 for ; Mon, 05 May 2025 12:06:55 -0700 (PDT) DKIM-Signature: v=1; a=rsa-sha256; c=relaxed/relaxed; d=iol.unh.edu; s=unh-iol; t=1746472014; x=1747076814; darn=dpdk.org; h=references:in-reply-to:cc:to:from:subject:message-id:date:from:to :cc:subject:date:message-id:reply-to; bh=ZBJf4C5A8AJZ/cXp+eSN90YF9Ih++6jHfUiRvAUcKVs=; b=CgvZ65cFhNwtuv30+rxvtGLt56ePP+0QxvzT7eQpDZD9xnzK1y8wiQbLVhT9ajAZkQ ttFJdWm75bk4J+5lX20HQOBh1wYPLxl14bOQOHTawKNNzh4rCtdPFnBGrh2nuW+2ky7P AqXOM76dUjada6nDv66xDVGYBwey5EjG5T7Ic= X-Google-DKIM-Signature: v=1; a=rsa-sha256; c=relaxed/relaxed; d=1e100.net; s=20230601; t=1746472014; x=1747076814; h=references:in-reply-to:cc:to:from:subject:message-id:date :x-gm-message-state:from:to:cc:subject:date:message-id:reply-to; bh=ZBJf4C5A8AJZ/cXp+eSN90YF9Ih++6jHfUiRvAUcKVs=; b=OKj3MwChWA/gmD3a4eHe9eRNxBsk6+FZshOoUkm9Yf8h7ZRIckpec3KMN8rlYYD7t5 g65gtYLmWLXkfvcmmMRgci5tzXMyOuAvGJ2gD31rgx0cE/4DLOgvGmnI5sg85kHK/T8e kG5LVIdGKlGISpl2cd0gDJlKpsK7lw+FhSaHCKoGPJPOMQQxvTrOlb4ida/7TUw0kYUW BCcINESY5ErIUhnvf5js2JGOAioJ/v7kxE9gKcBDsZf2sO61F4rpLBa4aP/lkbILoePO yIvJ31LRj2QgRADw6cA332yyvT9GehRp9nM/aFvFDAtmCVJEZDPALzRnSyQsAlT5/Dos H/6w== X-Gm-Message-State: AOJu0Yyk//1yq8MCKTng+9mfVx37N2/F8U69g/arteNx4qPy6MglxdMm lV8y0Hal4MXpDw5rY4zZ76vDl1M9rIH9xjbDhStFJTawGYxmkaxB3EtJeGlTCd60xAygTPrTuNl tnpo8PbTvUx8lUHMO3moYl2q0sd8as5EPZBPivVc7WPd4704CKjBtpuI8 X-Gm-Gg: ASbGncvf/qTV28u21PGOxwQAnifEnB1fA0PogU4uMh4P/jdlGM8KEf3Mnrve1Hk2l8P 7dzF6EOnTyzjkeHQuGcANj196vmQC+IhFD8YWrxq/jmcuFx/vha1H+5WJ8mkY1h/TyWbDgvHWwp t1Qsvf1JTTOrWGEic5Jx4WDIUl652A1VgMYMAB4J7M4W8PSW1Zc/+1xwDP2wU/DRnXJv6Y6QFdq 44sC0OajvPR5aOmvDbpdb6Rmxo3QfVyTiF4JOPXDKS4IiJrlIC5FHm4wlPSUi3uyO9wyAiv2KDw llj0IPFpMMYcfQ7l+7Pnl8QR/xE4Y1jtSdNm X-Google-Smtp-Source: AGHT+IFQbE6mL49HWUuWvNXFZAZ8Ox9IyqRnq3L05DFzWRKVHIVpK58bp/JqOfB1O1pcY63LNOX1eFeEZZP+ X-Received: by 2002:a05:6870:d685:b0:2bc:6675:2043 with SMTP id 586e51a60fabf-2dab2fe27d7mr8694080fac.14.1746472014548; Mon, 05 May 2025 12:06:54 -0700 (PDT) Received: from postal.iol.unh.edu (postal.iol.unh.edu. [2606:4100:3880:1234::84]) by smtp-relay.gmail.com with ESMTPS id 586e51a60fabf-2daa11a3e4esm2152786fac.31.2025.05.05.12.06.54 (version=TLS1_2 cipher=ECDHE-ECDSA-AES128-GCM-SHA256 bits=128/128); Mon, 05 May 2025 12:06:54 -0700 (PDT) X-Relaying-Domain: iol.unh.edu Date: Mon, 05 May 2025 12:06:54 -0700 (PDT) Message-ID: <68190c4e.050a0220.21bbed.5595SMTPIN_ADDED_MISSING@mx.google.com> Received: from [172.21.0.6] (unknown [172.18.0.240]) by postal.iol.unh.edu (Postfix) with ESMTP id 0C67D6052471; Mon, 5 May 2025 15:06:54 -0400 (EDT) Subject: |SUCCESS| pw153294 [PATCH] [1/1] net/nbl add doc and minimun nbl bui From: dpdklab@iol.unh.edu To: Test Report Cc: dpdk-test-reports@iol.unh.edu In-Reply-To: <20250424114919.10349-1-kyo.liu@nebula-matrix.com> References: <20250424114919.10349-1-kyo.liu@nebula-matrix.com> Content-Type: text/plain X-BeenThere: test-report@dpdk.org X-Mailman-Version: 2.1.29 Precedence: list List-Id: automatic DPDK test reports List-Unsubscribe: , List-Archive: List-Post: List-Help: List-Subscribe: , Errors-To: test-report-bounces@dpdk.org Test-Label: iol-unit-amd64-testing Test-Status: SUCCESS http://dpdk.org/patch/153294 _Testing PASS_ Submitter: Kyo Liu Date: Thursday, April 24 2025 11:49:19 DPDK git baseline: Repo:dpdk Branch: master CommitID:ff05ee3e3f8fb4ce958a2ce6461e8141aea959c6 153294 --> testing pass Upstream job id: Generic-VM-Unit-Test-DPDK#28323 Test environment and result as below: +---------------------+----------------+ | Environment | dpdk_unit_test | +=====================+================+ | CentOS Stream 9 | PASS | +---------------------+----------------+ | CentOS Stream 10 | PASS | +---------------------+----------------+ | Fedora 40 | PASS | +---------------------+----------------+ | Debian 12 | PASS | +---------------------+----------------+ | Fedora 40 (Clang) | PASS | +---------------------+----------------+ | Fedora 41 (Clang) | PASS | +---------------------+----------------+ | RHEL8 | PASS | +---------------------+----------------+ | Fedora 41 | PASS | +---------------------+----------------+ | Ubuntu 20.04 | PASS | +---------------------+----------------+ | Ubuntu 22.04 | PASS | +---------------------+----------------+ | RHEL9 | PASS | +---------------------+----------------+ | Ubuntu 24.04 | PASS | +---------------------+----------------+ | Windows Server 2022 | PASS | +---------------------+----------------+ CentOS Stream 9 Kernel: Depends on container host Compiler: gcc 11.5.0 20240719 (Red Hat 11.5.0-2) CentOS Stream 10 Kernel: Depends on container host Compiler: gcc 14.2.1 20241104 (Red Hat 14.2.1-6) Fedora 40 Kernel: Depends on container host Compiler: gcc 14.2.1 20240912 (Red Hat 14.2.1-3) Debian 12 Kernel: Depends on container host Compiler: gcc (Debian 12.2.0-14) 12.2.0 Fedora 40 (Clang) Kernel: Depends on container host Compiler: clang 18.1.8 (Fedora 18.1.8-1.fc40) Fedora 41 (Clang) Kernel: Depends on container host Compiler: clang 19.1.5 (Fedora 19.1.5-1.fc41) RHEL8 Kernel: Depends on container host Compiler: gcc 8.5.0 20210514 (Red Hat 8.5.0-22) Fedora 41 Kernel: Depends on container host Compiler: gcc 14.2.1 20240912 (Red Hat 14.2.1-3) Ubuntu 20.04 Kernel: Depends on container host Compiler: gcc (Ubuntu 9.4.0-1ubuntu1~20.04.2) 9.4.0 Ubuntu 22.04 Kernel: Depends on container host Compiler: gcc (Ubuntu 11.4.0-1ubuntu1~22.04) 11.4.0 RHEL9 Kernel: Depends on container host Compiler: gcc 11.5.0 20240719 (Red Hat 11.5.0-2) Ubuntu 24.04 Kernel: Depends on container host Compiler: gcc (Ubuntu 13.3.0-6ubuntu2~24.04) 13.3.0 Windows Server 2022 Kernel: 10.0.20348.2031 Compiler: clang 15.0.7, gcc 14.1.0 (MinGW), and MSVC VS 19.39.33521 To view detailed results, visit: https://lab.dpdk.org/results/dashboard/patchsets/33107/ UNH-IOL DPDK Community Lab To manage your email subscriptions, visit: https://lab.dpdk.org/results/dashboard/preferences/subscriptions/