From mboxrd@z Thu Jan 1 00:00:00 1970 Return-Path: Received: from mails.dpdk.org (mails.dpdk.org [217.70.189.124]) by inbox.dpdk.org (Postfix) with ESMTP id 2201E466CF for ; Mon, 5 May 2025 21:32:55 +0200 (CEST) Received: from mails.dpdk.org (localhost [127.0.0.1]) by mails.dpdk.org (Postfix) with ESMTP id 1DBF64025D; Mon, 5 May 2025 21:32:55 +0200 (CEST) Received: from mail-qk1-f225.google.com (mail-qk1-f225.google.com [209.85.222.225]) by mails.dpdk.org (Postfix) with ESMTP id 1F6444003C for ; Mon, 5 May 2025 21:32:53 +0200 (CEST) Received: by mail-qk1-f225.google.com with SMTP id af79cd13be357-7c5568355ffso431333185a.0 for ; Mon, 05 May 2025 12:32:53 -0700 (PDT) DKIM-Signature: v=1; a=rsa-sha256; c=relaxed/relaxed; d=iol.unh.edu; s=unh-iol; t=1746473572; x=1747078372; darn=dpdk.org; h=references:in-reply-to:cc:to:from:subject:message-id:date:from:to :cc:subject:date:message-id:reply-to; bh=vfnIU57Qk5LUnQJ0JqtTH5qlvffKQXOtniItOIjMLGA=; b=GsD189LMNqhhAF7GTCGR2Ihw+9b/fWClHAjkHKZluTuazhWKRIcgKzFodyEL3kW4YE 3tmU1cJFmDVwn3AXpnbrXW60yMLRHWl5xY/vR2hkrCGJlnp7u+XnlrLxdkLC9fIQ7uEL SJMqG6oVtyVEjbgCpLlKkC8fKlJy6SdZPCAqo= X-Google-DKIM-Signature: v=1; a=rsa-sha256; c=relaxed/relaxed; d=1e100.net; s=20230601; t=1746473572; x=1747078372; h=references:in-reply-to:cc:to:from:subject:message-id:date :x-gm-message-state:from:to:cc:subject:date:message-id:reply-to; bh=vfnIU57Qk5LUnQJ0JqtTH5qlvffKQXOtniItOIjMLGA=; b=kzwcjYSRodSqJmPpe9SeVxN0C6gH39f3hcuCG3LXwcORBn5TSVB2fIsHfsPpQKKL4F grSXEfFEL9TKcfZ94l1mbmTqDz8EG/o3i1vh/+JuP8+GQ/ArPEHXi5CvusuuV+fL/nVi 3WHrMXTGpncCFnhEMH/Rx6GAPdLo7CWbGjkS6r6F3pu4YAUrJB2SOVGSZ8r54AAu+2GK HuVXvZAjlAmvdsjN9bw7C05Su55M/t3RCXtWF8Is+XBJyCt1ig/M1ERThy2GfNb6hlbC CN/2Qjy4DhlAECnA3CoqyI6cW3L0HM1XWgTATZ8+tQTngvhI2QxbZ2ongR1cWW2QS9R5 Jsmg== X-Gm-Message-State: AOJu0YzK2MlUa53F0TJA9f4jwmUb9dNA+X/DNrjQArl95SL6AOxS4h5p Tu1mSgSeuNCkzEdSDkeRDZimeiGMbemSrCAc6f042NrQSqSH9DjTn2Pn1sHfHUjaeKYsExUlUlA rvNbhmB46cfGWSvLOkgZd37x/iMNmagsPsyLImbeGh1yKfWdTy9BGKwwK X-Gm-Gg: ASbGncsBrKnBBuGouE/ZpiwPTGvOo+Daj+60bumIftYY+6ifhj1Uo8mdGxNStz9x7aa Pg7YqxoxbnpD61J/HyZK4RyjaYgK2rD11NW7A45jR4aas+6BskHUXVVBTTnLA9IWIsCM6JIvhgN 6ECtHnYrZSg40Q4fg5tWoGiIkbXLGvkhP979pcR4O5OgIIERRXvGTWw7E7a+a2/Z2sUpeyd/R5A b9S7ROuXiEoAxJZXJ58TOxknyfWgILQUzCbwHf4ocUSTlbB+pKyz9GKYVALo7wqmbNqOeNUcp6b oh89UdTGi7AFwxjSJrqGN+9qdLmhktwUuWFa X-Google-Smtp-Source: AGHT+IE5VtqP5b/VX6wlNMupUImklmWbTYJbbyM/1rObdJiYjWRYmky2WJ7VNklXN4Jmcn5abzbwlj0ewQqk X-Received: by 2002:a05:6214:14e9:b0:6e8:fac2:2e95 with SMTP id 6a1803df08f44-6f52b2464f4mr70412676d6.11.1746473572477; Mon, 05 May 2025 12:32:52 -0700 (PDT) Received: from postal.iol.unh.edu (postal.iol.unh.edu. [2606:4100:3880:1234::84]) by smtp-relay.gmail.com with ESMTPS id 6a1803df08f44-6f50f3cf61csm22246696d6.35.2025.05.05.12.32.52 (version=TLS1_2 cipher=ECDHE-ECDSA-AES128-GCM-SHA256 bits=128/128); Mon, 05 May 2025 12:32:52 -0700 (PDT) X-Relaying-Domain: iol.unh.edu Date: Mon, 05 May 2025 12:32:52 -0700 (PDT) Message-ID: <68191264.d40a0220.51aa6.792bSMTPIN_ADDED_MISSING@mx.google.com> Received: from [172.21.0.5] (unknown [172.18.0.240]) by postal.iol.unh.edu (Postfix) with ESMTP id 30EA26052471; Mon, 5 May 2025 15:32:52 -0400 (EDT) Subject: |SUCCESS| pw153294 [PATCH] [1/1] net/nbl add doc and minimun nbl bui From: dpdklab@iol.unh.edu To: Test Report Cc: dpdk-test-reports@iol.unh.edu In-Reply-To: <20250424114919.10349-1-kyo.liu@nebula-matrix.com> References: <20250424114919.10349-1-kyo.liu@nebula-matrix.com> Content-Type: text/plain X-BeenThere: test-report@dpdk.org X-Mailman-Version: 2.1.29 Precedence: list List-Id: automatic DPDK test reports List-Unsubscribe: , List-Archive: List-Post: List-Help: List-Subscribe: , Errors-To: test-report-bounces@dpdk.org Test-Label: iol-unit-amd64-testing Test-Status: SUCCESS http://dpdk.org/patch/153294 _Testing PASS_ Submitter: Kyo Liu Date: Thursday, April 24 2025 11:49:19 DPDK git baseline: Repo:dpdk Branch: master CommitID:ff05ee3e3f8fb4ce958a2ce6461e8141aea959c6 153294 --> testing pass Upstream job id: Generic-VM-Unit-Test-DPDK#28324 Test environment and result as below: +---------------------+----------------+ | Environment | dpdk_unit_test | +=====================+================+ | CentOS Stream 9 | PASS | +---------------------+----------------+ | CentOS Stream 10 | PASS | +---------------------+----------------+ | Fedora 40 | PASS | +---------------------+----------------+ | Debian 12 | PASS | +---------------------+----------------+ | Fedora 40 (Clang) | PASS | +---------------------+----------------+ | Fedora 41 (Clang) | PASS | +---------------------+----------------+ | RHEL8 | PASS | +---------------------+----------------+ | Fedora 41 | PASS | +---------------------+----------------+ | Ubuntu 20.04 | PASS | +---------------------+----------------+ | Ubuntu 22.04 | PASS | +---------------------+----------------+ | RHEL9 | PASS | +---------------------+----------------+ | Ubuntu 24.04 | PASS | +---------------------+----------------+ | Windows Server 2022 | PASS | +---------------------+----------------+ CentOS Stream 9 Kernel: Depends on container host Compiler: gcc 11.5.0 20240719 (Red Hat 11.5.0-2) CentOS Stream 10 Kernel: Depends on container host Compiler: gcc 14.2.1 20241104 (Red Hat 14.2.1-6) Fedora 40 Kernel: Depends on container host Compiler: gcc 14.2.1 20240912 (Red Hat 14.2.1-3) Debian 12 Kernel: Depends on container host Compiler: gcc (Debian 12.2.0-14) 12.2.0 Fedora 40 (Clang) Kernel: Depends on container host Compiler: clang 18.1.8 (Fedora 18.1.8-1.fc40) Fedora 41 (Clang) Kernel: Depends on container host Compiler: clang 19.1.5 (Fedora 19.1.5-1.fc41) RHEL8 Kernel: Depends on container host Compiler: gcc 8.5.0 20210514 (Red Hat 8.5.0-22) Fedora 41 Kernel: Depends on container host Compiler: gcc 14.2.1 20240912 (Red Hat 14.2.1-3) Ubuntu 20.04 Kernel: Depends on container host Compiler: gcc (Ubuntu 9.4.0-1ubuntu1~20.04.2) 9.4.0 Ubuntu 22.04 Kernel: Depends on container host Compiler: gcc (Ubuntu 11.4.0-1ubuntu1~22.04) 11.4.0 RHEL9 Kernel: Depends on container host Compiler: gcc 11.5.0 20240719 (Red Hat 11.5.0-2) Ubuntu 24.04 Kernel: Depends on container host Compiler: gcc (Ubuntu 13.3.0-6ubuntu2~24.04) 13.3.0 Windows Server 2022 Kernel: 10.0.20348.2031 Compiler: clang 15.0.7, gcc 14.1.0 (MinGW), and MSVC VS 19.39.33521 To view detailed results, visit: https://lab.dpdk.org/results/dashboard/patchsets/33107/ UNH-IOL DPDK Community Lab To manage your email subscriptions, visit: https://lab.dpdk.org/results/dashboard/preferences/subscriptions/