From mboxrd@z Thu Jan 1 00:00:00 1970 Return-Path: Received: from mails.dpdk.org (mails.dpdk.org [217.70.189.124]) by inbox.dpdk.org (Postfix) with ESMTP id 927A3466CF for ; Mon, 5 May 2025 21:36:43 +0200 (CEST) Received: from mails.dpdk.org (localhost [127.0.0.1]) by mails.dpdk.org (Postfix) with ESMTP id 70F304025D; Mon, 5 May 2025 21:36:43 +0200 (CEST) Received: from mail-il1-f227.google.com (mail-il1-f227.google.com [209.85.166.227]) by mails.dpdk.org (Postfix) with ESMTP id 262DF4003C for ; Mon, 5 May 2025 21:36:42 +0200 (CEST) Received: by mail-il1-f227.google.com with SMTP id e9e14a558f8ab-3d6d6d82633so16660135ab.0 for ; Mon, 05 May 2025 12:36:42 -0700 (PDT) DKIM-Signature: v=1; a=rsa-sha256; c=relaxed/relaxed; d=iol.unh.edu; s=unh-iol; t=1746473801; x=1747078601; darn=dpdk.org; h=references:in-reply-to:cc:to:from:subject:message-id:date:from:to :cc:subject:date:message-id:reply-to; bh=ha66IoeczY23Io4ZFcrOYnUNy4hhz6WHTesK6lHui7E=; b=gIMRnb9QeOKC/SzxwN+/0cqoBa8o3IVIUBuHnBg/37+ydmM28yclBJ8XcwrRTjfG+o 0cN3EdBk96UfomDF6c2BTO4Zms9axTOin1JpaguWPdSINrnUAbBvgyFX+bSlVyf48uMq H3++w2YyllFnk2cNhAJtpwijDhgWwvRXFzzkc= X-Google-DKIM-Signature: v=1; a=rsa-sha256; c=relaxed/relaxed; d=1e100.net; s=20230601; t=1746473801; x=1747078601; h=references:in-reply-to:cc:to:from:subject:message-id:date :x-gm-message-state:from:to:cc:subject:date:message-id:reply-to; bh=ha66IoeczY23Io4ZFcrOYnUNy4hhz6WHTesK6lHui7E=; b=FGfqrC6+Eghro88LPcLoKznIQ8clKAHsubXBbT/fHp7XSwVCDM0Efih+giX+Gy4m/U sDEFDIdg3M7sYrQV4mtkXes3Ihx3rG6S6xjlIuoRDVNbS9iGIDPpHC29ajPk8o44qWWf oi9bEjylMifrGv8H/DEyo8g3k7N7o5mdy9tA999wW1h2vGdWcW0olY8SbvvyK2Sw/Hmf zlF5qDAXrIxWxQkxtMEgRh4vv0vtn5T81kCiFo//1EBbcY0wlpbyhCrjGNyHTDe0zDtp gD2ojNmTXDEEBHGQbEUeQVarcFBXTq1QneEkRGaCyq3TcM5IiXGl0m+ng45KvkgxalcQ yRNA== X-Gm-Message-State: AOJu0YwBqLbkoVGzVwt4g6T14aI3wHQiHB/dm0v3fn0l6xD+3qHSDcEC h0MpZneCSlB1d1vlSV/eqXvpESlQlmRAFdU81rU97GvY3/ebVvntFnROU1Zl63vxhNEOoNER5Xk DTm2OVZwd1YusDcx+MRuZ6A2kwHZxSsNH2d4Fvs8Kqam1KmClHhFCiRJt X-Gm-Gg: ASbGncvRQtqXQzISbznwhIHx4/VzQXFI7QPllrTIFZTynp15vkTcefzT3bRnwsV7Qvk b1msPtf36BK8ttGXwAl35e1Q5uX+Y9hUULeN9bQNbs6e7RpAkHef7Hps88P++4CRets0x5HPLRF C3/7l/iiT33bm2/WOrlYOp65P3HevUvS/LroyyzNvQY10pEKXNgscp3zN+5zaFAfADJv+XBOzXf grOifLtZ69Jw0OE90SxTZRgugTmVJNQKrQ7T7aKdPjq/5eqEfut0wK8iNgIyIydEZoLyUu/vd28 OtK+YgAbfeeBVf5vZxpf3yPh3qpSRClAm/XN X-Google-Smtp-Source: AGHT+IFBplt+DsF0Fo2e3AyGiGru0gbKUpH+/6XIeZOFyKRLaaX1+WIxXjyfhfbWHwdwPEbCcAqMUyVz8Zgw X-Received: by 2002:a05:6e02:12e7:b0:3d8:975:b808 with SMTP id e9e14a558f8ab-3da6ce4b4e1mr5419495ab.5.1746473801165; Mon, 05 May 2025 12:36:41 -0700 (PDT) Received: from postal.iol.unh.edu (postal.iol.unh.edu. [2606:4100:3880:1234::84]) by smtp-relay.gmail.com with ESMTPS id e9e14a558f8ab-3d975e81ecesm21370795ab.25.2025.05.05.12.36.41 (version=TLS1_2 cipher=ECDHE-ECDSA-AES128-GCM-SHA256 bits=128/128); Mon, 05 May 2025 12:36:41 -0700 (PDT) X-Relaying-Domain: iol.unh.edu Date: Mon, 05 May 2025 12:36:41 -0700 (PDT) Message-ID: <68191349.050a0220.1d0e03.5f74SMTPIN_ADDED_MISSING@mx.google.com> Received: from [172.21.0.5] (unknown [172.18.0.240]) by postal.iol.unh.edu (Postfix) with ESMTP id C45AE6052471; Mon, 5 May 2025 15:36:40 -0400 (EDT) Subject: |SUCCESS| pw153296 [PATCH] [1/1] net/mlx5: unresolved symbol mlx5_ge From: dpdklab@iol.unh.edu To: Test Report Cc: dpdk-test-reports@iol.unh.edu In-Reply-To: <1746456337-6278-2-git-send-email-andremue@linux.microsoft.com> References: <1746456337-6278-2-git-send-email-andremue@linux.microsoft.com> Content-Type: text/plain X-BeenThere: test-report@dpdk.org X-Mailman-Version: 2.1.29 Precedence: list List-Id: automatic DPDK test reports List-Unsubscribe: , List-Archive: List-Post: List-Help: List-Subscribe: , Errors-To: test-report-bounces@dpdk.org Test-Label: iol-compile-amd64-testing Test-Status: SUCCESS http://dpdk.org/patch/153296 _Testing PASS_ Submitter: Andre Muezerie Date: Monday, May 05 2025 14:45:37 DPDK git baseline: Repo:dpdk Branch: master CommitID:edd3f4b1265e6da707c46ca9b6c39d332647baea 153296 --> testing pass Upstream job id: Generic-VM-DPDK-Compile-Meson#35144 Test environment and result as below: +---------------------+--------------------+-------------------+ | Environment | dpdk_meson_compile | dpdk_msvc_compile | +=====================+====================+===================+ | FreeBSD 13.5 | PASS | SKIPPED | +---------------------+--------------------+-------------------+ | FreeBSD 14.2 | PASS | SKIPPED | +---------------------+--------------------+-------------------+ | Ubuntu 20.04 | PASS | SKIPPED | +---------------------+--------------------+-------------------+ | Windows Server 2022 | SKIPPED | PASS | +---------------------+--------------------+-------------------+ FreeBSD 13.5 Kernel: 13.5-RELEASE Compiler: clang 19.1.7 FreeBSD 14.2 Kernel: 14.2-RELEASE Compiler: clang 18.1.6 Ubuntu 20.04 Kernel: 4.19.325-0419325-generic Compiler: gcc (Ubuntu 9.4.0-1ubuntu1~20.04.2) 9.4.0 Windows Server 2022 Kernel: 10.0.20348.2031 Compiler: clang 15.0.7, gcc 14.1.0 (MinGW), and MSVC VS 19.39.33521 To view detailed results, visit: https://lab.dpdk.org/results/dashboard/patchsets/33109/ UNH-IOL DPDK Community Lab To manage your email subscriptions, visit: https://lab.dpdk.org/results/dashboard/preferences/subscriptions/