From mboxrd@z Thu Jan 1 00:00:00 1970 Return-Path: Received: from mails.dpdk.org (mails.dpdk.org [217.70.189.124]) by inbox.dpdk.org (Postfix) with ESMTP id 4415F466CF for ; Mon, 5 May 2025 21:56:14 +0200 (CEST) Received: from mails.dpdk.org (localhost [127.0.0.1]) by mails.dpdk.org (Postfix) with ESMTP id 222834025D; Mon, 5 May 2025 21:56:14 +0200 (CEST) Received: from mail-il1-f228.google.com (mail-il1-f228.google.com [209.85.166.228]) by mails.dpdk.org (Postfix) with ESMTP id CC3C44003C for ; Mon, 5 May 2025 21:56:12 +0200 (CEST) Received: by mail-il1-f228.google.com with SMTP id e9e14a558f8ab-3d8fc9dbce4so21300035ab.0 for ; Mon, 05 May 2025 12:56:12 -0700 (PDT) DKIM-Signature: v=1; a=rsa-sha256; c=relaxed/relaxed; d=iol.unh.edu; s=unh-iol; t=1746474972; x=1747079772; darn=dpdk.org; h=references:in-reply-to:cc:to:from:subject:message-id:date:from:to :cc:subject:date:message-id:reply-to; bh=I/e36gOnf5sexvkdUqtLtqUgMVyC0//mXugESiXVF4U=; b=JP7KbhM1p5ob4bqABnXHuLkhEisyEXQBpztfVt8TdHRV9RTzuAZb9J5TxV5WY+Liku ENCwUclDnDRRw0P3T7C/Zb9cv/VlBcrc9tZJwEtNsCMFBXcRNRf9XM8CfAzUiW01j/Vg +WYo4LVq4mdwfkLDna/InePu3OkzBSLXFtiRE= X-Google-DKIM-Signature: v=1; a=rsa-sha256; c=relaxed/relaxed; d=1e100.net; s=20230601; t=1746474972; x=1747079772; h=references:in-reply-to:cc:to:from:subject:message-id:date :x-gm-message-state:from:to:cc:subject:date:message-id:reply-to; bh=I/e36gOnf5sexvkdUqtLtqUgMVyC0//mXugESiXVF4U=; b=LhEWk7/SarldcJ0wh4JWqzYCvtFmxe2vcdnAm6/dQktMz2gEGnlldcve79zyndoQgv 46qgeOZCcdl3THb5qw9qLGqnIBG+RT4Evd4RNTpwo1sbJduOv3F6HNt6ij1q4LATZ5KJ 4Cok0GgAcjqA3QmuCgy6LnI3JsBolBDKARJC6JTvF6690X6jLtgZgHI8vK/aepC1nSxE 3RgfjkiCyEmrZ1To8Ed63LJ3miNB8DxVpOu8383+ALQ4O7klqOmig6zFabCzkN3pBSDB rpIKnDeK1k5vBkhQXtDC9+g7hjHamsF6aglnmFy7oJYY0pxVdNNAv7mn7uOExgFm/MiK ylBw== X-Gm-Message-State: AOJu0YwbJ+MLmfJI3wfFScdT14laGAfWmM76tpsTOUxLBuYEpcoNh1KY QrmfQecy4fQ+uuummJVwVHW8jzJa240qInNIxKvk7H4xyz/1H5R6DskCGvWKkcfZufC4Wdeo8PD PiGESkrcIpSDF0yULR6HB71TKAik2K/JwD0DMHXxkLaBQiiTDFeq9OMeh X-Gm-Gg: ASbGncuW+KH3IHagnzXPeqTHo00lNMeC3cJHM8KL/UO5jBzz+d5sk+N2LEUF9mYXKTh rcW/k+Ho//0AjIMmsEKqKK+JuxQ3mwQWHQi4qZoAl430ihZV/Pwg6hPb4U+WkmWCS/QqI2Wt0Y8 j+EkSeiPrvza9ghRrcPvHKWUrwf+KTbR0uSJzFvqtLeZQ0jfs26hMOf0zV45+MSbsGJ4HGDUjsM 4Nc+V6IGok4mrXy7CAxDfJJIDIwLEl+W5Nf9xMKLNW5rlY/oCPH/tFvfcctmw6op7Oa4qD4jtbR 6KmHe2VKCUWgLb09wVxp8JmNzZZzC2pQmrKV X-Google-Smtp-Source: AGHT+IF3RLRNUj+jGABzpEFKn1TJBZpv6O12A6GQy/rAYVAZ7bkQxN5KuI6TPOH7x1o5aZqAgYMml53LLkoj X-Received: by 2002:a05:6e02:3cc9:b0:3d3:fa69:6755 with SMTP id e9e14a558f8ab-3da6ca9fbdfmr9592785ab.5.1746474972013; Mon, 05 May 2025 12:56:12 -0700 (PDT) Received: from postal.iol.unh.edu (postal.iol.unh.edu. [2606:4100:3880:1234::84]) by smtp-relay.gmail.com with ESMTPS id e9e14a558f8ab-3d975f6d4b9sm21680015ab.45.2025.05.05.12.56.11 (version=TLS1_2 cipher=ECDHE-ECDSA-AES128-GCM-SHA256 bits=128/128); Mon, 05 May 2025 12:56:12 -0700 (PDT) X-Relaying-Domain: iol.unh.edu Date: Mon, 05 May 2025 12:56:12 -0700 (PDT) Message-ID: <681917dc.050a0220.166806.6c03SMTPIN_ADDED_MISSING@mx.google.com> Received: from [172.21.0.5] (unknown [172.18.0.240]) by postal.iol.unh.edu (Postfix) with ESMTP id 9EA026052471; Mon, 5 May 2025 15:56:11 -0400 (EDT) Subject: |SUCCESS| pw153294 [PATCH] [1/1] net/nbl add doc and minimun nbl bui From: dpdklab@iol.unh.edu To: Test Report Cc: dpdk-test-reports@iol.unh.edu In-Reply-To: <20250424114919.10349-1-kyo.liu@nebula-matrix.com> References: <20250424114919.10349-1-kyo.liu@nebula-matrix.com> Content-Type: text/plain X-BeenThere: test-report@dpdk.org X-Mailman-Version: 2.1.29 Precedence: list List-Id: automatic DPDK test reports List-Unsubscribe: , List-Archive: List-Post: List-Help: List-Subscribe: , Errors-To: test-report-bounces@dpdk.org Test-Label: iol-unit-amd64-testing Test-Status: SUCCESS http://dpdk.org/patch/153294 _Testing PASS_ Submitter: Kyo Liu Date: Thursday, April 24 2025 11:49:19 DPDK git baseline: Repo:dpdk Branch: master CommitID:ff05ee3e3f8fb4ce958a2ce6461e8141aea959c6 153294 --> testing pass Upstream job id: Generic-VM-Unit-Test-DPDK#28325 Test environment and result as below: +---------------------+----------------+ | Environment | dpdk_unit_test | +=====================+================+ | CentOS Stream 9 | PASS | +---------------------+----------------+ | CentOS Stream 10 | PASS | +---------------------+----------------+ | Debian 12 | PASS | +---------------------+----------------+ | Fedora 40 | PASS | +---------------------+----------------+ | Fedora 40 (Clang) | PASS | +---------------------+----------------+ | Fedora 41 | PASS | +---------------------+----------------+ | RHEL9 | PASS | +---------------------+----------------+ | Ubuntu 20.04 | PASS | +---------------------+----------------+ | Fedora 41 (Clang) | PASS | +---------------------+----------------+ | Ubuntu 22.04 | PASS | +---------------------+----------------+ | RHEL8 | PASS | +---------------------+----------------+ | Ubuntu 24.04 | PASS | +---------------------+----------------+ | Windows Server 2022 | PASS | +---------------------+----------------+ CentOS Stream 9 Kernel: Depends on container host Compiler: gcc 11.5.0 20240719 (Red Hat 11.5.0-2) CentOS Stream 10 Kernel: Depends on container host Compiler: gcc 14.2.1 20241104 (Red Hat 14.2.1-6) Debian 12 Kernel: Depends on container host Compiler: gcc (Debian 12.2.0-14) 12.2.0 Fedora 40 Kernel: Depends on container host Compiler: gcc 14.2.1 20240912 (Red Hat 14.2.1-3) Fedora 40 (Clang) Kernel: Depends on container host Compiler: clang 18.1.8 (Fedora 18.1.8-1.fc40) Fedora 41 Kernel: Depends on container host Compiler: gcc 14.2.1 20240912 (Red Hat 14.2.1-3) RHEL9 Kernel: Depends on container host Compiler: gcc 11.5.0 20240719 (Red Hat 11.5.0-2) Ubuntu 20.04 Kernel: Depends on container host Compiler: gcc (Ubuntu 9.4.0-1ubuntu1~20.04.2) 9.4.0 Fedora 41 (Clang) Kernel: Depends on container host Compiler: clang 19.1.5 (Fedora 19.1.5-1.fc41) Ubuntu 22.04 Kernel: Depends on container host Compiler: gcc (Ubuntu 11.4.0-1ubuntu1~22.04) 11.4.0 RHEL8 Kernel: Depends on container host Compiler: gcc 8.5.0 20210514 (Red Hat 8.5.0-22) Ubuntu 24.04 Kernel: Depends on container host Compiler: gcc (Ubuntu 13.3.0-6ubuntu2~24.04) 13.3.0 Windows Server 2022 Kernel: 10.0.20348.2031 Compiler: clang 15.0.7, gcc 14.1.0 (MinGW), and MSVC VS 19.39.33521 To view detailed results, visit: https://lab.dpdk.org/results/dashboard/patchsets/33107/ UNH-IOL DPDK Community Lab To manage your email subscriptions, visit: https://lab.dpdk.org/results/dashboard/preferences/subscriptions/