From mboxrd@z Thu Jan 1 00:00:00 1970 Return-Path: Received: from mails.dpdk.org (mails.dpdk.org [217.70.189.124]) by inbox.dpdk.org (Postfix) with ESMTP id 24039466D0 for ; Mon, 5 May 2025 22:05:46 +0200 (CEST) Received: from mails.dpdk.org (localhost [127.0.0.1]) by mails.dpdk.org (Postfix) with ESMTP id F358A4025D; Mon, 5 May 2025 22:05:45 +0200 (CEST) Received: from mail-yw1-f226.google.com (mail-yw1-f226.google.com [209.85.128.226]) by mails.dpdk.org (Postfix) with ESMTP id 9851A4003C for ; Mon, 5 May 2025 22:05:45 +0200 (CEST) Received: by mail-yw1-f226.google.com with SMTP id 00721157ae682-7081165a238so35159727b3.1 for ; Mon, 05 May 2025 13:05:45 -0700 (PDT) DKIM-Signature: v=1; a=rsa-sha256; c=relaxed/relaxed; d=iol.unh.edu; s=unh-iol; t=1746475545; x=1747080345; darn=dpdk.org; h=references:in-reply-to:cc:to:from:subject:message-id:date:from:to :cc:subject:date:message-id:reply-to; bh=Jmr9vIBVUi3gSGwJ63ueAy/ifz5z+j7rYZztPzIn4h4=; b=JlVlRBuZcf6PfBKK/7RMGT/epIftfNf4tnDGUs8cLhP6Y/67+V2I8nNQpA2EPzzv4b uN0swIhf7KMR3MG1I0vIxY+8uN0iHeSN11WSa6hRO/6C2Ri/zvvghQgGVK11ulYaHHa0 jEsQbL8wD6Y0Y1JeFifxrtbKHNOQq+YOGF+wk= X-Google-DKIM-Signature: v=1; a=rsa-sha256; c=relaxed/relaxed; d=1e100.net; s=20230601; t=1746475545; x=1747080345; h=references:in-reply-to:cc:to:from:subject:message-id:date :x-gm-message-state:from:to:cc:subject:date:message-id:reply-to; bh=Jmr9vIBVUi3gSGwJ63ueAy/ifz5z+j7rYZztPzIn4h4=; b=QMr6eFGNgiVURFfwHDRDjaOX9KrI9V1YBKRbbZ4s4+Fco3f7LPLWVKoIaaum4etZji ZFMn9R127RMIEMkVkZtIJtVyWZnGkKcPYByQj5Jv7LkMGqhndK/svVXw24QY6/AU3GmW uJYFR+nXUwRc+DIceqDFvbvd0BrxHTSSrI5OFouJfXI9aF7xfSkTTG1VltEv7R/EsMv+ FZTHKQhlutMTQrhSAzlH8OcAL036+N02dNzMNtuavRzuLpCwJ6eVoBHiOkjh5oLK/CtJ TLSmzB3IJYMk/X+dTGm39j9G9Fe/wYSmrPAH7e+QIn5SN7cYs6b2Z8PSSB9eCne3kH6N hntw== X-Gm-Message-State: AOJu0Yx9/InQrCI4hY8HyAUHh0gCEYgiscaJ5sqlISQ6Cpgx0V5fFN2x GFCCoqx81NoDfLc4F/k2KvAqTkF7gvmvyJwZUe8a3+TuuJF1oWQbwrt44lIEMTLXBHhBWZ02Gip SZIbXRbS8eYtj4DBb+fUZxoYkd3wGhQnJrOkkHIX8E0v6vA6xnnv2uqsF X-Gm-Gg: ASbGncuHqadDFmElD4d+iY+R5AYFs7GQhVTuZg4koNZfcKqpPK9/UM2kJavF1kSen3H qKo5K8epgFBjJP3y5YTHy18QrKB+8BYbzq00fB6boOixJdkLFEm6hJ7xlHy8qJ821FY2TT1zq1T RbSZPkmA2hXGLAVLT2aDangJRBsDBgePjdoplCApg1l8p6u92oL2A2y27OvyVOOyAKr+GRKpZr0 TvN5xA6s0Vqb34sedKr1/sctfgLSwxK7lAXtJvccE3nzATq1ePxAuCAdwH+0I5pMxB4691P6yKj YrTRdirypYvg+2m/AgrPtSkaMgwqTl11ZI+L X-Google-Smtp-Source: AGHT+IEbvJ2ZHsiq+5TLW4bLfCkhl34goyLYPvom28RxmLcO/p78ZM0F+LDbaO6rwvp86Pz5wfCsOwXREYDP X-Received: by 2002:a05:690c:890:b0:702:d54:dd28 with SMTP id 00721157ae682-708eaf80baemr118975977b3.32.1746475544865; Mon, 05 May 2025 13:05:44 -0700 (PDT) Received: from postal.iol.unh.edu (postal.iol.unh.edu. [2606:4100:3880:1234::84]) by smtp-relay.gmail.com with ESMTPS id 00721157ae682-708c46eff46sm19279247b3.66.2025.05.05.13.05.44 (version=TLS1_2 cipher=ECDHE-ECDSA-AES128-GCM-SHA256 bits=128/128); Mon, 05 May 2025 13:05:44 -0700 (PDT) X-Relaying-Domain: iol.unh.edu Date: Mon, 05 May 2025 13:05:44 -0700 (PDT) Message-ID: <68191a18.050a0220.1bcec3.22eaSMTPIN_ADDED_MISSING@mx.google.com> Received: from [172.21.0.7] (unknown [172.18.0.240]) by postal.iol.unh.edu (Postfix) with ESMTP id 7EFD56052471; Mon, 5 May 2025 16:05:44 -0400 (EDT) Subject: |SUCCESS| pw153294 [PATCH] [1/1] net/nbl add doc and minimun nbl bui From: dpdklab@iol.unh.edu To: Test Report Cc: dpdk-test-reports@iol.unh.edu In-Reply-To: <20250424114919.10349-1-kyo.liu@nebula-matrix.com> References: <20250424114919.10349-1-kyo.liu@nebula-matrix.com> Content-Type: text/plain X-BeenThere: test-report@dpdk.org X-Mailman-Version: 2.1.29 Precedence: list List-Id: automatic DPDK test reports List-Unsubscribe: , List-Archive: List-Post: List-Help: List-Subscribe: , Errors-To: test-report-bounces@dpdk.org Test-Label: iol-unit-amd64-testing Test-Status: SUCCESS http://dpdk.org/patch/153294 _Testing PASS_ Submitter: Kyo Liu Date: Thursday, April 24 2025 11:49:19 DPDK git baseline: Repo:dpdk Branch: master CommitID:ff05ee3e3f8fb4ce958a2ce6461e8141aea959c6 153294 --> testing pass Upstream job id: Generic-VM-Unit-Test-DPDK#28326 Test environment and result as below: +---------------------+----------------+ | Environment | dpdk_unit_test | +=====================+================+ | CentOS Stream 9 | PASS | +---------------------+----------------+ | CentOS Stream 10 | PASS | +---------------------+----------------+ | Debian 12 | PASS | +---------------------+----------------+ | Fedora 40 | PASS | +---------------------+----------------+ | Fedora 40 (Clang) | PASS | +---------------------+----------------+ | Fedora 41 | PASS | +---------------------+----------------+ | RHEL9 | PASS | +---------------------+----------------+ | Ubuntu 20.04 | PASS | +---------------------+----------------+ | Fedora 41 (Clang) | PASS | +---------------------+----------------+ | Ubuntu 22.04 | PASS | +---------------------+----------------+ | RHEL8 | PASS | +---------------------+----------------+ | Ubuntu 24.04 | PASS | +---------------------+----------------+ | Windows Server 2022 | PASS | +---------------------+----------------+ CentOS Stream 9 Kernel: Depends on container host Compiler: gcc 11.5.0 20240719 (Red Hat 11.5.0-2) CentOS Stream 10 Kernel: Depends on container host Compiler: gcc 14.2.1 20241104 (Red Hat 14.2.1-6) Debian 12 Kernel: Depends on container host Compiler: gcc (Debian 12.2.0-14) 12.2.0 Fedora 40 Kernel: Depends on container host Compiler: gcc 14.2.1 20240912 (Red Hat 14.2.1-3) Fedora 40 (Clang) Kernel: Depends on container host Compiler: clang 18.1.8 (Fedora 18.1.8-1.fc40) Fedora 41 Kernel: Depends on container host Compiler: gcc 14.2.1 20240912 (Red Hat 14.2.1-3) RHEL9 Kernel: Depends on container host Compiler: gcc 11.5.0 20240719 (Red Hat 11.5.0-2) Ubuntu 20.04 Kernel: Depends on container host Compiler: gcc (Ubuntu 9.4.0-1ubuntu1~20.04.2) 9.4.0 Fedora 41 (Clang) Kernel: Depends on container host Compiler: clang 19.1.5 (Fedora 19.1.5-1.fc41) Ubuntu 22.04 Kernel: Depends on container host Compiler: gcc (Ubuntu 11.4.0-1ubuntu1~22.04) 11.4.0 RHEL8 Kernel: Depends on container host Compiler: gcc 8.5.0 20210514 (Red Hat 8.5.0-22) Ubuntu 24.04 Kernel: Depends on container host Compiler: gcc (Ubuntu 13.3.0-6ubuntu2~24.04) 13.3.0 Windows Server 2022 Kernel: 10.0.20348.2031 Compiler: clang 15.0.7, gcc 14.1.0 (MinGW), and MSVC VS 19.39.33521 To view detailed results, visit: https://lab.dpdk.org/results/dashboard/patchsets/33107/ UNH-IOL DPDK Community Lab To manage your email subscriptions, visit: https://lab.dpdk.org/results/dashboard/preferences/subscriptions/