From mboxrd@z Thu Jan 1 00:00:00 1970 Return-Path: Received: from mails.dpdk.org (mails.dpdk.org [217.70.189.124]) by inbox.dpdk.org (Postfix) with ESMTP id 1CD6F466D0 for ; Mon, 5 May 2025 22:06:31 +0200 (CEST) Received: from mails.dpdk.org (localhost [127.0.0.1]) by mails.dpdk.org (Postfix) with ESMTP id 17E554025D; Mon, 5 May 2025 22:06:31 +0200 (CEST) Received: from mail-pl1-f226.google.com (mail-pl1-f226.google.com [209.85.214.226]) by mails.dpdk.org (Postfix) with ESMTP id 0DD2E4003C for ; Mon, 5 May 2025 22:06:30 +0200 (CEST) Received: by mail-pl1-f226.google.com with SMTP id d9443c01a7336-22c33677183so58425445ad.2 for ; Mon, 05 May 2025 13:06:29 -0700 (PDT) DKIM-Signature: v=1; a=rsa-sha256; c=relaxed/relaxed; d=iol.unh.edu; s=unh-iol; t=1746475589; x=1747080389; darn=dpdk.org; h=references:in-reply-to:cc:to:from:subject:message-id:date:from:to :cc:subject:date:message-id:reply-to; bh=53IhdmbrF5T6lbQlQ/xlhCwaDH2q6358Xnseeg9rOLw=; b=byCNIYY4c8v/JmVncxqeYyKtd0FBisBcwQQOReUdae3syuURUxONOU72FdMbQ0pfGo oCpLhouT7VwpWun++4ph5aGaKz7+gt6D9ZM2wqQXrPhqULAsIe/6p3kkG4ectl6qPXli x5nOV3NhmWIgn341vx6KwJZBLXo1xVHvBLc7U= X-Google-DKIM-Signature: v=1; a=rsa-sha256; c=relaxed/relaxed; d=1e100.net; s=20230601; t=1746475589; x=1747080389; h=references:in-reply-to:cc:to:from:subject:message-id:date :x-gm-message-state:from:to:cc:subject:date:message-id:reply-to; bh=53IhdmbrF5T6lbQlQ/xlhCwaDH2q6358Xnseeg9rOLw=; b=OkIa4mOAKGAa0JYL4zU0C/AyvhbLz6HUJrrJ6fUe6sOieA2d7VZkHgXptrztBUhRoq 2pPOs2aHD2xpCQHKaQmRZzQmj/e/75EXiSP2atUxiwAFnm6jIkKtPBnRj/z1XEIbPz+P y9YG/ZRxwjrafk8Qi3n7ynU/YcXH33vO2gJ3luKUff/1FQ5LBPrb5HKrHtjbGM/iNlLK ONtDqM/gc29i73p9zR3vqH415m8uCgO4R+ofa0nC6jpw+mzbBEPmhEKJ3mLv+PlcUoOO rj3upBy4jPTMMp9pkPVchM77dO1DcJoHqrIyJuGBTg1pRQRoy3oihuPRY1slIE2EJ5Ai sAKw== X-Gm-Message-State: AOJu0YxHltc5HxWoyf/Ls12+ND7VOF8hqun8I1aAY5fXZcF6r+0uVd8/ 0RXtp8v4mNZ6r9IvpXuJNZTgzlJy9iR9QfBP2HUCmeUmHIJwlflXMaukdaldGYoWxW1Zn7jNPaY 88adpsNqUWxTKuvaGtSRdEIel5mDZ0uGgHjonhJEYov8/1XfE+7lsWcXh X-Gm-Gg: ASbGnctXGyNHM8WVAM8QTDyJ+zUWbYEwy/+4is570Kk7MVykjy8r0D9t+HmFTaTSKO+ S7YRNBBd6mMPVS+LjNaB+uBFh8jh+m3H0JOYGYb/mXhoHWFmEyqn/GgrcGtDxPfDr7pbGAHOpH1 PLCqdTQ6DLIXEuY+6NysxabSsK3OgKtq9nKPJ0e90RHwcvEtc3ePdyw2/a6h8qiwEAII5AvJLHB s2jZDc7W8cHM0pKVjm+iPtnwMuL23z5lNfQwpPJM0WiVXCfeRc31/5LihaYejl78VMdZpiWi0wo 8HRH6uOcGnt7v3Vx4s6GxLZIuMKRNDaDLETZ X-Google-Smtp-Source: AGHT+IHS7WTVqyAbLPALZ2yx+8nMCTkxHAmheSW1bVSaFrcttFygS11Kp5brVwePU/nL4+9VEgSrF3aaImgZ X-Received: by 2002:a17:902:c94f:b0:220:ca08:8986 with SMTP id d9443c01a7336-22e1ea7f516mr133766685ad.22.1746475589037; Mon, 05 May 2025 13:06:29 -0700 (PDT) Received: from postal.iol.unh.edu (postal.iol.unh.edu. [2606:4100:3880:1234::84]) by smtp-relay.gmail.com with ESMTPS id d9443c01a7336-22e151e9ef7sm17144305ad.48.2025.05.05.13.06.28 (version=TLS1_2 cipher=ECDHE-ECDSA-AES128-GCM-SHA256 bits=128/128); Mon, 05 May 2025 13:06:29 -0700 (PDT) X-Relaying-Domain: iol.unh.edu Date: Mon, 05 May 2025 13:06:29 -0700 (PDT) Message-ID: <68191a45.170a0220.84a7.2371SMTPIN_ADDED_MISSING@mx.google.com> Received: from [172.21.0.7] (unknown [172.18.0.240]) by postal.iol.unh.edu (Postfix) with ESMTP id 823626052471; Mon, 5 May 2025 16:06:28 -0400 (EDT) Subject: |SUCCESS| pw153299 [PATCH] net/mlx5: declare size of rte_v128u32_t From: dpdklab@iol.unh.edu To: Test Report Cc: dpdk-test-reports@iol.unh.edu In-Reply-To: <1746457823-11135-1-git-send-email-andremue@linux.microsoft.com> References: <1746457823-11135-1-git-send-email-andremue@linux.microsoft.com> Content-Type: text/plain X-BeenThere: test-report@dpdk.org X-Mailman-Version: 2.1.29 Precedence: list List-Id: automatic DPDK test reports List-Unsubscribe: , List-Archive: List-Post: List-Help: List-Subscribe: , Errors-To: test-report-bounces@dpdk.org Test-Label: iol-abi-testing Test-Status: SUCCESS http://dpdk.org/patch/153299 _Testing PASS_ Submitter: Andre Muezerie Date: Monday, May 05 2025 15:10:23 DPDK git baseline: Repo:dpdk Branch: master CommitID:edd3f4b1265e6da707c46ca9b6c39d332647baea 153299 --> testing pass Upstream job id: Generic-DPDK-Compile-ABI#125271 Test environment and result as below: +-------------------+----------+ | Environment | abi_test | +===================+==========+ | CentOS Stream 10 | PASS | +-------------------+----------+ | CentOS Stream 9 | PASS | +-------------------+----------+ | RHEL8 | PASS | +-------------------+----------+ | Ubuntu 24.04 | PASS | +-------------------+----------+ | Fedora 41 | PASS | +-------------------+----------+ | Debian 12 | PASS | +-------------------+----------+ | Fedora 40 (Clang) | PASS | +-------------------+----------+ | Fedora 40 | PASS | +-------------------+----------+ | Fedora 41 (Clang) | PASS | +-------------------+----------+ | openSUSE Leap 15 | PASS | +-------------------+----------+ | RHEL9 | PASS | +-------------------+----------+ | Ubuntu 22.04 | PASS | +-------------------+----------+ CentOS Stream 10 Kernel: Depends on container host Compiler: gcc 14.2.1 20241104 (Red Hat 14.2.1-6) CentOS Stream 9 Kernel: Depends on container host Compiler: gcc 11.5.0 20240719 (Red Hat 11.5.0-2) RHEL8 Kernel: Depends on container host Compiler: gcc 8.5.0 20210514 (Red Hat 8.5.0-22) Ubuntu 24.04 Kernel: Depends on container host Compiler: gcc (Ubuntu 13.3.0-6ubuntu2~24.04) 13.3.0 Fedora 41 Kernel: Depends on container host Compiler: gcc 14.2.1 20240912 (Red Hat 14.2.1-3) Debian 12 Kernel: Depends on container host Compiler: gcc (Debian 12.2.0-14) 12.2.0 Fedora 40 (Clang) Kernel: Depends on container host Compiler: clang 18.1.8 (Fedora 18.1.8-1.fc40) Fedora 40 Kernel: Depends on container host Compiler: gcc 14.2.1 20240912 (Red Hat 14.2.1-3) Fedora 41 (Clang) Kernel: Depends on container host Compiler: clang 19.1.5 (Fedora 19.1.5-1.fc41) openSUSE Leap 15 Kernel: Depends on container host Compiler: gcc (SUSE Linux) 7.5.0 RHEL9 Kernel: Depends on container host Compiler: gcc 11.5.0 20240719 (Red Hat 11.5.0-2) Ubuntu 22.04 Kernel: Depends on container host Compiler: gcc (Ubuntu 11.4.0-1ubuntu1~22.04) 11.4.0 To view detailed results, visit: https://lab.dpdk.org/results/dashboard/patchsets/33112/ UNH-IOL DPDK Community Lab To manage your email subscriptions, visit: https://lab.dpdk.org/results/dashboard/preferences/subscriptions/