From mboxrd@z Thu Jan 1 00:00:00 1970 Return-Path: Received: from mails.dpdk.org (mails.dpdk.org [217.70.189.124]) by inbox.dpdk.org (Postfix) with ESMTP id 83339466D0 for ; Mon, 5 May 2025 22:11:14 +0200 (CEST) Received: from mails.dpdk.org (localhost [127.0.0.1]) by mails.dpdk.org (Postfix) with ESMTP id 7C7394025D; Mon, 5 May 2025 22:11:14 +0200 (CEST) Received: from mail-pg1-f227.google.com (mail-pg1-f227.google.com [209.85.215.227]) by mails.dpdk.org (Postfix) with ESMTP id 54A994003C for ; Mon, 5 May 2025 22:11:13 +0200 (CEST) Received: by mail-pg1-f227.google.com with SMTP id 41be03b00d2f7-b1fd59851baso797753a12.0 for ; Mon, 05 May 2025 13:11:13 -0700 (PDT) DKIM-Signature: v=1; a=rsa-sha256; c=relaxed/relaxed; d=iol.unh.edu; s=unh-iol; t=1746475872; x=1747080672; darn=dpdk.org; h=references:in-reply-to:cc:to:from:subject:message-id:date:from:to :cc:subject:date:message-id:reply-to; bh=8WW/AQEAoohxIBHYi9IsPa0AbiWur7dnSrwHB6FFtCc=; b=MyvwIkBlizR5bCDNmaPOBEi0vZ71h3irw0bS2UXF89rTENwQcKbp0agjje530wy41X nM4U2cKZpBh40WULUD9Wk8RJgukkuoXKObv45xwPHJNCK0K0VeELlxzlI/ZnUqndRcYB yHRTaocUbE4mSi32zuxKJ0pvzRAAZdaYPQoAE= X-Google-DKIM-Signature: v=1; a=rsa-sha256; c=relaxed/relaxed; d=1e100.net; s=20230601; t=1746475872; x=1747080672; h=references:in-reply-to:cc:to:from:subject:message-id:date :x-gm-message-state:from:to:cc:subject:date:message-id:reply-to; bh=8WW/AQEAoohxIBHYi9IsPa0AbiWur7dnSrwHB6FFtCc=; b=p5PM8gszR7PwaqwLuMfyltwIBvHIt2ZiH3BTLPELgGQh71904u+YzBXfHvM9d6yt8Z 6Vn7yr6tryrw5Id1vqnRNnJa8YmsxnBL+a2cob8KFNMyCu+VwDodFkgtdqu8j9w1YTzE nFo6lEFbkI8YF34rNh1ffJhmifg5dpjnQ3vgP3lDKCRzmGUYU98RZJDzLaKxpLyI3EBz uffy8ssGT2STro1Ll+vH1TvuJZ6INvwD+O6tL5rSVPAdtFt8tKFmuRS0YCMJUwVk8oBc faQ5LA8k0FMTS7G0v0Lztwrk9GAdWFhSqQBGbOhVC+ag5OEI8UEnKjDhLySW13qA3GM9 xNnQ== X-Gm-Message-State: AOJu0Yw07hpm2e7CHRnleQ0WVZwVZvVgC5CoSlwcYQa/lEbtn2suKZOl NK9hSDsq77JSbTd4ca6ZngztLrbJoA18nzQyEBxTTZnkpcmiaF0Mb1X3cMHBuDfUjC6qz97A4/L E9w7kgGCWoazwrzlqxOxPpUzZPxqqajThaG9YBMoYpMBqa5EeZc2sWknx X-Gm-Gg: ASbGncs2WV4MtSQCdb/rnzMTQtOwv5tpe9F0s1obE3KqSlPh+Vgob5u/Le/IcIxgfM7 JcatNgRr19A9JaUZ5KjthYk0j1P2ILltj4iig0wpYq+d82PmdS5nFb/wLt0dAAjYAVuKp5JlJHn CWWUOe5HKFAPDa+EzwwmKUdgpQrLvVzJ2CmaE3lTHcKfQQvP/z8X36sqIEU9ly9p5vabTgb91yj Ems3a9ypdHNpEqLfAVt10aA/3OUKOuj09qLWR2lQ5cyTWhfE9TokKUqcYPYE956ucUp4N+HixlJ qbF+gNsGpul0/9lrjU1oi2lKMTQ8SerBM66l X-Google-Smtp-Source: AGHT+IFOu6IfLgTlL2nUP4xmbW7wzRQ6T3jOYbeD+BI7L3vqqsdIdWw0UZ1biIgQjiR5dLLpTE5PgmOf65I4 X-Received: by 2002:a17:90b:5245:b0:2ff:58a4:9db3 with SMTP id 98e67ed59e1d1-30a7c0e41c1mr1019364a91.35.1746475872225; Mon, 05 May 2025 13:11:12 -0700 (PDT) Received: from postal.iol.unh.edu (postal.iol.unh.edu. [2606:4100:3880:1234::84]) by smtp-relay.gmail.com with ESMTPS id 98e67ed59e1d1-30a3474ecbasm2928440a91.5.2025.05.05.13.11.12 (version=TLS1_2 cipher=ECDHE-ECDSA-AES128-GCM-SHA256 bits=128/128); Mon, 05 May 2025 13:11:12 -0700 (PDT) X-Relaying-Domain: iol.unh.edu Date: Mon, 05 May 2025 13:11:12 -0700 (PDT) Message-ID: <68191b60.170a0220.2fce24.2905SMTPIN_ADDED_MISSING@mx.google.com> Received: from [172.21.0.5] (unknown [172.18.0.240]) by postal.iol.unh.edu (Postfix) with ESMTP id A96246052471; Mon, 5 May 2025 16:11:11 -0400 (EDT) Subject: |SUCCESS| pw153299 [PATCH] net/mlx5: declare size of rte_v128u32_t From: dpdklab@iol.unh.edu To: Test Report Cc: dpdk-test-reports@iol.unh.edu In-Reply-To: <1746457823-11135-1-git-send-email-andremue@linux.microsoft.com> References: <1746457823-11135-1-git-send-email-andremue@linux.microsoft.com> Content-Type: text/plain X-BeenThere: test-report@dpdk.org X-Mailman-Version: 2.1.29 Precedence: list List-Id: automatic DPDK test reports List-Unsubscribe: , List-Archive: List-Post: List-Help: List-Subscribe: , Errors-To: test-report-bounces@dpdk.org Test-Label: iol-unit-arm64-testing Test-Status: SUCCESS http://dpdk.org/patch/153299 _Testing PASS_ Submitter: Andre Muezerie Date: Monday, May 05 2025 15:10:23 DPDK git baseline: Repo:dpdk Branch: master CommitID:edd3f4b1265e6da707c46ca9b6c39d332647baea 153299 --> testing pass Upstream job id: Generic-Unit-Test-DPDK#335381 Test environment and result as below: +-----------------------------+----------------+---------------------------+------------------------------+--------------+ | Environment | dpdk_unit_test | cryptodev_sw_zuc_autotest | cryptodev_sw_snow3g_autotest | lpm_autotest | +=============================+================+===========================+==============================+==============+ | CentOS Stream 9 (ARM) | PASS | SKIPPED | SKIPPED | SKIPPED | +-----------------------------+----------------+---------------------------+------------------------------+--------------+ | Fedora 40 (ARM Clang) | PASS | SKIPPED | SKIPPED | SKIPPED | +-----------------------------+----------------+---------------------------+------------------------------+--------------+ | Debian 12 (arm) | PASS | PASS | PASS | SKIPPED | +-----------------------------+----------------+---------------------------+------------------------------+--------------+ | RHEL9 (ARM) | PASS | SKIPPED | SKIPPED | SKIPPED | +-----------------------------+----------------+---------------------------+------------------------------+--------------+ | Fedora 40 (ARM) | PASS | SKIPPED | SKIPPED | SKIPPED | +-----------------------------+----------------+---------------------------+------------------------------+--------------+ | Ubuntu 20.04 (ARM) | PASS | SKIPPED | SKIPPED | SKIPPED | +-----------------------------+----------------+---------------------------+------------------------------+--------------+ | CentOS Stream 10 (ARM) | PASS | SKIPPED | SKIPPED | SKIPPED | +-----------------------------+----------------+---------------------------+------------------------------+--------------+ | Fedora 41 (ARM) | PASS | SKIPPED | SKIPPED | SKIPPED | +-----------------------------+----------------+---------------------------+------------------------------+--------------+ | Fedora 41 (ARM Clang) | PASS | SKIPPED | SKIPPED | SKIPPED | +-----------------------------+----------------+---------------------------+------------------------------+--------------+ | Ubuntu 22.04 (ARM) | PASS | SKIPPED | SKIPPED | SKIPPED | +-----------------------------+----------------+---------------------------+------------------------------+--------------+ | Ubuntu 24.04 (ARM) | PASS | SKIPPED | SKIPPED | SKIPPED | +-----------------------------+----------------+---------------------------+------------------------------+--------------+ | 32-bit Ubuntu 22.04.4 (ARM) | PASS | SKIPPED | SKIPPED | SKIPPED | +-----------------------------+----------------+---------------------------+------------------------------+--------------+ | Ubuntu 20.04 ARM SVE | SKIPPED | SKIPPED | SKIPPED | PASS | +-----------------------------+----------------+---------------------------+------------------------------+--------------+ CentOS Stream 9 (ARM) Kernel: Depends on container host Compiler: gcc 11.5.0 20240719 (Red Hat 11.5.0-2) Fedora 40 (ARM Clang) Kernel: Depends on container host Compiler: clang 18.1.8 (Fedora 18.1.8-1.fc40) Debian 12 (arm) Kernel: Depends on container host Compiler: gcc (Debian 12.2.0-14) 12.2.0 RHEL9 (ARM) Kernel: Depends on container host Compiler: gcc 11.5.0 20240719 (Red Hat 11.5.0-2) Fedora 40 (ARM) Kernel: Depends on container host Compiler: gcc 14.2.1 20240912 (Red Hat 14.2.1-3) Ubuntu 20.04 (ARM) Kernel: Depends on container host Compiler: gcc (Ubuntu 9.4.0-1ubuntu1~20.04.2) 9.4.0 CentOS Stream 10 (ARM) Kernel: Depends on container host Compiler: gcc 14.2.1 20241104 (Red Hat 14.2.1-6) Fedora 41 (ARM) Kernel: Depends on container host Compiler: gcc 14.2.1 20240912 (Red Hat 14.2.1-3) Fedora 41 (ARM Clang) Kernel: Depends on container host Compiler: clang 19.1.5 (Fedora 19.1.5-1.fc41) Ubuntu 22.04 (ARM) Kernel: Depends on container host Compiler: gcc (Ubuntu 11.4.0-1ubuntu1~22.04) 11.4.0 Ubuntu 24.04 (ARM) Kernel: Depends on container host Compiler: gcc (Ubuntu 13.3.0-6ubuntu2~24.04) 13.3.0 32-bit Ubuntu 22.04.4 (ARM) Kernel: 5.15.83+ aarch64 Compiler: gcc (Ubuntu 11.4.0-1ubuntu1~22.04) 11.4.0 Ubuntu 20.04 ARM SVE Kernel: Depends on container host Compiler: gcc (Ubuntu 10.5.0-1ubuntu1~20.04) 10.5.0 To view detailed results, visit: https://lab.dpdk.org/results/dashboard/patchsets/33112/ UNH-IOL DPDK Community Lab To manage your email subscriptions, visit: https://lab.dpdk.org/results/dashboard/preferences/subscriptions/