From mboxrd@z Thu Jan 1 00:00:00 1970 Return-Path: Received: from mails.dpdk.org (mails.dpdk.org [217.70.189.124]) by inbox.dpdk.org (Postfix) with ESMTP id 5ADD9466D0 for ; Mon, 5 May 2025 22:28:30 +0200 (CEST) Received: from mails.dpdk.org (localhost [127.0.0.1]) by mails.dpdk.org (Postfix) with ESMTP id 341194025D; Mon, 5 May 2025 22:28:30 +0200 (CEST) Received: from mail-oa1-f97.google.com (mail-oa1-f97.google.com [209.85.160.97]) by mails.dpdk.org (Postfix) with ESMTP id 78A0C4003C for ; Mon, 5 May 2025 22:28:29 +0200 (CEST) Received: by mail-oa1-f97.google.com with SMTP id 586e51a60fabf-2c12b7af278so3515406fac.0 for ; Mon, 05 May 2025 13:28:29 -0700 (PDT) DKIM-Signature: v=1; a=rsa-sha256; c=relaxed/relaxed; d=iol.unh.edu; s=unh-iol; t=1746476908; x=1747081708; darn=dpdk.org; h=references:in-reply-to:cc:to:from:subject:message-id:date:from:to :cc:subject:date:message-id:reply-to; bh=yLZEw0PHWrKvwiDhZAYjTrbea28B7lBX7FJmS4S+05o=; b=YNH1ZRImh0ssZ1mdOm/S7IBNKlnRI31xQaawKpitlD3jM5V5hQvFpJ6FZl1zxsqBSK G98H4F4bCoaqdtXN8JCxiBIAPoEkv+3lSXtiGFfLX0z9uGCtMKUa9YIQ3CdODer6iuCz /pzh3r8wvNgVOO14gBSVriKf9t3xV9ZyqvC/0= X-Google-DKIM-Signature: v=1; a=rsa-sha256; c=relaxed/relaxed; d=1e100.net; s=20230601; t=1746476908; x=1747081708; h=references:in-reply-to:cc:to:from:subject:message-id:date :x-gm-message-state:from:to:cc:subject:date:message-id:reply-to; bh=yLZEw0PHWrKvwiDhZAYjTrbea28B7lBX7FJmS4S+05o=; b=O9u6ft0xOvCzM+6K9BoUsKiPKpanQQ8PMGanQSL5qSsMM+QjkaWbnPiUE/CVp71ZO+ bkWmVzJTinsQ3oVD62ICmvnbiekKVjSs9BgzEzbguW/e3CK4bviPejHUvBrvKbGffGG+ JcMS3hJLZZfWWPpXCSznSRF5G8pVVWP9eo1GaE4fUBYaiKaB5OPaSeUnRl7nUXVAiebm DM7M6qAqkgFB9g7GF+T1r2G6xaV/t2UsRKpTA2ffb1nubka+6pucqkRh46ErIIDgIgNA E3jE0e633NKmFkzLeAZfucWo/PwXUukN2+uhsF5Jqo7zvOAz50RkY4Lp/iV66Jn3pWlh RpWw== X-Gm-Message-State: AOJu0YzMzojBNMsHdjfeOGnHDv0o3c4ftGeD5tUDKyefXLymgvIoSknX 001CMKJCwjVYIkDq2eVPKPDDklt6vjoiQ2DDJoBMorhIpqz/6nA+N19VC5YX5sArpIJaWcMMdZY vtZ79+5bs/OzvmjAI+Zgt+Em8p3VvB1q2jFcGIwl9 X-Gm-Gg: ASbGnctrEdxXLvxPzqal00TMMjGdyMqR+CKN54/vyOm8u5nYfWQMLraURGsQn/3jFvR naz8pbyAilNQaHMNwQJq5R3Skxgf9YO4NdvCs3IzXu1jsMwr1DDeCTreIpYfSNiOVbYqx/S+bjQ /YzSB6c8sCTdWv5mMlLyQTdJadqbvJ2VCdnWVEaKNgSgHp/AiW+/IjoPKJQAzuAEnRuNUUPf9rn /rUGy2pHoJ1Tu9vLSkCHV/n9xjh+ZJ4/GkLhpOpHabY+4wBcBOtfjYS6hQ9zlwZwMnS4GRUWvor 9gMrXzywZlJSSjDOCRpYUJLCYvTpPgEMzwevWDpsm7bQJOVLWB49YKjv63o= X-Google-Smtp-Source: AGHT+IEz9GRKIQ3gEyi+hfbJSC8Cm/TlF2r/WQfode5WAcK0sDeNn8YzE7WWhtbwvJIUk57xJe0x9/fojwD0 X-Received: by 2002:a05:6871:7a11:b0:2c2:4d73:ec43 with SMTP id 586e51a60fabf-2db38663ce9mr584820fac.15.1746476908662; Mon, 05 May 2025 13:28:28 -0700 (PDT) Received: from postal.iol.unh.edu (postal.iol.unh.edu. [132.177.123.84]) by smtp-relay.gmail.com with ESMTPS id 586e51a60fabf-2daa0e63e50sm2155659fac.2.2025.05.05.13.28.28 (version=TLS1_2 cipher=ECDHE-ECDSA-AES128-GCM-SHA256 bits=128/128); Mon, 05 May 2025 13:28:28 -0700 (PDT) X-Relaying-Domain: iol.unh.edu Date: Mon, 05 May 2025 13:28:28 -0700 (PDT) Message-ID: <68191f6c.050a0220.3cd3ad.65c0SMTPIN_ADDED_MISSING@mx.google.com> Received: from [172.21.0.10] (unknown [172.18.0.240]) by postal.iol.unh.edu (Postfix) with ESMTP id 4BAF66052471; Mon, 5 May 2025 16:28:28 -0400 (EDT) Subject: |SUCCESS| pw153294 [PATCH] [1/1] net/nbl add doc and minimun nbl bui From: dpdklab@iol.unh.edu To: Test Report Cc: dpdk-test-reports@iol.unh.edu In-Reply-To: <20250424114919.10349-1-kyo.liu@nebula-matrix.com> References: <20250424114919.10349-1-kyo.liu@nebula-matrix.com> Content-Type: text/plain X-BeenThere: test-report@dpdk.org X-Mailman-Version: 2.1.29 Precedence: list List-Id: automatic DPDK test reports List-Unsubscribe: , List-Archive: List-Post: List-Help: List-Subscribe: , Errors-To: test-report-bounces@dpdk.org Test-Label: iol-compile-arm64-testing Test-Status: SUCCESS http://dpdk.org/patch/153294 _Testing PASS_ Submitter: Kyo Liu Date: Thursday, April 24 2025 11:49:19 DPDK git baseline: Repo:dpdk Branch: master CommitID:ff05ee3e3f8fb4ce958a2ce6461e8141aea959c6 153294 --> testing pass Upstream job id: Generic-DPDK-Compile-Meson#385083 Test environment and result as below: +----------------------------------------+--------------------+ | Environment | dpdk_meson_compile | +========================================+====================+ | RHEL9 (ARM) | PASS | +----------------------------------------+--------------------+ | Ubuntu 20.04 ARM GCC Cross Compile | PASS | +----------------------------------------+--------------------+ | Ubuntu 20.04 ARM SVE | PASS | +----------------------------------------+--------------------+ | Debian 12 with MUSDK | PASS | +----------------------------------------+--------------------+ | Fedora 40 (ARM) | PASS | +----------------------------------------+--------------------+ | Fedora 40 (ARM Clang) | PASS | +----------------------------------------+--------------------+ | Fedora 41 (ARM) | PASS | +----------------------------------------+--------------------+ | Fedora 41 (ARM Clang) | PASS | +----------------------------------------+--------------------+ | Ubuntu 20.04 (ARM) | PASS | +----------------------------------------+--------------------+ | Ubuntu 22.04 (ARM) | PASS | +----------------------------------------+--------------------+ | Ubuntu 24.04 (ARM) | PASS | +----------------------------------------+--------------------+ | CentOS Stream 9 (ARM) | PASS | +----------------------------------------+--------------------+ | CentOS Stream 10 (ARM) | PASS | +----------------------------------------+--------------------+ | Debian 12 (arm) | PASS | +----------------------------------------+--------------------+ | Ubuntu 20.04 ARM Clang Cross Compile | PASS | +----------------------------------------+--------------------+ | Ubuntu 20.04 aarch32 GCC Cross Compile | PASS | +----------------------------------------+--------------------+ RHEL9 (ARM) Kernel: Depends on container host Compiler: gcc 11.5.0 20240719 (Red Hat 11.5.0-2) Ubuntu 20.04 ARM GCC Cross Compile Kernel: Depends on container host Compiler: aarch64-linux-gnu-gcc (Ubuntu 9.4.0-1ubuntu1~20.04.2) 9.4.0 Ubuntu 20.04 ARM SVE Kernel: Depends on container host Compiler: gcc (Ubuntu 10.5.0-1ubuntu1~20.04) 10.5.0 Debian 12 with MUSDK Kernel: Depends on container host Compiler: gcc (Debian 12.2.0-14) 12.2.0 Fedora 40 (ARM) Kernel: Depends on container host Compiler: gcc 14.2.1 20240912 (Red Hat 14.2.1-3) Fedora 40 (ARM Clang) Kernel: Depends on container host Compiler: clang 18.1.8 (Fedora 18.1.8-1.fc40) Fedora 41 (ARM) Kernel: Depends on container host Compiler: gcc 14.2.1 20240912 (Red Hat 14.2.1-3) Fedora 41 (ARM Clang) Kernel: Depends on container host Compiler: clang 19.1.5 (Fedora 19.1.5-1.fc41) Ubuntu 20.04 (ARM) Kernel: Depends on container host Compiler: gcc (Ubuntu 9.4.0-1ubuntu1~20.04.2) 9.4.0 Ubuntu 22.04 (ARM) Kernel: Depends on container host Compiler: gcc (Ubuntu 11.4.0-1ubuntu1~22.04) 11.4.0 Ubuntu 24.04 (ARM) Kernel: Depends on container host Compiler: gcc (Ubuntu 13.3.0-6ubuntu2~24.04) 13.3.0 CentOS Stream 9 (ARM) Kernel: Depends on container host Compiler: gcc 11.5.0 20240719 (Red Hat 11.5.0-2) CentOS Stream 10 (ARM) Kernel: Depends on container host Compiler: gcc 14.2.1 20241104 (Red Hat 14.2.1-6) Debian 12 (arm) Kernel: Depends on container host Compiler: gcc (Debian 12.2.0-14) 12.2.0 Ubuntu 20.04 ARM Clang Cross Compile Kernel: Depends on container host Compiler: clang 10.0.0-4ubuntu1 Ubuntu 20.04 aarch32 GCC Cross Compile Kernel: Depends on container host Compiler: gcc 9.4.0 To view detailed results, visit: https://lab.dpdk.org/results/dashboard/patchsets/33107/ UNH-IOL DPDK Community Lab To manage your email subscriptions, visit: https://lab.dpdk.org/results/dashboard/preferences/subscriptions/