From mboxrd@z Thu Jan 1 00:00:00 1970 Return-Path: Received: from mails.dpdk.org (mails.dpdk.org [217.70.189.124]) by inbox.dpdk.org (Postfix) with ESMTP id 8AA6F466D0 for ; Mon, 5 May 2025 22:30:21 +0200 (CEST) Received: from mails.dpdk.org (localhost [127.0.0.1]) by mails.dpdk.org (Postfix) with ESMTP id 766854025D; Mon, 5 May 2025 22:30:21 +0200 (CEST) Received: from mail-yb1-f227.google.com (mail-yb1-f227.google.com [209.85.219.227]) by mails.dpdk.org (Postfix) with ESMTP id 5C4954003C for ; Mon, 5 May 2025 22:30:20 +0200 (CEST) Received: by mail-yb1-f227.google.com with SMTP id 3f1490d57ef6-e733e25bfc7so4603695276.3 for ; Mon, 05 May 2025 13:30:20 -0700 (PDT) DKIM-Signature: v=1; a=rsa-sha256; c=relaxed/relaxed; d=iol.unh.edu; s=unh-iol; t=1746477019; x=1747081819; darn=dpdk.org; h=references:in-reply-to:cc:to:from:subject:message-id:date:from:to :cc:subject:date:message-id:reply-to; bh=VQaZnTNV38KvFWkXrpTF2StrlVWY2+Ckf8WMb94GxnM=; b=S9izgd6UHFL9skFcV/MK5jtvAOhSUubD0+8QFB/V/M3E6Rzswabewe1PJn53IQVZsH x2CXDH4t8CPzHhVQnIoVw+403ng+wDoev/9foiV8sOmOL4ArZFZuJw9kPcg8zwB2zMz3 MpEPwhA7EuIqpE0K1b2jxg1LIbnJ+2MpT9dk4= X-Google-DKIM-Signature: v=1; a=rsa-sha256; c=relaxed/relaxed; d=1e100.net; s=20230601; t=1746477019; x=1747081819; h=references:in-reply-to:cc:to:from:subject:message-id:date :x-gm-message-state:from:to:cc:subject:date:message-id:reply-to; bh=VQaZnTNV38KvFWkXrpTF2StrlVWY2+Ckf8WMb94GxnM=; b=jKS0d+hptF9b0knFTO1Bul24dzAt6zKBzz9ZLfSo4Bct//ofs6DhkKbFjFh6VIbMnY SAzMSG4L/jphKXWVdlty5e6opxKUlLaUNbwXVYD6zL7cov14PapySYyoqG2MRn029dob YtfqXSXx4azsubo6Oy5pb+DM0bHd40wonLk2Mf4TkmCpRLelApDSpEftcFulwuHsBYY1 Sf0iRMqlppg5Cyg1JZOuPycp1GXt9+Ra7D+s8jvKjCjTNrK1qs19oRCiN7g/1MBeprMF Icpor0+8L5SbYlQ3DCakEexv/uXrK+bWn5EpPxixOaZojofE2QvgZbj2JZPl7uNcFJ/j +3xA== X-Gm-Message-State: AOJu0YzRrjHvGLObpX6tb36SEzbHmHHlLoDyWzxWLua7GkQ4TGTt/pzq KcE3kxA+vYxNoN7gFiWCTqX+XQEunvjURpKyUm7vAT+twoe9e7uWlq4mR10OkgF4gy6K5z2ADN6 IPtIUmhMDcZSb5BjcfxdXKgXK38dj3A7ZuDK2OVSq X-Gm-Gg: ASbGncsUMuX3LwYRvCLll4DgCPSCV2l6q/4IGO3tlejbG+BpViT//DsVAQHYUrxRo9o ZF2fC+aC5UkRnK+Icf+u/SyVVndBXHHDAWUu4L8kx8oRAjj/XYObc+xGLq2ZIUtIx22JJDuPCaD EBGCuey3d2Ix3k+r7H/Qm1/Zu9CQeV8PhC+X8nfsf08x8WpARxnm4c2A4kLwuQz0GpnEkiuzu5V Ed46YF2rf0/OtcxRVQgoy8tXN8UdgyrPHylwe9bFxbLYSQ8tOqGTwBiaGgPEKlrTu5VXYEGWpe9 Y3jIQmi/cC6NpFS/XwDfZIUNhkf5RppSvjfPHyDlOmW5BWLH2zehG4aXI3Q= X-Google-Smtp-Source: AGHT+IGmLgeiBRQy6shSbKBMldHRDCOgu38vL0ttLmEdiaYbEX5kkVb0Dqmbbon1t/HtooJGOMRX9cvyJkiJ X-Received: by 2002:a05:690c:680c:b0:6f9:4f93:c805 with SMTP id 00721157ae682-709197e466bmr10251447b3.21.1746477019566; Mon, 05 May 2025 13:30:19 -0700 (PDT) Received: from postal.iol.unh.edu (postal.iol.unh.edu. [132.177.123.84]) by smtp-relay.gmail.com with ESMTPS id 00721157ae682-708c413ec99sm19872057b3.28.2025.05.05.13.30.19 (version=TLS1_2 cipher=ECDHE-ECDSA-AES128-GCM-SHA256 bits=128/128); Mon, 05 May 2025 13:30:19 -0700 (PDT) X-Relaying-Domain: iol.unh.edu Date: Mon, 05 May 2025 13:30:19 -0700 (PDT) Message-ID: <68191fdb.050a0220.36ce36.36c9SMTPIN_ADDED_MISSING@mx.google.com> Received: from [172.21.0.8] (unknown [172.18.0.240]) by postal.iol.unh.edu (Postfix) with ESMTP id 382ED6052471; Mon, 5 May 2025 16:30:19 -0400 (EDT) Subject: |SUCCESS| pw153299 [PATCH] net/mlx5: declare size of rte_v128u32_t From: dpdklab@iol.unh.edu To: Test Report Cc: dpdk-test-reports@iol.unh.edu In-Reply-To: <1746457823-11135-1-git-send-email-andremue@linux.microsoft.com> References: <1746457823-11135-1-git-send-email-andremue@linux.microsoft.com> Content-Type: text/plain X-BeenThere: test-report@dpdk.org X-Mailman-Version: 2.1.29 Precedence: list List-Id: automatic DPDK test reports List-Unsubscribe: , List-Archive: List-Post: List-Help: List-Subscribe: , Errors-To: test-report-bounces@dpdk.org Test-Label: iol-unit-amd64-testing Test-Status: SUCCESS http://dpdk.org/patch/153299 _Testing PASS_ Submitter: Andre Muezerie Date: Monday, May 05 2025 15:10:23 DPDK git baseline: Repo:dpdk Branch: master CommitID:edd3f4b1265e6da707c46ca9b6c39d332647baea 153299 --> testing pass Upstream job id: Generic-VM-Unit-Test-DPDK#28327 Test environment and result as below: +---------------------+----------------+ | Environment | dpdk_unit_test | +=====================+================+ | CentOS Stream 10 | PASS | +---------------------+----------------+ | CentOS Stream 9 | PASS | +---------------------+----------------+ | Fedora 40 (Clang) | PASS | +---------------------+----------------+ | Fedora 41 | PASS | +---------------------+----------------+ | Ubuntu 20.04 | PASS | +---------------------+----------------+ | Debian 12 | PASS | +---------------------+----------------+ | Fedora 40 | PASS | +---------------------+----------------+ | RHEL8 | PASS | +---------------------+----------------+ | Ubuntu 22.04 | PASS | +---------------------+----------------+ | RHEL9 | PASS | +---------------------+----------------+ | Fedora 41 (Clang) | PASS | +---------------------+----------------+ | Ubuntu 24.04 | PASS | +---------------------+----------------+ | Windows Server 2022 | PASS | +---------------------+----------------+ CentOS Stream 10 Kernel: Depends on container host Compiler: gcc 14.2.1 20241104 (Red Hat 14.2.1-6) CentOS Stream 9 Kernel: Depends on container host Compiler: gcc 11.5.0 20240719 (Red Hat 11.5.0-2) Fedora 40 (Clang) Kernel: Depends on container host Compiler: clang 18.1.8 (Fedora 18.1.8-1.fc40) Fedora 41 Kernel: Depends on container host Compiler: gcc 14.2.1 20240912 (Red Hat 14.2.1-3) Ubuntu 20.04 Kernel: Depends on container host Compiler: gcc (Ubuntu 9.4.0-1ubuntu1~20.04.2) 9.4.0 Debian 12 Kernel: Depends on container host Compiler: gcc (Debian 12.2.0-14) 12.2.0 Fedora 40 Kernel: Depends on container host Compiler: gcc 14.2.1 20240912 (Red Hat 14.2.1-3) RHEL8 Kernel: Depends on container host Compiler: gcc 8.5.0 20210514 (Red Hat 8.5.0-22) Ubuntu 22.04 Kernel: Depends on container host Compiler: gcc (Ubuntu 11.4.0-1ubuntu1~22.04) 11.4.0 RHEL9 Kernel: Depends on container host Compiler: gcc 11.5.0 20240719 (Red Hat 11.5.0-2) Fedora 41 (Clang) Kernel: Depends on container host Compiler: clang 19.1.5 (Fedora 19.1.5-1.fc41) Ubuntu 24.04 Kernel: Depends on container host Compiler: gcc (Ubuntu 13.3.0-6ubuntu2~24.04) 13.3.0 Windows Server 2022 Kernel: 10.0.20348.2031 Compiler: clang 15.0.7, gcc 14.1.0 (MinGW), and MSVC VS 19.39.33521 To view detailed results, visit: https://lab.dpdk.org/results/dashboard/patchsets/33112/ UNH-IOL DPDK Community Lab To manage your email subscriptions, visit: https://lab.dpdk.org/results/dashboard/preferences/subscriptions/