From mboxrd@z Thu Jan 1 00:00:00 1970 Return-Path: Received: from mails.dpdk.org (mails.dpdk.org [217.70.189.124]) by inbox.dpdk.org (Postfix) with ESMTP id 2DD6C466D0 for ; Mon, 5 May 2025 22:55:10 +0200 (CEST) Received: from mails.dpdk.org (localhost [127.0.0.1]) by mails.dpdk.org (Postfix) with ESMTP id 1DCBE402C4; Mon, 5 May 2025 22:55:10 +0200 (CEST) Received: from mail-pj1-f99.google.com (mail-pj1-f99.google.com [209.85.216.99]) by mails.dpdk.org (Postfix) with ESMTP id 1D2F54025D for ; Mon, 5 May 2025 22:55:08 +0200 (CEST) Received: by mail-pj1-f99.google.com with SMTP id 98e67ed59e1d1-3031354f134so3894500a91.3 for ; Mon, 05 May 2025 13:55:08 -0700 (PDT) DKIM-Signature: v=1; a=rsa-sha256; c=relaxed/relaxed; d=iol.unh.edu; s=unh-iol; t=1746478507; x=1747083307; darn=dpdk.org; h=references:in-reply-to:cc:to:from:subject:message-id:date:from:to :cc:subject:date:message-id:reply-to; bh=JZv8tJC6dQ8OiyKgmcdmwuekGIOQHitL3g0FHJlG5S8=; b=XPDG1nLuVhDT4Wxj0yxAPWfjMGlDROCl165kqT4XWmN/ri0aT7+VnwEab0VX00O0hH FwxyMiTJdrRUA3hdIpxeoIewzXxczLofuBt4xu7APUSzbpWI2vH29xcjfHjZ52Aw3mUd GBJCXPITnSYZhOGkg6o7Cuz72TG/Rc/iQfmVQ= X-Google-DKIM-Signature: v=1; a=rsa-sha256; c=relaxed/relaxed; d=1e100.net; s=20230601; t=1746478507; x=1747083307; h=references:in-reply-to:cc:to:from:subject:message-id:date :x-gm-message-state:from:to:cc:subject:date:message-id:reply-to; bh=JZv8tJC6dQ8OiyKgmcdmwuekGIOQHitL3g0FHJlG5S8=; b=eAKv8t2+Crz83BxK4tY9SIfFVka8kWi58E3Qg2+yzjVqULIzLrlDk+j1D1gL6fdAic SBqbxcGV16RbZYd06f4hxwLaOlWKHB9pPn7EM4FIlxEoHpNhqvpEiQplyk9qr43UIIt6 NMJdU14PKlW7mama2JLJ+OVUk4z0EiPe1MMZ8wjG+G0QVSN7uFvTafdiWquFOoJoRqmT XB/8hpnqxaGEN0hV4cbIaFwYB3DDC5sEXhdvwZu51pU2RtNWqpTePTDH1YHs75pnM60q lyKvXhcp5SJGEaRgQGiQmBGpMsphFjYPyvcjllci1swXQMO94tgOpOlNrEekZ0VizI2+ +Zog== X-Gm-Message-State: AOJu0YyPwzI7yDYJzmCCiD4p5Ejm3OEayPlm/PXgm69YJr4S6zmlQ5DJ Y3AEbklLpY36BwYCVGpfPpppd6TYQk5xQqhkvAI2FGzakwybpYv8OTN74BQ4cwsK19CpQzTH8Et J8OIrVjvFCYHadAJNh2i4BEF+A1XxTsaYXipS5rej X-Gm-Gg: ASbGncvVEbSn89F8FrLdtxkEJ/hirSXUIr5WhDUnmnbYv0mRiTpYF4l6kSpTHcb0VJg xTLcEGU8GjK2Rv8WMXTVA7L6cUEQ6jHT8EGEm1nhezy38UW7Q+kq7jErErHvyN0IY7InoMg2pVS 58Lf4Kryt2ygPEAK/9DM46kgwpc7nzokWx4arY53zzV7y+jGO57e25LFYMPd3/VSj0w3WIhv0rm gpFfco2RjYZCGQYot4tXP5SsdSPJfZrUxMSZMRKKnjVvtVtWujirTTcuw9qCN6aAeaetth8xSm0 cpMBUQHdKwDPlDH+7bTT/uaL142zMx4x9DmCCN/R79UXshTccpo6KR5lwDs= X-Google-Smtp-Source: AGHT+IFVXcLU1fHMFR4gXcXZvGF0nBS1uVf7VIGQsNNxzAWmalQAK276V5zE4xKOfbEOZZZV8zUxzlTupOHS X-Received: by 2002:a17:90b:524d:b0:301:98fc:9b2f with SMTP id 98e67ed59e1d1-30a6196ed1bmr13091751a91.1.1746478506940; Mon, 05 May 2025 13:55:06 -0700 (PDT) Received: from postal.iol.unh.edu (postal.iol.unh.edu. [132.177.123.84]) by smtp-relay.gmail.com with ESMTPS id d9443c01a7336-22e1523326csm16991715ad.100.2025.05.05.13.55.06 (version=TLS1_2 cipher=ECDHE-ECDSA-AES128-GCM-SHA256 bits=128/128); Mon, 05 May 2025 13:55:06 -0700 (PDT) X-Relaying-Domain: iol.unh.edu Date: Mon, 05 May 2025 13:55:06 -0700 (PDT) Message-ID: <681925aa.170a0220.3a7da8.1bf5SMTPIN_ADDED_MISSING@mx.google.com> Received: from [172.21.0.6] (unknown [172.18.0.240]) by postal.iol.unh.edu (Postfix) with ESMTP id 664B66052471; Mon, 5 May 2025 16:55:06 -0400 (EDT) Subject: |SUCCESS| pw153298 [PATCH] net/mlx5: use portable version of __built From: dpdklab@iol.unh.edu To: Test Report Cc: dpdk-test-reports@iol.unh.edu In-Reply-To: <1746457492-10012-1-git-send-email-andremue@linux.microsoft.com> References: <1746457492-10012-1-git-send-email-andremue@linux.microsoft.com> Content-Type: text/plain X-BeenThere: test-report@dpdk.org X-Mailman-Version: 2.1.29 Precedence: list List-Id: automatic DPDK test reports List-Unsubscribe: , List-Archive: List-Post: List-Help: List-Subscribe: , Errors-To: test-report-bounces@dpdk.org Test-Label: iol-unit-arm64-testing Test-Status: SUCCESS http://dpdk.org/patch/153298 _Testing PASS_ Submitter: Andre Muezerie Date: Monday, May 05 2025 15:04:52 DPDK git baseline: Repo:dpdk Branch: master CommitID:edd3f4b1265e6da707c46ca9b6c39d332647baea 153298 --> testing pass Upstream job id: Generic-Unit-Test-DPDK#335407 Test environment and result as below: +-----------------------------+----------------+--------------+---------------------------+------------------------------+ | Environment | dpdk_unit_test | lpm_autotest | cryptodev_sw_zuc_autotest | cryptodev_sw_snow3g_autotest | +=============================+================+==============+===========================+==============================+ | CentOS Stream 10 (ARM) | PASS | SKIPPED | SKIPPED | SKIPPED | +-----------------------------+----------------+--------------+---------------------------+------------------------------+ | CentOS Stream 9 (ARM) | PASS | SKIPPED | SKIPPED | SKIPPED | +-----------------------------+----------------+--------------+---------------------------+------------------------------+ | Fedora 41 (ARM Clang) | PASS | SKIPPED | SKIPPED | SKIPPED | +-----------------------------+----------------+--------------+---------------------------+------------------------------+ | Fedora 40 (ARM Clang) | PASS | SKIPPED | SKIPPED | SKIPPED | +-----------------------------+----------------+--------------+---------------------------+------------------------------+ | RHEL9 (ARM) | PASS | SKIPPED | SKIPPED | SKIPPED | +-----------------------------+----------------+--------------+---------------------------+------------------------------+ | Debian 12 (arm) | PASS | SKIPPED | PASS | PASS | +-----------------------------+----------------+--------------+---------------------------+------------------------------+ | Fedora 40 (ARM) | PASS | SKIPPED | SKIPPED | SKIPPED | +-----------------------------+----------------+--------------+---------------------------+------------------------------+ | Fedora 41 (ARM) | PASS | SKIPPED | SKIPPED | SKIPPED | +-----------------------------+----------------+--------------+---------------------------+------------------------------+ | Ubuntu 22.04 (ARM) | PASS | SKIPPED | SKIPPED | SKIPPED | +-----------------------------+----------------+--------------+---------------------------+------------------------------+ | Ubuntu 24.04 (ARM) | PASS | SKIPPED | SKIPPED | SKIPPED | +-----------------------------+----------------+--------------+---------------------------+------------------------------+ | Ubuntu 20.04 (ARM) | PASS | SKIPPED | SKIPPED | SKIPPED | +-----------------------------+----------------+--------------+---------------------------+------------------------------+ | 32-bit Ubuntu 22.04.4 (ARM) | PASS | SKIPPED | SKIPPED | SKIPPED | +-----------------------------+----------------+--------------+---------------------------+------------------------------+ | Ubuntu 20.04 ARM SVE | SKIPPED | PASS | SKIPPED | SKIPPED | +-----------------------------+----------------+--------------+---------------------------+------------------------------+ CentOS Stream 10 (ARM) Kernel: Depends on container host Compiler: gcc 14.2.1 20241104 (Red Hat 14.2.1-6) CentOS Stream 9 (ARM) Kernel: Depends on container host Compiler: gcc 11.5.0 20240719 (Red Hat 11.5.0-2) Fedora 41 (ARM Clang) Kernel: Depends on container host Compiler: clang 19.1.5 (Fedora 19.1.5-1.fc41) Fedora 40 (ARM Clang) Kernel: Depends on container host Compiler: clang 18.1.8 (Fedora 18.1.8-1.fc40) RHEL9 (ARM) Kernel: Depends on container host Compiler: gcc 11.5.0 20240719 (Red Hat 11.5.0-2) Debian 12 (arm) Kernel: Depends on container host Compiler: gcc (Debian 12.2.0-14) 12.2.0 Fedora 40 (ARM) Kernel: Depends on container host Compiler: gcc 14.2.1 20240912 (Red Hat 14.2.1-3) Fedora 41 (ARM) Kernel: Depends on container host Compiler: gcc 14.2.1 20240912 (Red Hat 14.2.1-3) Ubuntu 22.04 (ARM) Kernel: Depends on container host Compiler: gcc (Ubuntu 11.4.0-1ubuntu1~22.04) 11.4.0 Ubuntu 24.04 (ARM) Kernel: Depends on container host Compiler: gcc (Ubuntu 13.3.0-6ubuntu2~24.04) 13.3.0 Ubuntu 20.04 (ARM) Kernel: Depends on container host Compiler: gcc (Ubuntu 9.4.0-1ubuntu1~20.04.2) 9.4.0 32-bit Ubuntu 22.04.4 (ARM) Kernel: 5.15.83+ aarch64 Compiler: gcc (Ubuntu 11.4.0-1ubuntu1~22.04) 11.4.0 Ubuntu 20.04 ARM SVE Kernel: Depends on container host Compiler: gcc (Ubuntu 10.5.0-1ubuntu1~20.04) 10.5.0 To view detailed results, visit: https://lab.dpdk.org/results/dashboard/patchsets/33111/ UNH-IOL DPDK Community Lab To manage your email subscriptions, visit: https://lab.dpdk.org/results/dashboard/preferences/subscriptions/