From mboxrd@z Thu Jan 1 00:00:00 1970 Return-Path: Received: from mails.dpdk.org (mails.dpdk.org [217.70.189.124]) by inbox.dpdk.org (Postfix) with ESMTP id 1A33D466D0 for ; Mon, 5 May 2025 22:55:10 +0200 (CEST) Received: from mails.dpdk.org (localhost [127.0.0.1]) by mails.dpdk.org (Postfix) with ESMTP id 153B64025D; Mon, 5 May 2025 22:55:10 +0200 (CEST) Received: from mail-oa1-f99.google.com (mail-oa1-f99.google.com [209.85.160.99]) by mails.dpdk.org (Postfix) with ESMTP id EDF0B4003C for ; Mon, 5 May 2025 22:55:07 +0200 (CEST) Received: by mail-oa1-f99.google.com with SMTP id 586e51a60fabf-2c76a1b574cso1491532fac.2 for ; Mon, 05 May 2025 13:55:07 -0700 (PDT) DKIM-Signature: v=1; a=rsa-sha256; c=relaxed/relaxed; d=iol.unh.edu; s=unh-iol; t=1746478507; x=1747083307; darn=dpdk.org; h=references:in-reply-to:cc:to:from:subject:message-id:date:from:to :cc:subject:date:message-id:reply-to; bh=eLuYZbsLUKl3fQ+srNaKcrtPbl+0j5Ye1o/zdNeAPpU=; b=d8JddmidcleIRUw3uyrNAFgSAtuyVGuGHlipsjh0JbHvuoW4NnuN6EpzyKPWQWwvbN OVMQmuddisBUIoQvLe8LjRRJAHj9mjJxEAKxrKaLy7KihldbtONn888i245vZez7wnvI wNLkNRtV5JcY7w1rwm2pTQkQL+UcHLQXLcG+Q= X-Google-DKIM-Signature: v=1; a=rsa-sha256; c=relaxed/relaxed; d=1e100.net; s=20230601; t=1746478507; x=1747083307; h=references:in-reply-to:cc:to:from:subject:message-id:date :x-gm-message-state:from:to:cc:subject:date:message-id:reply-to; bh=eLuYZbsLUKl3fQ+srNaKcrtPbl+0j5Ye1o/zdNeAPpU=; b=xCtXaCo13gx6YT/ofoBNKQOL0cjA7pWw7iOypRlpCxM/G4HNg4LCYdL2U/yTXdAa32 sfL8pTu9TX6GkxKdnglj6wMN1bhOzX272NkxMqsy4Wrusx52eOhmns/MaInKusMVaN2u vGnH1eyDIRTzZWYkm3n2GmydajWNf+7maeK4C3Jl3hicwkKRBgGIRW7sIG0izhm9ViHx HZMuPOhy6mfBjsRGbWbnNxJxXjTlWJve7JqTyOxFGP+Ii2wjUfGgQ+v0XAgBWEEJXVuM kSX2INtdyVMD0hZZx0JeILFBotwEfpSW855QEXvdOy6j5UZwJsTq0dbjUkcC5kEHUHde 5lXw== X-Gm-Message-State: AOJu0YzecaveeH6rLZrDEGn0WNmNBvflXPyg7Djw8GeNFRlxioj0eLwb NsjQJei7JHtCjMgVopbwFo4RmQ6KoviLb5aeG+nBG9VxRW+luOaNzlwWZ5ehqoqIsetLnJZZZjf 0pQVkrGSs5FN8+YmP+jcsWG8Tzb4fJia8xozEUr2PRhAgKYUFxVhc+7bY X-Gm-Gg: ASbGnctvHkvDirtNAd5GWbGeC8Z/hbgATeHahJ6V51Tuhn3OvsDicQYmm888BdHwjci Av8R7VIQz37X6ceK5OGGOaNEaFNuW9iFbiiSsA/beYN/citxKqKTpKYk8/yOscsNzse9RVJGXY9 5MyuZGgkVIXLutvYMWFH65myLW9CXXXpgVuNTF9MqX1DYZB83elzwW37W5B6KnmmhZ/5mVWpcsW mGBeRiE4XYKSw60QPcIQdwrbUGCpjFQM97ODf1ijeNPGTKXTOVOkWfYF2KEKzOU4DjvV3xmO3jK niF5af6pPTec6m6gvH/jezxCD1FOzsWPaQmJ X-Google-Smtp-Source: AGHT+IHMrAwL5FDz9DKNV/GjGhuTgl7OZ0Ct+7q/W+yRZ6V33AsBSVR1KG88d0PwRhpmDSGGMkp1U97X9D/d X-Received: by 2002:a05:6870:8989:b0:2d7:38a5:e1ea with SMTP id 586e51a60fabf-2dae82de561mr4362311fac.13.1746478507109; Mon, 05 May 2025 13:55:07 -0700 (PDT) Received: from postal.iol.unh.edu (postal.iol.unh.edu. [2606:4100:3880:1234::84]) by smtp-relay.gmail.com with ESMTPS id 586e51a60fabf-2daa11a6021sm2149718fac.30.2025.05.05.13.55.07 (version=TLS1_2 cipher=ECDHE-ECDSA-AES128-GCM-SHA256 bits=128/128); Mon, 05 May 2025 13:55:07 -0700 (PDT) X-Relaying-Domain: iol.unh.edu Date: Mon, 05 May 2025 13:55:07 -0700 (PDT) Message-ID: <681925ab.050a0220.1bb4f2.59ddSMTPIN_ADDED_MISSING@mx.google.com> Received: from [172.21.0.5] (unknown [172.18.0.240]) by postal.iol.unh.edu (Postfix) with ESMTP id 983876052472; Mon, 5 May 2025 16:55:06 -0400 (EDT) Subject: |SUCCESS| pw153299 [PATCH] net/mlx5: declare size of rte_v128u32_t From: dpdklab@iol.unh.edu To: Test Report Cc: dpdk-test-reports@iol.unh.edu In-Reply-To: <1746457823-11135-1-git-send-email-andremue@linux.microsoft.com> References: <1746457823-11135-1-git-send-email-andremue@linux.microsoft.com> Content-Type: text/plain X-BeenThere: test-report@dpdk.org X-Mailman-Version: 2.1.29 Precedence: list List-Id: automatic DPDK test reports List-Unsubscribe: , List-Archive: List-Post: List-Help: List-Subscribe: , Errors-To: test-report-bounces@dpdk.org Test-Label: iol-unit-amd64-testing Test-Status: SUCCESS http://dpdk.org/patch/153299 _Testing PASS_ Submitter: Andre Muezerie Date: Monday, May 05 2025 15:10:23 DPDK git baseline: Repo:dpdk Branch: master CommitID:edd3f4b1265e6da707c46ca9b6c39d332647baea 153299 --> testing pass Upstream job id: Generic-VM-Unit-Test-DPDK#28328 Test environment and result as below: +---------------------+----------------+ | Environment | dpdk_unit_test | +=====================+================+ | CentOS Stream 10 | PASS | +---------------------+----------------+ | CentOS Stream 9 | PASS | +---------------------+----------------+ | Fedora 40 (Clang) | PASS | +---------------------+----------------+ | Fedora 41 | PASS | +---------------------+----------------+ | Ubuntu 20.04 | PASS | +---------------------+----------------+ | Debian 12 | PASS | +---------------------+----------------+ | Fedora 40 | PASS | +---------------------+----------------+ | RHEL8 | PASS | +---------------------+----------------+ | Ubuntu 22.04 | PASS | +---------------------+----------------+ | RHEL9 | PASS | +---------------------+----------------+ | Fedora 41 (Clang) | PASS | +---------------------+----------------+ | Ubuntu 24.04 | PASS | +---------------------+----------------+ | Windows Server 2022 | PASS | +---------------------+----------------+ CentOS Stream 10 Kernel: Depends on container host Compiler: gcc 14.2.1 20241104 (Red Hat 14.2.1-6) CentOS Stream 9 Kernel: Depends on container host Compiler: gcc 11.5.0 20240719 (Red Hat 11.5.0-2) Fedora 40 (Clang) Kernel: Depends on container host Compiler: clang 18.1.8 (Fedora 18.1.8-1.fc40) Fedora 41 Kernel: Depends on container host Compiler: gcc 14.2.1 20240912 (Red Hat 14.2.1-3) Ubuntu 20.04 Kernel: Depends on container host Compiler: gcc (Ubuntu 9.4.0-1ubuntu1~20.04.2) 9.4.0 Debian 12 Kernel: Depends on container host Compiler: gcc (Debian 12.2.0-14) 12.2.0 Fedora 40 Kernel: Depends on container host Compiler: gcc 14.2.1 20240912 (Red Hat 14.2.1-3) RHEL8 Kernel: Depends on container host Compiler: gcc 8.5.0 20210514 (Red Hat 8.5.0-22) Ubuntu 22.04 Kernel: Depends on container host Compiler: gcc (Ubuntu 11.4.0-1ubuntu1~22.04) 11.4.0 RHEL9 Kernel: Depends on container host Compiler: gcc 11.5.0 20240719 (Red Hat 11.5.0-2) Fedora 41 (Clang) Kernel: Depends on container host Compiler: clang 19.1.5 (Fedora 19.1.5-1.fc41) Ubuntu 24.04 Kernel: Depends on container host Compiler: gcc (Ubuntu 13.3.0-6ubuntu2~24.04) 13.3.0 Windows Server 2022 Kernel: 10.0.20348.2031 Compiler: clang 15.0.7, gcc 14.1.0 (MinGW), and MSVC VS 19.39.33521 To view detailed results, visit: https://lab.dpdk.org/results/dashboard/patchsets/33112/ UNH-IOL DPDK Community Lab To manage your email subscriptions, visit: https://lab.dpdk.org/results/dashboard/preferences/subscriptions/