automatic DPDK test reports
 help / color / mirror / Atom feed
From: dpdklab@iol.unh.edu
To: Test Report <test-report@dpdk.org>
Cc: dpdk-test-reports@iol.unh.edu
Subject: |SUCCESS| pw153301 [PATCH] doc: update parameters to use for mlx5 on
Date: Mon, 05 May 2025 14:24:28 -0700 (PDT)	[thread overview]
Message-ID: <68192c8c.250a0220.124640.a9aeSMTPIN_ADDED_MISSING@mx.google.com> (raw)
In-Reply-To: <1746458561-13525-1-git-send-email-andremue@linux.microsoft.com>

Test-Label: iol-compile-amd64-testing
Test-Status: SUCCESS
http://dpdk.org/patch/153301

_Testing PASS_

Submitter: Andre Muezerie <andremue@linux.microsoft.com>
Date: Monday, May 05 2025 15:22:41 
DPDK git baseline: Repo:dpdk
  Branch: master
  CommitID:edd3f4b1265e6da707c46ca9b6c39d332647baea

153301 --> testing pass

Upstream job id: Generic-VM-DPDK-Compile-Meson#35150

Test environment and result as below:

+--------------+--------------------+
| Environment  | dpdk_meson_compile |
+==============+====================+
| Ubuntu 20.04 | PASS               |
+--------------+--------------------+
| FreeBSD 13.5 | PASS               |
+--------------+--------------------+
| FreeBSD 14.2 | PASS               |
+--------------+--------------------+


Ubuntu 20.04
	Kernel: 4.19.325-0419325-generic
	Compiler: gcc (Ubuntu 9.4.0-1ubuntu1~20.04.2) 9.4.0

FreeBSD 13.5
	Kernel: 13.5-RELEASE
	Compiler: clang 19.1.7

FreeBSD 14.2
	Kernel: 14.2-RELEASE
	Compiler: clang 18.1.6

To view detailed results, visit:
https://lab.dpdk.org/results/dashboard/patchsets/33114/

UNH-IOL DPDK Community Lab

To manage your email subscriptions, visit: 
https://lab.dpdk.org/results/dashboard/preferences/subscriptions/

  parent reply	other threads:[~2025-05-05 21:24 UTC|newest]

Thread overview: 19+ messages / expand[flat|nested]  mbox.gz  Atom feed  top
     [not found] <1746458561-13525-1-git-send-email-andremue@linux.microsoft.com>
2025-05-05 14:52 ` |SUCCESS| pw153301 [PATCH] doc: update parameters to use for mlx5 on Windows qemudev
2025-05-05 14:57 ` qemudev
2025-05-05 15:22 ` checkpatch
2025-05-05 16:24 ` 0-day Robot
2025-05-05 20:57 ` |SUCCESS| pw153301 [PATCH] doc: update parameters to use for mlx5 on dpdklab
2025-05-05 21:03 ` dpdklab
2025-05-05 21:07 ` dpdklab
2025-05-05 21:11 ` dpdklab
2025-05-05 21:19 ` dpdklab
2025-05-05 21:24 ` dpdklab [this message]
2025-05-05 22:32 ` dpdklab
2025-05-06  0:01 ` |PENDING| " dpdklab
2025-05-06  0:28 ` |SUCCESS| " dpdklab
2025-05-06  1:07 ` dpdklab
2025-05-06  1:09 ` dpdklab
2025-05-06  3:23 ` dpdklab
2025-05-06  5:47 ` dpdklab
2025-05-06  5:47 ` dpdklab
2025-05-06  6:07 ` dpdklab

Reply instructions:

You may reply publicly to this message via plain-text email
using any one of the following methods:

* Save the following mbox file, import it into your mail client,
  and reply-to-all from there: mbox

  Avoid top-posting and favor interleaved quoting:
  https://en.wikipedia.org/wiki/Posting_style#Interleaved_style

* Reply using the --to, --cc, and --in-reply-to
  switches of git-send-email(1):

  git send-email \
    --in-reply-to=68192c8c.250a0220.124640.a9aeSMTPIN_ADDED_MISSING@mx.google.com \
    --to=dpdklab@iol.unh.edu \
    --cc=dpdk-test-reports@iol.unh.edu \
    --cc=test-report@dpdk.org \
    /path/to/YOUR_REPLY

  https://kernel.org/pub/software/scm/git/docs/git-send-email.html

* If your mail client supports setting the In-Reply-To header
  via mailto: links, try the mailto: link
Be sure your reply has a Subject: header at the top and a blank line before the message body.
This is a public inbox, see mirroring instructions
for how to clone and mirror all data and code used for this inbox;
as well as URLs for NNTP newsgroup(s).