From mboxrd@z Thu Jan 1 00:00:00 1970 Return-Path: Received: from mails.dpdk.org (mails.dpdk.org [217.70.189.124]) by inbox.dpdk.org (Postfix) with ESMTP id 67CCC466D0 for ; Mon, 5 May 2025 23:24:30 +0200 (CEST) Received: from mails.dpdk.org (localhost [127.0.0.1]) by mails.dpdk.org (Postfix) with ESMTP id 41B294025D; Mon, 5 May 2025 23:24:30 +0200 (CEST) Received: from mail-yb1-f228.google.com (mail-yb1-f228.google.com [209.85.219.228]) by mails.dpdk.org (Postfix) with ESMTP id 3EEAB4025D for ; Mon, 5 May 2025 23:24:29 +0200 (CEST) Received: by mail-yb1-f228.google.com with SMTP id 3f1490d57ef6-e73e9e18556so4339530276.0 for ; Mon, 05 May 2025 14:24:29 -0700 (PDT) DKIM-Signature: v=1; a=rsa-sha256; c=relaxed/relaxed; d=iol.unh.edu; s=unh-iol; t=1746480268; x=1747085068; darn=dpdk.org; h=references:in-reply-to:cc:to:from:subject:message-id:date:from:to :cc:subject:date:message-id:reply-to; bh=bJM4ayLU8Clcy8HHcZTw8LRSo7lIkJ7LDuIn49vir9A=; b=Tj7m0Lk2tCLM5B+Hpbb845AJrzAwIh+tHbrCjqLWVgJ/iMUPjheXJKeyHYIh/Gyb6Y pcCLhjRnPQYiP6AnlZPiw//TMO/3bjXgxi9AQnBAZOopEP6W682A7Po42IbkBXQDL6o4 RryqJM2Imfkd17Bqa/F24lmTbrYWR3BsAcc+c= X-Google-DKIM-Signature: v=1; a=rsa-sha256; c=relaxed/relaxed; d=1e100.net; s=20230601; t=1746480268; x=1747085068; h=references:in-reply-to:cc:to:from:subject:message-id:date :x-gm-message-state:from:to:cc:subject:date:message-id:reply-to; bh=bJM4ayLU8Clcy8HHcZTw8LRSo7lIkJ7LDuIn49vir9A=; b=dN0APIgifpkEol9IlBRnSLm3bdkrDjIVazzG9II2oArZzoLa36RwFqaQnRfc1GJfDZ AzZmevkOGY2j+WutLIb2gFf5xFdS55erzYxJMZjnLeC3sG/nLrY8Ny0JGaNkoDKUVLSi m37SWy/mN8JYT9v9E9pDOCTxNamH8dDKYIptnovpcAthAEKmLBjWgVZvsCN5xg4ZcOeE ZtTGlbgHoxq5NibpKFKJ2e7D0Rs2f6M1bcU74ytKsLAJWwj/9WdWpn24GjjzvJSxmlyU XdbC3IwQUaJrCciUVuo4agGFhzMK715LA/loZX6iXGgIFMq+76Tt8qbnoNaT3Ky6IRh7 fu8w== X-Gm-Message-State: AOJu0YwIqVnLqe4gwBht0kJj78+YZdQMtJ6QcMZ8l8whTFVhlzOw/EIq t4DDlIqDwiykuSzBMEoC1va1DDX4iKxo/F6SOWalQr+3fCi9KyT2R8YXavDAjkhghHrYv9Qe1+R gNuaEqEhSydRPXw8R1Ba/C2OioNkp0IwXmZ90U95ILZRwraVgcoj33L0e X-Gm-Gg: ASbGncssXj/BsH/vYXk8iPo0q9Nz/W+1uTdSfSRV8InyOMu3vXZP8MtBGfv8Zz0NeSV m0uxh14KetAV7mj87V3Zspg4ox9FNhULHGVCpY8lgEXVqR/jgLE+KQK2zC21hyBAYCci5S63HzG CDkm1c3W3Fmrk5J6cM5R14O8fPPyR6LRrTd6RQeunt3yNHGz5EqsRm0VjSd6u4APBr7RH3agam5 1B3M7mw8V2GC91B57EPHorrjpffY2i8xY4EC0LEjlk2BuXGA6Nu94Ett3ch9BL9bT7xKiYO9zvh UycUYvY3gVRmC1s69uwzE12nw4o2M9yESN7w X-Google-Smtp-Source: AGHT+IGSoqZHhMOh4/uSc+CNZt1oJq2ZcP+71eZXHJPoHl40sF5OeX9ZpqtFa2ncX3zIhc+Y+QUhh9I/L+r2 X-Received: by 2002:a05:6902:709:b0:e6d:ee6d:664 with SMTP id 3f1490d57ef6-e75bf0eb028mr1759549276.21.1746480268466; Mon, 05 May 2025 14:24:28 -0700 (PDT) Received: from postal.iol.unh.edu (postal.iol.unh.edu. [2606:4100:3880:1234::84]) by smtp-relay.gmail.com with ESMTPS id 3f1490d57ef6-e75608f4cf8sm1807628276.0.2025.05.05.14.24.28 (version=TLS1_2 cipher=ECDHE-ECDSA-AES128-GCM-SHA256 bits=128/128); Mon, 05 May 2025 14:24:28 -0700 (PDT) X-Relaying-Domain: iol.unh.edu Date: Mon, 05 May 2025 14:24:28 -0700 (PDT) Message-ID: <68192c8c.250a0220.124640.a9aeSMTPIN_ADDED_MISSING@mx.google.com> Received: from [172.21.0.7] (unknown [172.18.0.240]) by postal.iol.unh.edu (Postfix) with ESMTP id 1700C6052471; Mon, 5 May 2025 17:24:28 -0400 (EDT) Subject: |SUCCESS| pw153301 [PATCH] doc: update parameters to use for mlx5 on From: dpdklab@iol.unh.edu To: Test Report Cc: dpdk-test-reports@iol.unh.edu In-Reply-To: <1746458561-13525-1-git-send-email-andremue@linux.microsoft.com> References: <1746458561-13525-1-git-send-email-andremue@linux.microsoft.com> Content-Type: text/plain X-BeenThere: test-report@dpdk.org X-Mailman-Version: 2.1.29 Precedence: list List-Id: automatic DPDK test reports List-Unsubscribe: , List-Archive: List-Post: List-Help: List-Subscribe: , Errors-To: test-report-bounces@dpdk.org Test-Label: iol-compile-amd64-testing Test-Status: SUCCESS http://dpdk.org/patch/153301 _Testing PASS_ Submitter: Andre Muezerie Date: Monday, May 05 2025 15:22:41 DPDK git baseline: Repo:dpdk Branch: master CommitID:edd3f4b1265e6da707c46ca9b6c39d332647baea 153301 --> testing pass Upstream job id: Generic-VM-DPDK-Compile-Meson#35150 Test environment and result as below: +--------------+--------------------+ | Environment | dpdk_meson_compile | +==============+====================+ | Ubuntu 20.04 | PASS | +--------------+--------------------+ | FreeBSD 13.5 | PASS | +--------------+--------------------+ | FreeBSD 14.2 | PASS | +--------------+--------------------+ Ubuntu 20.04 Kernel: 4.19.325-0419325-generic Compiler: gcc (Ubuntu 9.4.0-1ubuntu1~20.04.2) 9.4.0 FreeBSD 13.5 Kernel: 13.5-RELEASE Compiler: clang 19.1.7 FreeBSD 14.2 Kernel: 14.2-RELEASE Compiler: clang 18.1.6 To view detailed results, visit: https://lab.dpdk.org/results/dashboard/patchsets/33114/ UNH-IOL DPDK Community Lab To manage your email subscriptions, visit: https://lab.dpdk.org/results/dashboard/preferences/subscriptions/