From mboxrd@z Thu Jan 1 00:00:00 1970 Return-Path: Received: from mails.dpdk.org (mails.dpdk.org [217.70.189.124]) by inbox.dpdk.org (Postfix) with ESMTP id 79CEF466D0 for ; Mon, 5 May 2025 23:35:28 +0200 (CEST) Received: from mails.dpdk.org (localhost [127.0.0.1]) by mails.dpdk.org (Postfix) with ESMTP id 74B534025D; Mon, 5 May 2025 23:35:28 +0200 (CEST) Received: from mail-pf1-f225.google.com (mail-pf1-f225.google.com [209.85.210.225]) by mails.dpdk.org (Postfix) with ESMTP id 5F4554003C for ; Mon, 5 May 2025 23:35:27 +0200 (CEST) Received: by mail-pf1-f225.google.com with SMTP id d2e1a72fcca58-74019695377so4062846b3a.3 for ; Mon, 05 May 2025 14:35:27 -0700 (PDT) DKIM-Signature: v=1; a=rsa-sha256; c=relaxed/relaxed; d=iol.unh.edu; s=unh-iol; t=1746480926; x=1747085726; darn=dpdk.org; h=references:in-reply-to:cc:to:from:subject:message-id:date:from:to :cc:subject:date:message-id:reply-to; bh=lHDpNhhoDxMne0RceXGPPYnbuD1D9fkNeI8liNZHJyU=; b=hardJqdZdIy15o+hgGgTfCbqCMinrAL+SHOqhYRINDSdRbrFO9J5BjTgQOyWAgmWfx lcjd7ZUYQLs1oTARAB+uk2ob7M78aaQHwo8uIl/bS56rorG0yfQvm2o08JruYSG6dTQr IzzB3hYSUJF9pSv108pDLWMeEShyKlrOnET5Y= X-Google-DKIM-Signature: v=1; a=rsa-sha256; c=relaxed/relaxed; d=1e100.net; s=20230601; t=1746480926; x=1747085726; h=references:in-reply-to:cc:to:from:subject:message-id:date :x-gm-message-state:from:to:cc:subject:date:message-id:reply-to; bh=lHDpNhhoDxMne0RceXGPPYnbuD1D9fkNeI8liNZHJyU=; b=lUdIr8HB2h8Z/PAVbAM6X9jnZZLGfg1FdWQ4HBOOhuZ8HmBuWtInx0rTKl0cUbmwfF VMabdqZRB0K1agITF+Ed7UHP5v+Cm4OftuWbL+/JksJ7tlGByx3Adt8xl/MaiW+5jBUZ BQWNlkbklHJroIBPfTgeu+j1UGJbEjBgyybyNUARVIjLQWeOy4zpEoTnbKiL0beX4txe kaN6/UpIo353XLbXDtg0jYfReo9lrNlMI57aiF2wjJFtfrzA0zf7q/axt27PONl6e8kj R1WPfEkIjgqIb6sMtqg7wUQ1UBI+Ih+u8i0752czWH4re82EK53T3FeISOg73MS63DY4 ynAA== X-Gm-Message-State: AOJu0YxlZ0c5xE7U+HmxlF7j/A+NltFCEYimJXpee2EwMf25q1y0Gp7X e+bAKSDN6aCdtRReBxxzjL2iI9TEZ+HcCKiARkM5clkUOWkMuSVMtHrncGVOd6FnQNmKsW7Q1Y0 49SlENvqcJhl5MzOUfhA36bu0aJWei7kkXINgzvTU X-Gm-Gg: ASbGncvvM4AfmBVrCZ6mZucaanwmOP0jyLicW2ABW/hgAIxuTeIW0+SwdELgv0k4OKZ ILzOeQnzVoKXcH6AbdOgTf6TGWxfJxJAq6xAENiybr/CKLB0OyJibR5O/vBGuMvbC8wvQxnmC4R 3+NK5igznrrdHs9HOvxbojFJFpEY3xmDXiXa4Je91g363OcdeFWWRPq5UtxXmb15Av2pedp+CM1 wEZvTLvtJwE8tScViq18vkc9e7Xzuir1qnIsYeqIVjsOVkjhbRnBmERwqZjanDpz+szuPlK5xHo pPRy5N6VR7GUp14BKUxruOkdfLElIjjRZQnaTdBV8g08jkOxhNGJ7lTlres= X-Google-Smtp-Source: AGHT+IEsc0Qgf1X0acvjyFCgy5YbPyrv9AQXjCBoXA9fS98K9ZGO3KpXNBxATM1/vvBquJdRqcjx17YRA2L6 X-Received: by 2002:a05:6a21:78d:b0:1f5:5b77:3811 with SMTP id adf61e73a8af0-20e969ec9f5mr13748721637.22.1746480926399; Mon, 05 May 2025 14:35:26 -0700 (PDT) Received: from postal.iol.unh.edu (postal.iol.unh.edu. [132.177.123.84]) by smtp-relay.gmail.com with ESMTPS id d2e1a72fcca58-74058d7bf43sm2035318b3a.2.2025.05.05.14.35.26 (version=TLS1_2 cipher=ECDHE-ECDSA-AES128-GCM-SHA256 bits=128/128); Mon, 05 May 2025 14:35:26 -0700 (PDT) X-Relaying-Domain: iol.unh.edu Date: Mon, 05 May 2025 14:35:26 -0700 (PDT) Message-ID: <68192f1e.050a0220.fb82.7350SMTPIN_ADDED_MISSING@mx.google.com> Received: from [172.21.0.5] (unknown [172.18.0.240]) by postal.iol.unh.edu (Postfix) with ESMTP id 97DFA6052471; Mon, 5 May 2025 17:35:25 -0400 (EDT) Subject: |SUCCESS| pw153298 [PATCH] net/mlx5: use portable version of __built From: dpdklab@iol.unh.edu To: Test Report Cc: dpdk-test-reports@iol.unh.edu In-Reply-To: <1746457492-10012-1-git-send-email-andremue@linux.microsoft.com> References: <1746457492-10012-1-git-send-email-andremue@linux.microsoft.com> Content-Type: text/plain X-BeenThere: test-report@dpdk.org X-Mailman-Version: 2.1.29 Precedence: list List-Id: automatic DPDK test reports List-Unsubscribe: , List-Archive: List-Post: List-Help: List-Subscribe: , Errors-To: test-report-bounces@dpdk.org Test-Label: iol-abi-testing Test-Status: SUCCESS http://dpdk.org/patch/153298 _Testing PASS_ Submitter: Andre Muezerie Date: Monday, May 05 2025 15:04:52 DPDK git baseline: Repo:dpdk Branch: master CommitID:edd3f4b1265e6da707c46ca9b6c39d332647baea 153298 --> testing pass Upstream job id: Generic-DPDK-Compile-ABI#125283 Test environment and result as below: +-------------------+----------+ | Environment | abi_test | +===================+==========+ | CentOS Stream 9 | PASS | +-------------------+----------+ | CentOS Stream 10 | PASS | +-------------------+----------+ | Fedora 40 (Clang) | PASS | +-------------------+----------+ | Debian 12 | PASS | +-------------------+----------+ | Fedora 41 (Clang) | PASS | +-------------------+----------+ | RHEL8 | PASS | +-------------------+----------+ | openSUSE Leap 15 | PASS | +-------------------+----------+ | RHEL9 | PASS | +-------------------+----------+ | Fedora 41 | PASS | +-------------------+----------+ | Ubuntu 22.04 | PASS | +-------------------+----------+ | Ubuntu 24.04 | PASS | +-------------------+----------+ | Fedora 40 | PASS | +-------------------+----------+ CentOS Stream 9 Kernel: Depends on container host Compiler: gcc 11.5.0 20240719 (Red Hat 11.5.0-2) CentOS Stream 10 Kernel: Depends on container host Compiler: gcc 14.2.1 20241104 (Red Hat 14.2.1-6) Fedora 40 (Clang) Kernel: Depends on container host Compiler: clang 18.1.8 (Fedora 18.1.8-1.fc40) Debian 12 Kernel: Depends on container host Compiler: gcc (Debian 12.2.0-14) 12.2.0 Fedora 41 (Clang) Kernel: Depends on container host Compiler: clang 19.1.5 (Fedora 19.1.5-1.fc41) RHEL8 Kernel: Depends on container host Compiler: gcc 8.5.0 20210514 (Red Hat 8.5.0-22) openSUSE Leap 15 Kernel: Depends on container host Compiler: gcc (SUSE Linux) 7.5.0 RHEL9 Kernel: Depends on container host Compiler: gcc 11.5.0 20240719 (Red Hat 11.5.0-2) Fedora 41 Kernel: Depends on container host Compiler: gcc 14.2.1 20240912 (Red Hat 14.2.1-3) Ubuntu 22.04 Kernel: Depends on container host Compiler: gcc (Ubuntu 11.4.0-1ubuntu1~22.04) 11.4.0 Ubuntu 24.04 Kernel: Depends on container host Compiler: gcc (Ubuntu 13.3.0-6ubuntu2~24.04) 13.3.0 Fedora 40 Kernel: Depends on container host Compiler: gcc 14.2.1 20240912 (Red Hat 14.2.1-3) To view detailed results, visit: https://lab.dpdk.org/results/dashboard/patchsets/33111/ UNH-IOL DPDK Community Lab To manage your email subscriptions, visit: https://lab.dpdk.org/results/dashboard/preferences/subscriptions/