From mboxrd@z Thu Jan 1 00:00:00 1970 Return-Path: Received: from mails.dpdk.org (mails.dpdk.org [217.70.189.124]) by inbox.dpdk.org (Postfix) with ESMTP id E8A5C466D0 for ; Tue, 6 May 2025 01:32:23 +0200 (CEST) Received: from mails.dpdk.org (localhost [127.0.0.1]) by mails.dpdk.org (Postfix) with ESMTP id CE3CF4025D; Tue, 6 May 2025 01:32:23 +0200 (CEST) Received: from mail-qv1-f97.google.com (mail-qv1-f97.google.com [209.85.219.97]) by mails.dpdk.org (Postfix) with ESMTP id 1876A4003C for ; Tue, 6 May 2025 01:32:23 +0200 (CEST) Received: by mail-qv1-f97.google.com with SMTP id 6a1803df08f44-6f0cfbe2042so65474376d6.1 for ; Mon, 05 May 2025 16:32:23 -0700 (PDT) DKIM-Signature: v=1; a=rsa-sha256; c=relaxed/relaxed; d=iol.unh.edu; s=unh-iol; t=1746487942; x=1747092742; darn=dpdk.org; h=references:in-reply-to:cc:to:from:subject:message-id:date:from:to :cc:subject:date:message-id:reply-to; bh=oDRHUBeHOWnA43esSDWbvW4t32LgJopE5kCcCiZ1iAo=; b=Jl5sZcaTFLtCEYzMi4PI7/kPBlx12uqWmzLIKoT2UYf4kZ8jUjRjSlU79uC5SEio3o 0EoQ+BowMBoU2M7N5d5Vg46sNLkCQIYPzkIljYcRYhjsaZVnKVqSP4CtpF70wVv9G6h+ TJHB4cgnOwa3bYrsyPSlR8Xg8uWMcdZvU+L1o= X-Google-DKIM-Signature: v=1; a=rsa-sha256; c=relaxed/relaxed; d=1e100.net; s=20230601; t=1746487942; x=1747092742; h=references:in-reply-to:cc:to:from:subject:message-id:date :x-gm-message-state:from:to:cc:subject:date:message-id:reply-to; bh=oDRHUBeHOWnA43esSDWbvW4t32LgJopE5kCcCiZ1iAo=; b=cHIO7XpjbFxKOF880oMNVeZM7HrLSR3AShhfAxEqyti6KM1ut5Yg533aZGRmgaIydp WbqLe/wQJsag1EqNPCuMsLto4NB8B6g2oyC4DF+Fvb25BGrgTOU86skwM8Rp/snQrBRv /gcUKBoou2uP7wLTgGNW3b2oSVy2nm6a7DroRhQD4oXh28c4FQpQP+jebGpQyoi+Y/gP kVo1+goCsAzBZo/xskMUmfFTbUCY16CEZYEFQBh3WELKo6tBetXK6RIPLlaA1HplIuY/ uRMQg3t/qISbtUIHXBSYsDGpuhLOlyc+oZ7R4YJpDqyKBSoT5iAULFDDkam39lmgCrdO +HiA== X-Gm-Message-State: AOJu0YxHnf2UsyTSjbPbX8fevH0zG/8oCO1/KwhPJhDCanmQ45PLsdnK KBeSkh5kMmotqZFL565JmeB+6uRuWvQMYaJ4zlSQVJkBreNcMlOn5pyncwKlr/BHOUcJZL4Krrl o8rNmvOckeGSLCYzhxmn3RWkMOpif861i0PE1+NJOZg8alSd7R4g4aaVO X-Gm-Gg: ASbGncttk9Hc8irKgLIBM3Phi9OK234WzKN4jfgqDDYqfkxDYUwXaq8lvHOecXSYKCe z3jUYib+48BzDrPx4PKYtNJP2sTPgauLiO2TevWPrrAAEfMAR2VqKmcK7Y47forbKuv4+dcHwq8 pc40/Ls/XzGCaE2uT68AqKBf7SjuY2HHdCAtlU1F8LuLWwGBQgjWG4U9++Xfhki8GJefZIGG7Uf s/G6Pe8x55W6gpOMoZZYPu4ARdHmUFpZxR+iv3pCcGQCG5i6unWqhzLmC2M1fIukTo1FmWZ5xVX iqeLtdG/yNn4vszvHD8NlEEDxEcRKizTRz9z X-Google-Smtp-Source: AGHT+IE9GDeKOxkbsMh3ffyL4hrQpgQtGTnz9N+eUheGQ2K2+Ga4i+uUR0JGFSKTJeJAWOmBrPAVCTEJ19Rj X-Received: by 2002:a05:6214:2622:b0:6e4:4676:85c3 with SMTP id 6a1803df08f44-6f5353561e5mr18808046d6.11.1746487942432; Mon, 05 May 2025 16:32:22 -0700 (PDT) Received: from postal.iol.unh.edu (postal.iol.unh.edu. [2606:4100:3880:1234::84]) by smtp-relay.gmail.com with ESMTPS id 6a1803df08f44-6f50f48e917sm22864396d6.69.2025.05.05.16.32.22 (version=TLS1_2 cipher=ECDHE-ECDSA-AES128-GCM-SHA256 bits=128/128); Mon, 05 May 2025 16:32:22 -0700 (PDT) X-Relaying-Domain: iol.unh.edu Date: Mon, 05 May 2025 16:32:22 -0700 (PDT) Message-ID: <68194a86.d40a0220.39cdef.7c18SMTPIN_ADDED_MISSING@mx.google.com> Received: from [172.21.0.11] (unknown [172.18.0.240]) by postal.iol.unh.edu (Postfix) with ESMTP id 1DC446052471; Mon, 5 May 2025 19:32:22 -0400 (EDT) Subject: |SUCCESS| pw153294 [PATCH] [1/1] net/nbl add doc and minimun nbl bui From: dpdklab@iol.unh.edu To: Test Report Cc: dpdk-test-reports@iol.unh.edu In-Reply-To: <20250424114919.10349-1-kyo.liu@nebula-matrix.com> References: <20250424114919.10349-1-kyo.liu@nebula-matrix.com> Content-Type: text/plain X-BeenThere: test-report@dpdk.org X-Mailman-Version: 2.1.29 Precedence: list List-Id: automatic DPDK test reports List-Unsubscribe: , List-Archive: List-Post: List-Help: List-Subscribe: , Errors-To: test-report-bounces@dpdk.org Test-Label: iol-sample-apps-testing Test-Status: SUCCESS http://dpdk.org/patch/153294 _Testing PASS_ Submitter: Kyo Liu Date: Thursday, April 24 2025 11:49:19 DPDK git baseline: Repo:dpdk Branch: master CommitID:ff05ee3e3f8fb4ce958a2ce6461e8141aea959c6 153294 --> testing pass Upstream job id: ACVP-FIPS-testing#9712 Test environment and result as below: +--------------------+----------------------+----------------------+ | Environment | compressdev_zlib_pmd | dpdk_fips_validation | +====================+======================+======================+ | Ubuntu 22.04 (ARM) | PASS | SKIPPED | +--------------------+----------------------+----------------------+ | Ubuntu 22.04 | PASS | SKIPPED | +--------------------+----------------------+----------------------+ | Ubuntu 20.04 | SKIPPED | PASS | +--------------------+----------------------+----------------------+ Ubuntu 22.04 (ARM) Kernel: 5.15.0-97-generic Compiler: gcc gcc (Ubuntu 11.4.0-1ubuntu1~22.04) 11.4.0 Ubuntu 22.04 Kernel: 5.15.0-100-generic Compiler: gcc gcc (Ubuntu 11.4.0-1ubuntu1~22.04) 11.4.0 Ubuntu 20.04 Kernel: Depends on container host Compiler: gcc (Ubuntu 9.4.0-1ubuntu1~20.04.2) 9.4.0 To view detailed results, visit: https://lab.dpdk.org/results/dashboard/patchsets/33107/ UNH-IOL DPDK Community Lab To manage your email subscriptions, visit: https://lab.dpdk.org/results/dashboard/preferences/subscriptions/