From mboxrd@z Thu Jan 1 00:00:00 1970 Return-Path: Received: from mails.dpdk.org (mails.dpdk.org [217.70.189.124]) by inbox.dpdk.org (Postfix) with ESMTP id 4A4E2466D0 for ; Tue, 6 May 2025 01:48:24 +0200 (CEST) Received: from mails.dpdk.org (localhost [127.0.0.1]) by mails.dpdk.org (Postfix) with ESMTP id 463154025D; Tue, 6 May 2025 01:48:24 +0200 (CEST) Received: from mail-pl1-f227.google.com (mail-pl1-f227.google.com [209.85.214.227]) by mails.dpdk.org (Postfix) with ESMTP id 725094003C for ; Tue, 6 May 2025 01:48:23 +0200 (CEST) Received: by mail-pl1-f227.google.com with SMTP id d9443c01a7336-22435603572so62724265ad.1 for ; Mon, 05 May 2025 16:48:23 -0700 (PDT) DKIM-Signature: v=1; a=rsa-sha256; c=relaxed/relaxed; d=iol.unh.edu; s=unh-iol; t=1746488902; x=1747093702; darn=dpdk.org; h=references:in-reply-to:cc:to:from:subject:message-id:date:from:to :cc:subject:date:message-id:reply-to; bh=oWlVAvhbdiq+gu7IfhpL0nnZ/MjUjzZn9lmDyex4Kw0=; b=HLbg/WrLIud8GTqMh9/E3HMbDItiQ1FSuiz1lBe+6i+qUHHm0qcrqg4G4hCk6N2y1A 5yAm136W8SmBPw6zOTBy6HreqJSce13HWowl0koZhKcpitOER7JpEK1BX00OvWCT1AYk /vGddg+4cC6JlHPgxnzdMm6Wi2GblU0Eq7CiU= X-Google-DKIM-Signature: v=1; a=rsa-sha256; c=relaxed/relaxed; d=1e100.net; s=20230601; t=1746488902; x=1747093702; h=references:in-reply-to:cc:to:from:subject:message-id:date :x-gm-message-state:from:to:cc:subject:date:message-id:reply-to; bh=oWlVAvhbdiq+gu7IfhpL0nnZ/MjUjzZn9lmDyex4Kw0=; b=Fncu/kmbx6sFyOWL0Tv+xrt0h+wedt91oneT1X7BAGmXcIKD0Yo//dVOpT9aPvKkNF sK0Do61Ojaldsa2OiMu0xIvvczQ56JKXqHWMVb0dtCT+HfUxDuX8QEKuk1gCy2CnkdA+ AnTKRb3jOXbcZmIssB8hC+cAqfpnA1HizBiT5oRAhyarzES8/sMRfe2+RiUBVU9kYNPr yUc3z1m076wRloNf0llflhjzbhhy48C07sk0fMZUSor5/+I4YAyVQJqiK3ye3rH7RpbL qsGToEC9JFWHAbRei7Av+cLSBuoagrsid2yqXqIX9Yu/zc2VsbjSxTkNq3P+MwHkDTD3 T0Hg== X-Gm-Message-State: AOJu0YwpNNdeKcpRCRANU6/zMbeG6/A1d64bUim1WQcvJxeYtom1sDF4 yZ+mfMg3Vs1Pz8J3T+qWF+4wG8+wBrsnWAZHeDbdWx2nsZH62JN+T5lSEinzSEbXpuJbWc0SHM1 AJVJCuwUtOG9/hcbnyEP53yqzVICPAheB2/4yQGVdrf0/mq0aklS1li9p X-Gm-Gg: ASbGnctEcZ5+Ih3Gjo/jHrQ6jhMgbLLQP4MyYJ9MCq7fdasw/ST+UNbU0d7wFI9mlWU 6GLaNc6fHSX7rWW7eRk4C2X6BMHJviQZ9/KMhVBXUgMP5insWjcFIlfGn1+frM13VxhMkOAeakw cmz339W5IXaeY3ZQBIluZ6I8z53dODfUu515Gw/Q+/JmgqCAy0OYP7adIHpo46O4Cxqn06HDI96 VMVjP2joUfiuUQzmGTUeJ6e1CXnLqCCPlzncy0lcQ/KXi6MVK1bwPBIShb6Alx7CJK3u28s+JO7 wPNCzj126VoFH05080NluGZmNbLdImqsqZqa X-Google-Smtp-Source: AGHT+IFJogKujw3g2JxZ69MsyNagO2DTh3/5iDdGJSIyqE4fDK2ytRCLbOSk2rmbj99SnkufRWbEw11UizC+ X-Received: by 2002:a17:902:dac3:b0:220:c34c:5760 with SMTP id d9443c01a7336-22e1eac7addmr130539645ad.51.1746488902285; Mon, 05 May 2025 16:48:22 -0700 (PDT) Received: from postal.iol.unh.edu (postal.iol.unh.edu. [2606:4100:3880:1234::84]) by smtp-relay.gmail.com with ESMTPS id d9443c01a7336-22e427da097sm8545ad.120.2025.05.05.16.48.22 (version=TLS1_2 cipher=ECDHE-ECDSA-AES128-GCM-SHA256 bits=128/128); Mon, 05 May 2025 16:48:22 -0700 (PDT) X-Relaying-Domain: iol.unh.edu Date: Mon, 05 May 2025 16:48:22 -0700 (PDT) Message-ID: <68194e46.170a0220.192133.00c4SMTPIN_ADDED_MISSING@mx.google.com> Received: from [172.21.0.15] (unknown [172.18.0.240]) by postal.iol.unh.edu (Postfix) with ESMTP id 77F126052471; Mon, 5 May 2025 19:48:21 -0400 (EDT) Subject: |SUCCESS| pw153296 [PATCH] [1/1] net/mlx5: unresolved symbol mlx5_ge From: dpdklab@iol.unh.edu To: Test Report Cc: dpdk-test-reports@iol.unh.edu In-Reply-To: <1746456337-6278-2-git-send-email-andremue@linux.microsoft.com> References: <1746456337-6278-2-git-send-email-andremue@linux.microsoft.com> Content-Type: text/plain X-BeenThere: test-report@dpdk.org X-Mailman-Version: 2.1.29 Precedence: list List-Id: automatic DPDK test reports List-Unsubscribe: , List-Archive: List-Post: List-Help: List-Subscribe: , Errors-To: test-report-bounces@dpdk.org Test-Label: iol-abi-testing Test-Status: SUCCESS http://dpdk.org/patch/153296 _Testing PASS_ Submitter: Andre Muezerie Date: Monday, May 05 2025 14:45:37 DPDK git baseline: Repo:dpdk Branch: master CommitID:edd3f4b1265e6da707c46ca9b6c39d332647baea 153296 --> testing pass Upstream job id: Generic-DPDK-Compile-ABI#125307 Test environment and result as below: +-------------------+----------+ | Environment | abi_test | +===================+==========+ | CentOS Stream 10 | PASS | +-------------------+----------+ | Fedora 41 (Clang) | PASS | +-------------------+----------+ | Fedora 40 | PASS | +-------------------+----------+ | Fedora 40 (Clang) | PASS | +-------------------+----------+ | Debian 12 | PASS | +-------------------+----------+ | Fedora 41 | PASS | +-------------------+----------+ | openSUSE Leap 15 | PASS | +-------------------+----------+ | Ubuntu 24.04 | PASS | +-------------------+----------+ | Ubuntu 22.04 | PASS | +-------------------+----------+ | RHEL9 | PASS | +-------------------+----------+ | RHEL8 | PASS | +-------------------+----------+ | CentOS Stream 9 | PASS | +-------------------+----------+ CentOS Stream 10 Kernel: Depends on container host Compiler: gcc 14.2.1 20241104 (Red Hat 14.2.1-6) Fedora 41 (Clang) Kernel: Depends on container host Compiler: clang 19.1.5 (Fedora 19.1.5-1.fc41) Fedora 40 Kernel: Depends on container host Compiler: gcc 14.2.1 20240912 (Red Hat 14.2.1-3) Fedora 40 (Clang) Kernel: Depends on container host Compiler: clang 18.1.8 (Fedora 18.1.8-1.fc40) Debian 12 Kernel: Depends on container host Compiler: gcc (Debian 12.2.0-14) 12.2.0 Fedora 41 Kernel: Depends on container host Compiler: gcc 14.2.1 20240912 (Red Hat 14.2.1-3) openSUSE Leap 15 Kernel: Depends on container host Compiler: gcc (SUSE Linux) 7.5.0 Ubuntu 24.04 Kernel: Depends on container host Compiler: gcc (Ubuntu 13.3.0-6ubuntu2~24.04) 13.3.0 Ubuntu 22.04 Kernel: Depends on container host Compiler: gcc (Ubuntu 11.4.0-1ubuntu1~22.04) 11.4.0 RHEL9 Kernel: Depends on container host Compiler: gcc 11.5.0 20240719 (Red Hat 11.5.0-2) RHEL8 Kernel: Depends on container host Compiler: gcc 8.5.0 20210514 (Red Hat 8.5.0-22) CentOS Stream 9 Kernel: Depends on container host Compiler: gcc 11.5.0 20240719 (Red Hat 11.5.0-2) To view detailed results, visit: https://lab.dpdk.org/results/dashboard/patchsets/33109/ UNH-IOL DPDK Community Lab To manage your email subscriptions, visit: https://lab.dpdk.org/results/dashboard/preferences/subscriptions/