From mboxrd@z Thu Jan 1 00:00:00 1970 Return-Path: Received: from mails.dpdk.org (mails.dpdk.org [217.70.189.124]) by inbox.dpdk.org (Postfix) with ESMTP id 95091466D1 for ; Tue, 6 May 2025 02:08:13 +0200 (CEST) Received: from mails.dpdk.org (localhost [127.0.0.1]) by mails.dpdk.org (Postfix) with ESMTP id 6EC6D4025D; Tue, 6 May 2025 02:08:13 +0200 (CEST) Received: from mail-qv1-f100.google.com (mail-qv1-f100.google.com [209.85.219.100]) by mails.dpdk.org (Postfix) with ESMTP id 1F1CC4003C for ; Tue, 6 May 2025 02:08:12 +0200 (CEST) Received: by mail-qv1-f100.google.com with SMTP id 6a1803df08f44-6f0ad74483fso60264246d6.1 for ; Mon, 05 May 2025 17:08:12 -0700 (PDT) DKIM-Signature: v=1; a=rsa-sha256; c=relaxed/relaxed; d=iol.unh.edu; s=unh-iol; t=1746490091; x=1747094891; darn=dpdk.org; h=references:in-reply-to:cc:to:from:subject:message-id:date:from:to :cc:subject:date:message-id:reply-to; bh=xFano10NGFVeKfssDB4ZZFmMto/Jdk98zirmwytvLIo=; b=Q1nlR+M+Wyc8lkueJwTV43eoAbclaVDQ8AO7H/8JQlOQABo4+5AL789lhYtZuKM0mA PTOnWmmHLlU4edpXS0M9xgqgjT6n8pIEqgNiKhXq2wrKzaZel8lh/Hk7/7a5QFnbbAvF iECYWPHsPYkqsmTTW26JJoeKl1gUQYeYo/Ywc= X-Google-DKIM-Signature: v=1; a=rsa-sha256; c=relaxed/relaxed; d=1e100.net; s=20230601; t=1746490091; x=1747094891; h=references:in-reply-to:cc:to:from:subject:message-id:date :x-gm-message-state:from:to:cc:subject:date:message-id:reply-to; bh=xFano10NGFVeKfssDB4ZZFmMto/Jdk98zirmwytvLIo=; b=U+KXSSpDmitL1Kh0s/lUWcDfkrXHCOUXA75zA+s+NHJbDKi4xVmWV+KB69mPIp+pah OqZfimHDwyyh4prR7IQFrg2H5ragr6iXhx4B4RYVE7QywYBVrE1kdj93JdfGKrpQ8qj0 Yo+brgj459MGx05xAacSmOTgn/MuB8Xqpey6kDl/7cJoeNGB5Mtko0RRlqa4fU8xm0e1 nEuL70Dyknv7+kYdmPMhA/yjboudFE6ahD5M8jnKyaSNHZnBWYkVX02IuHIv4fehzons utimd5Iydp1mnV+FvuseVkMC2gWbdBWUc+KUg+cSHVb6LCzhhvvRvRO7Lol5iprf+tst ku6g== X-Gm-Message-State: AOJu0Yw/egPPgY5myCR+J5qr3ot8aTmbnm97KxMB6NjsJS5wq/anLGTr jlRVINo6Mpcza5jVKiOikpE+MT0+usa6SnNT7UChMjaWnyouGA4oY1l6j5VmZHBYHhp3JdHL44w czldfUEUFuIDi/3vXgnUlZEJaUpyOVnwhF5oVwO8f X-Gm-Gg: ASbGnctlfLyvr30i4MKvwZ9jVMeJ6n7hRj8U4QOhbBR9MwYQdsY+FG5D1iEyii+80GL e8alJmBerAmAXhkmlZYKwcxpWYDmqLnWMvX2za2gLeU7ynVrXKvMPGl3TpwYVvZ9iCnLY3IOTaf i1FDCLhpDARR/lPb4H0e1lh+ghmlAM26tzPmnuCireSlqHzFW4931+ivJcjwx6aZYlyCqendw9B uteQgZGsOZ+9YNS60/DFgbU4wVlQi+PPWMXxIGA9aZ2ycWg+x/2lITsWZcYkZCcoCibUyJFMPOH 15dgpTWZuH+QQ/FRVK7n6WtJ/nVihQBPD/Y7WNN7lv/W5GBDhSWNyR8X3Iw= X-Google-Smtp-Source: AGHT+IG8u5qU9PKn8QOP9WtBOjkqEcMlSWzY3zMZ/Ori34RPns6V1X+pxHEvBNTmt2gUeJ/SnD1gAxE+Riu8 X-Received: by 2002:a05:6214:246f:b0:6e4:7307:51c6 with SMTP id 6a1803df08f44-6f5358b733cmr16423096d6.34.1746490091415; Mon, 05 May 2025 17:08:11 -0700 (PDT) Received: from postal.iol.unh.edu (postal.iol.unh.edu. [132.177.123.84]) by smtp-relay.gmail.com with ESMTPS id 6a1803df08f44-6f50f48f55fsm23134926d6.63.2025.05.05.17.08.11 (version=TLS1_2 cipher=ECDHE-ECDSA-AES128-GCM-SHA256 bits=128/128); Mon, 05 May 2025 17:08:11 -0700 (PDT) X-Relaying-Domain: iol.unh.edu Date: Mon, 05 May 2025 17:08:11 -0700 (PDT) Message-ID: <681952eb.050a0220.2e2c5e.9269SMTPIN_ADDED_MISSING@mx.google.com> Received: from [172.21.0.11] (unknown [172.18.0.240]) by postal.iol.unh.edu (Postfix) with ESMTP id 206976052471; Mon, 5 May 2025 20:08:11 -0400 (EDT) Subject: |SUCCESS| pw153296 [PATCH] [1/1] net/mlx5: unresolved symbol mlx5_ge From: dpdklab@iol.unh.edu To: Test Report Cc: dpdk-test-reports@iol.unh.edu In-Reply-To: <1746456337-6278-2-git-send-email-andremue@linux.microsoft.com> References: <1746456337-6278-2-git-send-email-andremue@linux.microsoft.com> Content-Type: text/plain X-BeenThere: test-report@dpdk.org X-Mailman-Version: 2.1.29 Precedence: list List-Id: automatic DPDK test reports List-Unsubscribe: , List-Archive: List-Post: List-Help: List-Subscribe: , Errors-To: test-report-bounces@dpdk.org Test-Label: iol-unit-amd64-testing Test-Status: SUCCESS http://dpdk.org/patch/153296 _Testing PASS_ Submitter: Andre Muezerie Date: Monday, May 05 2025 14:45:37 DPDK git baseline: Repo:dpdk Branch: master CommitID:edd3f4b1265e6da707c46ca9b6c39d332647baea 153296 --> testing pass Upstream job id: Generic-Unit-Test-DPDK#335453 Test environment and result as below: +-------------------+----------------+ | Environment | dpdk_unit_test | +===================+================+ | CentOS Stream 9 | PASS | +-------------------+----------------+ | Fedora 41 | PASS | +-------------------+----------------+ | Debian 12 | PASS | +-------------------+----------------+ | CentOS Stream 10 | PASS | +-------------------+----------------+ | Fedora 40 (Clang) | PASS | +-------------------+----------------+ | Fedora 40 | PASS | +-------------------+----------------+ | RHEL9 | PASS | +-------------------+----------------+ | RHEL8 | PASS | +-------------------+----------------+ | Fedora 41 (Clang) | PASS | +-------------------+----------------+ | Ubuntu 24.04 | PASS | +-------------------+----------------+ | Ubuntu 22.04 | PASS | +-------------------+----------------+ | Ubuntu 20.04 | PASS | +-------------------+----------------+ CentOS Stream 9 Kernel: Depends on container host Compiler: gcc 11.5.0 20240719 (Red Hat 11.5.0-2) Fedora 41 Kernel: Depends on container host Compiler: gcc 14.2.1 20240912 (Red Hat 14.2.1-3) Debian 12 Kernel: Depends on container host Compiler: gcc (Debian 12.2.0-14) 12.2.0 CentOS Stream 10 Kernel: Depends on container host Compiler: gcc 14.2.1 20241104 (Red Hat 14.2.1-6) Fedora 40 (Clang) Kernel: Depends on container host Compiler: clang 18.1.8 (Fedora 18.1.8-1.fc40) Fedora 40 Kernel: Depends on container host Compiler: gcc 14.2.1 20240912 (Red Hat 14.2.1-3) RHEL9 Kernel: Depends on container host Compiler: gcc 11.5.0 20240719 (Red Hat 11.5.0-2) RHEL8 Kernel: Depends on container host Compiler: gcc 8.5.0 20210514 (Red Hat 8.5.0-22) Fedora 41 (Clang) Kernel: Depends on container host Compiler: clang 19.1.5 (Fedora 19.1.5-1.fc41) Ubuntu 24.04 Kernel: Depends on container host Compiler: gcc (Ubuntu 13.3.0-6ubuntu2~24.04) 13.3.0 Ubuntu 22.04 Kernel: Depends on container host Compiler: gcc (Ubuntu 11.4.0-1ubuntu1~22.04) 11.4.0 Ubuntu 20.04 Kernel: Depends on container host Compiler: gcc (Ubuntu 9.4.0-1ubuntu1~20.04.2) 9.4.0 To view detailed results, visit: https://lab.dpdk.org/results/dashboard/patchsets/33109/ UNH-IOL DPDK Community Lab To manage your email subscriptions, visit: https://lab.dpdk.org/results/dashboard/preferences/subscriptions/