From: dpdklab@iol.unh.edu
To: Test Report <test-report@dpdk.org>
Cc: dpdk-test-reports@iol.unh.edu
Subject: |SUCCESS| pw153300 [PATCH] net/mlx5: avoid implicit conversion to 64
Date: Mon, 05 May 2025 17:49:29 -0700 (PDT) [thread overview]
Message-ID: <68195c99.170a0220.3d71fa.39c0SMTPIN_ADDED_MISSING@mx.google.com> (raw)
In-Reply-To: <1746458202-12356-1-git-send-email-andremue@linux.microsoft.com>
Test-Label: iol-compile-amd64-testing
Test-Status: SUCCESS
http://dpdk.org/patch/153300
_Testing PASS_
Submitter: Andre Muezerie <andremue@linux.microsoft.com>
Date: Monday, May 05 2025 15:16:42
DPDK git baseline: Repo:dpdk
Branch: master
CommitID:ca1690ebd224f148268285b15b97441ccdbdd07e
153300 --> testing pass
Upstream job id: Windows-Compile-DPDK-VS#5639
Test environment and result as below:
+---------------------+--------------------+-------------------+
| Environment | dpdk_meson_compile | dpdk_msvc_compile |
+=====================+====================+===================+
| Ubuntu 20.04 | PASS | SKIPPED |
+---------------------+--------------------+-------------------+
| FreeBSD 13.5 | PASS | SKIPPED |
+---------------------+--------------------+-------------------+
| FreeBSD 14.2 | PASS | SKIPPED |
+---------------------+--------------------+-------------------+
| Windows Server 2022 | SKIPPED | PASS |
+---------------------+--------------------+-------------------+
Ubuntu 20.04
Kernel: 4.19.325-0419325-generic
Compiler: gcc (Ubuntu 9.4.0-1ubuntu1~20.04.2) 9.4.0
FreeBSD 13.5
Kernel: 13.5-RELEASE
Compiler: clang 19.1.7
FreeBSD 14.2
Kernel: 14.2-RELEASE
Compiler: clang 18.1.6
Windows Server 2022
Kernel: 10.0.20348.2031
Compiler: clang 15.0.7, gcc 14.1.0 (MinGW), and MSVC VS 19.39.33521
To view detailed results, visit:
https://lab.dpdk.org/results/dashboard/patchsets/33113/
UNH-IOL DPDK Community Lab
To manage your email subscriptions, visit:
https://lab.dpdk.org/results/dashboard/preferences/subscriptions/
next prev parent reply other threads:[~2025-05-06 0:49 UTC|newest]
Thread overview: 42+ messages / expand[flat|nested] mbox.gz Atom feed top
[not found] <1746458202-12356-1-git-send-email-andremue@linux.microsoft.com>
2025-05-05 14:47 ` |SUCCESS| pw153300 [PATCH] net/mlx5: avoid implicit conversion to 64 bits qemudev
2025-05-05 14:51 ` qemudev
2025-05-05 15:17 ` checkpatch
2025-05-05 16:24 ` 0-day Robot
2025-05-05 21:35 ` |SUCCESS| pw153300 [PATCH] net/mlx5: avoid implicit conversion to 64 dpdklab
2025-05-05 22:42 ` dpdklab
2025-05-05 23:06 ` dpdklab
2025-05-06 0:25 ` dpdklab
2025-05-06 0:35 ` dpdklab
2025-05-06 0:36 ` dpdklab
2025-05-06 0:41 ` dpdklab
2025-05-06 0:49 ` dpdklab [this message]
2025-05-06 1:16 ` dpdklab
2025-05-06 2:08 ` |PENDING| " dpdklab
2025-05-06 2:08 ` dpdklab
2025-05-06 3:20 ` |SUCCESS| " dpdklab
2025-05-06 3:54 ` dpdklab
2025-05-06 3:55 ` dpdklab
2025-05-06 3:58 ` dpdklab
2025-05-06 4:11 ` dpdklab
2025-05-06 4:13 ` dpdklab
2025-05-06 4:18 ` dpdklab
2025-05-06 4:21 ` dpdklab
2025-05-06 4:30 ` dpdklab
2025-05-06 4:31 ` dpdklab
2025-05-06 4:44 ` dpdklab
2025-05-06 4:47 ` dpdklab
2025-05-06 4:49 ` dpdklab
2025-05-06 4:49 ` dpdklab
2025-05-06 4:55 ` dpdklab
2025-05-06 5:09 ` dpdklab
2025-05-06 5:09 ` dpdklab
2025-05-06 5:10 ` dpdklab
2025-05-06 5:11 ` dpdklab
2025-05-06 5:18 ` dpdklab
2025-05-06 5:20 ` dpdklab
2025-05-06 5:27 ` dpdklab
2025-05-06 5:32 ` dpdklab
2025-05-06 5:48 ` dpdklab
2025-05-06 6:19 ` dpdklab
2025-05-06 6:22 ` dpdklab
2025-05-06 6:34 ` dpdklab
Reply instructions:
You may reply publicly to this message via plain-text email
using any one of the following methods:
* Save the following mbox file, import it into your mail client,
and reply-to-all from there: mbox
Avoid top-posting and favor interleaved quoting:
https://en.wikipedia.org/wiki/Posting_style#Interleaved_style
* Reply using the --to, --cc, and --in-reply-to
switches of git-send-email(1):
git send-email \
--in-reply-to=68195c99.170a0220.3d71fa.39c0SMTPIN_ADDED_MISSING@mx.google.com \
--to=dpdklab@iol.unh.edu \
--cc=dpdk-test-reports@iol.unh.edu \
--cc=test-report@dpdk.org \
/path/to/YOUR_REPLY
https://kernel.org/pub/software/scm/git/docs/git-send-email.html
* If your mail client supports setting the In-Reply-To header
via mailto: links, try the mailto: link
Be sure your reply has a Subject: header at the top and a blank line
before the message body.
This is a public inbox, see mirroring instructions
for how to clone and mirror all data and code used for this inbox;
as well as URLs for NNTP newsgroup(s).