From mboxrd@z Thu Jan 1 00:00:00 1970 Return-Path: Received: from mails.dpdk.org (mails.dpdk.org [217.70.189.124]) by inbox.dpdk.org (Postfix) with ESMTP id 2E9FF466D1 for ; Tue, 6 May 2025 02:49:33 +0200 (CEST) Received: from mails.dpdk.org (localhost [127.0.0.1]) by mails.dpdk.org (Postfix) with ESMTP id 01BFA4025D; Tue, 6 May 2025 02:49:33 +0200 (CEST) Received: from mail-pl1-f227.google.com (mail-pl1-f227.google.com [209.85.214.227]) by mails.dpdk.org (Postfix) with ESMTP id 27C044003C for ; Tue, 6 May 2025 02:49:31 +0200 (CEST) Received: by mail-pl1-f227.google.com with SMTP id d9443c01a7336-224341bbc1dso65910755ad.3 for ; Mon, 05 May 2025 17:49:31 -0700 (PDT) DKIM-Signature: v=1; a=rsa-sha256; c=relaxed/relaxed; d=iol.unh.edu; s=unh-iol; t=1746492570; x=1747097370; darn=dpdk.org; h=references:in-reply-to:cc:to:from:subject:message-id:date:from:to :cc:subject:date:message-id:reply-to; bh=RVc/nvnPryB5XQ/gSpJdt9Gl+t0cvyrkF8fLu3q9fSw=; b=XUDrRKGP7hqUXmnWSLLeA0noY7cwjey2b9lqm7Nc+xiSvmJO0dMZOShGbyrl7qgIIJ pe/I2bMa2FW9Uyi8218LL/RuV4SNsqkl5GeOtnGrgzBCtS8t3BJcFIOwM9SF01G6BS6B gANtVYRkteR1s+usXrYcrjXyx6BSTKBz9frEY= X-Google-DKIM-Signature: v=1; a=rsa-sha256; c=relaxed/relaxed; d=1e100.net; s=20230601; t=1746492570; x=1747097370; h=references:in-reply-to:cc:to:from:subject:message-id:date :x-gm-message-state:from:to:cc:subject:date:message-id:reply-to; bh=RVc/nvnPryB5XQ/gSpJdt9Gl+t0cvyrkF8fLu3q9fSw=; b=dXfLGip0w7j7M3jUnu3dr0mRVycTe+Ni2YcHXUIw5c+Rf6gsIY6O6lzRqPNLXie7FT 0Dvw2gwGAF3kI1kRRsukeDwSe+C7hBez8o9RCxtW6iX/xRYDNUbTZv6wq4LiKJw3QzPG H0uE66F37xlHGsSGMVaoZEUWsytZ0DXU5stgLT0w8qWJNd4R0/MRG2lLWI5rwYWVwBWr RiwSqaxK+ywLMlyid/rV6KTpP98VMKGCfuU59JMn0/gOunurycQxiap/RVy+2WqnZDdC cJS2lilUs/5NAc3O3Xx41RZfrhRRG/FNyLMa4eRzB+fNnNnIUOz2i12vFb8kQuhXbhBF dk/Q== X-Gm-Message-State: AOJu0YzyrmH8itIvYgf09jUV6F1PpK5N6+Gm8yyGHTfO8b4Ga+1T1PBQ eEq3IC68KPJ7ErpTCJzALr78DKUvCua0z+oYUHoTsyREqlLNsSiAnZF/YW6Kxk76bOQ873QLox4 ie1DZVZFYdXV/S7i7sHur+aQeaIYD4lFxzBAUUUYAyMRlXVAUDH/LUUBF X-Gm-Gg: ASbGncuPsgXWickUtgUVxoS8xDGuIsLBxElUK6nGBImW4lzzoBiKDOaokwqQqBzrIVK rbReKMh2OIvH855caYPGlMD+qxP++TMjnSBuiszU72Q6imn7E8BcyDPG5Sg87Ohlsq+++BrePPG 7opM0lAA+DCYgkfTnwvcz2zzvHe/bywCz9nAFGUvdT1kVT8mFP9ee84+5vzT5kbnpo2Pwv2ClPd uIrdyGHaSEg5KdYJ0oIfzG4byE/JWpxBnjfal5uqVXmI8Snbf9e6t9kA+EWkqj2BzpblP3Oweyk kyX7w14I3XwKTm3RmYjQJBgP9ivx/qccnLSS X-Google-Smtp-Source: AGHT+IHV8U8S4qv0IRRNnnVjW9g+zIxOCpEgnW2IyWC2H+xtTyGpuFed3dTa2QlqSNQ/cq+/xGmHzx0xd2MF X-Received: by 2002:a17:902:f54c:b0:226:38ff:1d6a with SMTP id d9443c01a7336-22e35fa333fmr10894925ad.7.1746492569883; Mon, 05 May 2025 17:49:29 -0700 (PDT) Received: from postal.iol.unh.edu (postal.iol.unh.edu. [2606:4100:3880:1234::84]) by smtp-relay.gmail.com with ESMTPS id d9443c01a7336-22e151f01b2sm16619665ad.54.2025.05.05.17.49.29 (version=TLS1_2 cipher=ECDHE-ECDSA-AES128-GCM-SHA256 bits=128/128); Mon, 05 May 2025 17:49:29 -0700 (PDT) X-Relaying-Domain: iol.unh.edu Date: Mon, 05 May 2025 17:49:29 -0700 (PDT) Message-ID: <68195c99.170a0220.3d71fa.39c0SMTPIN_ADDED_MISSING@mx.google.com> Received: from [172.21.0.6] (unknown [172.18.0.240]) by postal.iol.unh.edu (Postfix) with ESMTP id 1051E6052471; Mon, 5 May 2025 20:49:29 -0400 (EDT) Subject: |SUCCESS| pw153300 [PATCH] net/mlx5: avoid implicit conversion to 64 From: dpdklab@iol.unh.edu To: Test Report Cc: dpdk-test-reports@iol.unh.edu In-Reply-To: <1746458202-12356-1-git-send-email-andremue@linux.microsoft.com> References: <1746458202-12356-1-git-send-email-andremue@linux.microsoft.com> Content-Type: text/plain X-BeenThere: test-report@dpdk.org X-Mailman-Version: 2.1.29 Precedence: list List-Id: automatic DPDK test reports List-Unsubscribe: , List-Archive: List-Post: List-Help: List-Subscribe: , Errors-To: test-report-bounces@dpdk.org Test-Label: iol-compile-amd64-testing Test-Status: SUCCESS http://dpdk.org/patch/153300 _Testing PASS_ Submitter: Andre Muezerie Date: Monday, May 05 2025 15:16:42 DPDK git baseline: Repo:dpdk Branch: master CommitID:ca1690ebd224f148268285b15b97441ccdbdd07e 153300 --> testing pass Upstream job id: Windows-Compile-DPDK-VS#5639 Test environment and result as below: +---------------------+--------------------+-------------------+ | Environment | dpdk_meson_compile | dpdk_msvc_compile | +=====================+====================+===================+ | Ubuntu 20.04 | PASS | SKIPPED | +---------------------+--------------------+-------------------+ | FreeBSD 13.5 | PASS | SKIPPED | +---------------------+--------------------+-------------------+ | FreeBSD 14.2 | PASS | SKIPPED | +---------------------+--------------------+-------------------+ | Windows Server 2022 | SKIPPED | PASS | +---------------------+--------------------+-------------------+ Ubuntu 20.04 Kernel: 4.19.325-0419325-generic Compiler: gcc (Ubuntu 9.4.0-1ubuntu1~20.04.2) 9.4.0 FreeBSD 13.5 Kernel: 13.5-RELEASE Compiler: clang 19.1.7 FreeBSD 14.2 Kernel: 14.2-RELEASE Compiler: clang 18.1.6 Windows Server 2022 Kernel: 10.0.20348.2031 Compiler: clang 15.0.7, gcc 14.1.0 (MinGW), and MSVC VS 19.39.33521 To view detailed results, visit: https://lab.dpdk.org/results/dashboard/patchsets/33113/ UNH-IOL DPDK Community Lab To manage your email subscriptions, visit: https://lab.dpdk.org/results/dashboard/preferences/subscriptions/