From mboxrd@z Thu Jan 1 00:00:00 1970 Return-Path: Received: from mails.dpdk.org (mails.dpdk.org [217.70.189.124]) by inbox.dpdk.org (Postfix) with ESMTP id 9F255466D1 for ; Tue, 6 May 2025 03:07:29 +0200 (CEST) Received: from mails.dpdk.org (localhost [127.0.0.1]) by mails.dpdk.org (Postfix) with ESMTP id 772F24025D; Tue, 6 May 2025 03:07:29 +0200 (CEST) Received: from mail-qk1-f227.google.com (mail-qk1-f227.google.com [209.85.222.227]) by mails.dpdk.org (Postfix) with ESMTP id 86CEB4003C for ; Tue, 6 May 2025 03:07:27 +0200 (CEST) Received: by mail-qk1-f227.google.com with SMTP id af79cd13be357-7c5b8d13f73so623723285a.0 for ; Mon, 05 May 2025 18:07:27 -0700 (PDT) DKIM-Signature: v=1; a=rsa-sha256; c=relaxed/relaxed; d=iol.unh.edu; s=unh-iol; t=1746493647; x=1747098447; darn=dpdk.org; h=references:in-reply-to:cc:to:from:subject:message-id:date:from:to :cc:subject:date:message-id:reply-to; bh=nv9sfVuEAN/wG7Ue+nIT7iq7qV399Nq8AYq/VFeclzc=; b=PLIaRpBm3NjjBPI7wAIO6EIeeykyObxRF9x3oGnp7nmofvzia3lODgnPIHhXeHNnra RLk7RVpDrCDy14Tz9KtbcJAsV/Bm3WSagC7Hgm8lElsBaBSS3cLBeh+ivf4gg+l4ZaN/ csJT/zbbFAvhsOpx5AOuu4jLv8Ii/aiocl7sg= X-Google-DKIM-Signature: v=1; a=rsa-sha256; c=relaxed/relaxed; d=1e100.net; s=20230601; t=1746493647; x=1747098447; h=references:in-reply-to:cc:to:from:subject:message-id:date :x-gm-message-state:from:to:cc:subject:date:message-id:reply-to; bh=nv9sfVuEAN/wG7Ue+nIT7iq7qV399Nq8AYq/VFeclzc=; b=gl8eoGTSxvU5lQQbr6QdkfD0KQyofg60ZzODWfw06qGe5vtXoKNbP1dLnMLsFPqYM+ lYcTba1l6muF7P+UNxdSw10YNs/GgyfY1bDfcw17/28o3VajkH3jxvQ1857I6Jtg/aSe 6HywtsOtjVvXMrfHYqfh+E2gIqn9hCDB5oUCAvbNscYHAWGJMn5rel+dXIJC8Oio9ix7 XuVdiGnKPYJ50glP6E5B60RJzTejyzpsJ+7Sn6k9hhRES+cXDL5j5UPUqqGWNlGH6f4u nxFj/32oU9IzCPna7o+oKz9hhm+18zAvIbqmZ3qq5fE0w87FqJfEuI474tbDtg+fR/Wu lx5A== X-Gm-Message-State: AOJu0Yy1G+m5hJ1zW56NGpodt1NwevGGL5e4UyPFFH0kOMVa7mb6BGfm iIgDGuQgrgBFNcP0dR8QObDregHQyfYrUGGrgKD0d/zcovYELD18ny68/AreqQw1pVWbnaxoHjl MEkJphjIEIO16b3t6ct2PiwQvE8CJwdKbuMUJabGs2cu9zAnI77a+lFJF X-Gm-Gg: ASbGncuHng1wld11E6B4ho7qZTpj+9aO6tab0K1YJEcqMdQVCyetzvPxoiyg6T8lVgN AMlA4zJBp6v8W5+xwhuPIeQFrB7sQMjy0x1SPhVvxcYSmyRt6Eu/OOtN363FUa8vjgnYuK7/D/K CgS58pcdbcdTVsOyGtjHluavrV8DtHk/+7QkTI3zirPgy/c90sf+6Ghv+ghH61ShU7rPpCM4WuX 5O+PjkQvDCNvGnSE7mIilHjzo3lkgKY7Ikh0gf8iI3HWKlwUHbBpzdIVz95XpBz4YMF2s2Mscfu CVI9SUd2htIJHrqJt1zfqzm8YSrVG6bFCToD X-Google-Smtp-Source: AGHT+IHUK34I/r1RtPPhzdzGhUcFOgpB1DIdA5bABiSzWilbQFGgppOX3ujtxkbsZ5A+3HpPmPoOGKzKHRcu X-Received: by 2002:a05:620a:800b:b0:7c5:a513:1fd2 with SMTP id af79cd13be357-7cae3a88565mr1554745585a.6.1746493646777; Mon, 05 May 2025 18:07:26 -0700 (PDT) Received: from postal.iol.unh.edu (postal.iol.unh.edu. [2606:4100:3880:1234::84]) by smtp-relay.gmail.com with ESMTPS id af79cd13be357-7cad23fd986sm127916085a.3.2025.05.05.18.07.26 (version=TLS1_2 cipher=ECDHE-ECDSA-AES128-GCM-SHA256 bits=128/128); Mon, 05 May 2025 18:07:26 -0700 (PDT) X-Relaying-Domain: iol.unh.edu Date: Mon, 05 May 2025 18:07:26 -0700 (PDT) Message-ID: <681960ce.050a0220.5acfd.df03SMTPIN_ADDED_MISSING@mx.google.com> Received: from [172.21.0.15] (unknown [172.18.0.240]) by postal.iol.unh.edu (Postfix) with ESMTP id 7510E6052471; Mon, 5 May 2025 21:07:26 -0400 (EDT) Subject: |SUCCESS| pw153301 [PATCH] doc: update parameters to use for mlx5 on From: dpdklab@iol.unh.edu To: Test Report Cc: dpdk-test-reports@iol.unh.edu In-Reply-To: <1746458561-13525-1-git-send-email-andremue@linux.microsoft.com> References: <1746458561-13525-1-git-send-email-andremue@linux.microsoft.com> Content-Type: text/plain X-BeenThere: test-report@dpdk.org X-Mailman-Version: 2.1.29 Precedence: list List-Id: automatic DPDK test reports List-Unsubscribe: , List-Archive: List-Post: List-Help: List-Subscribe: , Errors-To: test-report-bounces@dpdk.org Test-Label: iol-abi-testing Test-Status: SUCCESS http://dpdk.org/patch/153301 _Testing PASS_ Submitter: Andre Muezerie Date: Monday, May 05 2025 15:22:41 DPDK git baseline: Repo:dpdk Branch: master CommitID:edd3f4b1265e6da707c46ca9b6c39d332647baea 153301 --> testing pass Upstream job id: Generic-DPDK-Compile-ABI#125337 Test environment and result as below: +-------------------+----------+ | Environment | abi_test | +===================+==========+ | CentOS Stream 10 | PASS | +-------------------+----------+ | Debian 12 | PASS | +-------------------+----------+ | CentOS Stream 9 | PASS | +-------------------+----------+ | RHEL8 | PASS | +-------------------+----------+ | Fedora 40 | PASS | +-------------------+----------+ | Fedora 41 (Clang) | PASS | +-------------------+----------+ | Fedora 41 | PASS | +-------------------+----------+ | RHEL9 | PASS | +-------------------+----------+ | Fedora 40 (Clang) | PASS | +-------------------+----------+ | openSUSE Leap 15 | PASS | +-------------------+----------+ | Ubuntu 24.04 | PASS | +-------------------+----------+ | Ubuntu 22.04 | PASS | +-------------------+----------+ CentOS Stream 10 Kernel: Depends on container host Compiler: gcc 14.2.1 20241104 (Red Hat 14.2.1-6) Debian 12 Kernel: Depends on container host Compiler: gcc (Debian 12.2.0-14) 12.2.0 CentOS Stream 9 Kernel: Depends on container host Compiler: gcc 11.5.0 20240719 (Red Hat 11.5.0-2) RHEL8 Kernel: Depends on container host Compiler: gcc 8.5.0 20210514 (Red Hat 8.5.0-22) Fedora 40 Kernel: Depends on container host Compiler: gcc 14.2.1 20240912 (Red Hat 14.2.1-3) Fedora 41 (Clang) Kernel: Depends on container host Compiler: clang 19.1.5 (Fedora 19.1.5-1.fc41) Fedora 41 Kernel: Depends on container host Compiler: gcc 14.2.1 20240912 (Red Hat 14.2.1-3) RHEL9 Kernel: Depends on container host Compiler: gcc 11.5.0 20240719 (Red Hat 11.5.0-2) Fedora 40 (Clang) Kernel: Depends on container host Compiler: clang 18.1.8 (Fedora 18.1.8-1.fc40) openSUSE Leap 15 Kernel: Depends on container host Compiler: gcc (SUSE Linux) 7.5.0 Ubuntu 24.04 Kernel: Depends on container host Compiler: gcc (Ubuntu 13.3.0-6ubuntu2~24.04) 13.3.0 Ubuntu 22.04 Kernel: Depends on container host Compiler: gcc (Ubuntu 11.4.0-1ubuntu1~22.04) 11.4.0 To view detailed results, visit: https://lab.dpdk.org/results/dashboard/patchsets/33114/ UNH-IOL DPDK Community Lab To manage your email subscriptions, visit: https://lab.dpdk.org/results/dashboard/preferences/subscriptions/