From mboxrd@z Thu Jan 1 00:00:00 1970 Return-Path: Received: from mails.dpdk.org (mails.dpdk.org [217.70.189.124]) by inbox.dpdk.org (Postfix) with ESMTP id 517B8466D1 for ; Tue, 6 May 2025 03:10:01 +0200 (CEST) Received: from mails.dpdk.org (localhost [127.0.0.1]) by mails.dpdk.org (Postfix) with ESMTP id 4C96A4025D; Tue, 6 May 2025 03:10:01 +0200 (CEST) Received: from mail-il1-f226.google.com (mail-il1-f226.google.com [209.85.166.226]) by mails.dpdk.org (Postfix) with ESMTP id 8267B4003C for ; Tue, 6 May 2025 03:10:00 +0200 (CEST) Received: by mail-il1-f226.google.com with SMTP id e9e14a558f8ab-3d948ce7d9dso17383565ab.2 for ; Mon, 05 May 2025 18:10:00 -0700 (PDT) DKIM-Signature: v=1; a=rsa-sha256; c=relaxed/relaxed; d=iol.unh.edu; s=unh-iol; t=1746493800; x=1747098600; darn=dpdk.org; h=references:in-reply-to:cc:to:from:subject:message-id:date:from:to :cc:subject:date:message-id:reply-to; bh=+bRnZIBx7tXv9YAPK+q8hmQMhksGxKpkBeyMgQ0ArBE=; b=a0HhisHcih4hDMol093yoYi2LpMzNoJq4sdooIuXlUImv6A+hDAA4bXuDY2QGp11C/ coXQtL+G2eklqukSAXcVjPXmaUAZ2FRPP0yDMz/h51Z4YJeRmCyFYtxBOxMHDsVk+Oei e9otKFYnaEK3/MyrigmYVqhC8vESWFVRjAsCY= X-Google-DKIM-Signature: v=1; a=rsa-sha256; c=relaxed/relaxed; d=1e100.net; s=20230601; t=1746493800; x=1747098600; h=references:in-reply-to:cc:to:from:subject:message-id:date :x-gm-message-state:from:to:cc:subject:date:message-id:reply-to; bh=+bRnZIBx7tXv9YAPK+q8hmQMhksGxKpkBeyMgQ0ArBE=; b=MlzI05wKulmWi/wnv3Z4h8n8mb2p+AhcVApaW7y4M0AmQU1us17Beej0o2+Ctb1l3K 6Bz0fn3un5b9XX19Hx4gHeN4kMFTos4VGczwRiqY09G8D2YDQTNe8iSuI2LGaE9cifEI Y84zjDjgWOEAdku1awpDUNSZ0fVyGXKzx0SvTP0lgyCb+JeRQf74NuwCZAR5Zg+Mj8gd 9riH12LAyir4hZy0Q1k+aK5Ew4Q5eJ1Wa6WM4QBAOZIq8Z6gdLVRXiCbzUVoNZhXWk1k nT2MlWWpgAVxYRnv8LyNxFbbSVcVqcO2QNWprJu4U2uvUaAB7pHjPyQACVMEf7IHfnMy SNyw== X-Gm-Message-State: AOJu0YyDkZRdcPbvspXm4vkRfryiHCw4/5kbds8Ja4DxfiVXtxiB9sYP O8Ie6UpS1ccInZmVccTMUqZKNM/tEAcVwPGBKf+TiN2v30vBVaO6c86GBBLy8qDLT/23dCgttYW /qgT2AkeE30KRjKO9WyrfgSK7pekboUq8NmhLXMEsGKuZNDNvOiMdNO1/ X-Gm-Gg: ASbGncuI5Q23lw2fRNaw6zI4xo+xD/n+anSgu5ZgC0+51AiWLWq1/spWH1WZthniNBH 11q8Z+EsVGne8T3hIrJV4UIBOegi1Oo509Nn3mdy55byqXjWlmFHbfEdGXAxTssng8pcPkxQ18K RFVTONsyK28iDKBj3Kk4ou+XM0qQAKYGQ62HVJ1YqJfxGv2iOVFwWhbks78Fx9fyh9ItGZ8YT/I qjyNV+kkOhyQx/fqI8fAykwBLdvmZJzuVyaJvqcUB/ycT1Q0Hl49dwPReR3gt9tXgYEznKkitYP sV58qjsTnBX6Qho4FYGPsxt8IzmuM3au9c1/ X-Google-Smtp-Source: AGHT+IHblmJ94ufBa2WgOIHvPkc3Bqb/uahlF13VMhhPJesXuNIwymkOZJdlsMvzGpAyQQDJ97lhz861qzPT X-Received: by 2002:a05:6e02:1b0a:b0:3d3:d994:e92e with SMTP id e9e14a558f8ab-3da5b31e5e4mr84361465ab.17.1746493799760; Mon, 05 May 2025 18:09:59 -0700 (PDT) Received: from postal.iol.unh.edu (postal.iol.unh.edu. [2606:4100:3880:1234::84]) by smtp-relay.gmail.com with ESMTPS id e9e14a558f8ab-3d975e34b6csm21642445ab.12.2025.05.05.18.09.59 (version=TLS1_2 cipher=ECDHE-ECDSA-AES128-GCM-SHA256 bits=128/128); Mon, 05 May 2025 18:09:59 -0700 (PDT) X-Relaying-Domain: iol.unh.edu Date: Mon, 05 May 2025 18:09:59 -0700 (PDT) Message-ID: <68196167.050a0220.28360d.72b1SMTPIN_ADDED_MISSING@mx.google.com> Received: from [172.21.0.14] (unknown [172.18.0.240]) by postal.iol.unh.edu (Postfix) with ESMTP id 6824C6052471; Mon, 5 May 2025 21:09:59 -0400 (EDT) Subject: |SUCCESS| pw153301 [PATCH] doc: update parameters to use for mlx5 on From: dpdklab@iol.unh.edu To: Test Report Cc: dpdk-test-reports@iol.unh.edu In-Reply-To: <1746458561-13525-1-git-send-email-andremue@linux.microsoft.com> References: <1746458561-13525-1-git-send-email-andremue@linux.microsoft.com> Content-Type: text/plain X-BeenThere: test-report@dpdk.org X-Mailman-Version: 2.1.29 Precedence: list List-Id: automatic DPDK test reports List-Unsubscribe: , List-Archive: List-Post: List-Help: List-Subscribe: , Errors-To: test-report-bounces@dpdk.org Test-Label: iol-abi-testing Test-Status: SUCCESS http://dpdk.org/patch/153301 _Testing PASS_ Submitter: Andre Muezerie Date: Monday, May 05 2025 15:22:41 DPDK git baseline: Repo:dpdk Branch: master CommitID:edd3f4b1265e6da707c46ca9b6c39d332647baea 153301 --> testing pass Upstream job id: Generic-DPDK-Compile-ABI#125338 Test environment and result as below: +-------------------+----------+ | Environment | abi_test | +===================+==========+ | CentOS Stream 10 | PASS | +-------------------+----------+ | Debian 12 | PASS | +-------------------+----------+ | CentOS Stream 9 | PASS | +-------------------+----------+ | RHEL8 | PASS | +-------------------+----------+ | Fedora 40 | PASS | +-------------------+----------+ | Fedora 41 (Clang) | PASS | +-------------------+----------+ | Fedora 41 | PASS | +-------------------+----------+ | RHEL9 | PASS | +-------------------+----------+ | Fedora 40 (Clang) | PASS | +-------------------+----------+ | openSUSE Leap 15 | PASS | +-------------------+----------+ | Ubuntu 24.04 | PASS | +-------------------+----------+ | Ubuntu 22.04 | PASS | +-------------------+----------+ CentOS Stream 10 Kernel: Depends on container host Compiler: gcc 14.2.1 20241104 (Red Hat 14.2.1-6) Debian 12 Kernel: Depends on container host Compiler: gcc (Debian 12.2.0-14) 12.2.0 CentOS Stream 9 Kernel: Depends on container host Compiler: gcc 11.5.0 20240719 (Red Hat 11.5.0-2) RHEL8 Kernel: Depends on container host Compiler: gcc 8.5.0 20210514 (Red Hat 8.5.0-22) Fedora 40 Kernel: Depends on container host Compiler: gcc 14.2.1 20240912 (Red Hat 14.2.1-3) Fedora 41 (Clang) Kernel: Depends on container host Compiler: clang 19.1.5 (Fedora 19.1.5-1.fc41) Fedora 41 Kernel: Depends on container host Compiler: gcc 14.2.1 20240912 (Red Hat 14.2.1-3) RHEL9 Kernel: Depends on container host Compiler: gcc 11.5.0 20240719 (Red Hat 11.5.0-2) Fedora 40 (Clang) Kernel: Depends on container host Compiler: clang 18.1.8 (Fedora 18.1.8-1.fc40) openSUSE Leap 15 Kernel: Depends on container host Compiler: gcc (SUSE Linux) 7.5.0 Ubuntu 24.04 Kernel: Depends on container host Compiler: gcc (Ubuntu 13.3.0-6ubuntu2~24.04) 13.3.0 Ubuntu 22.04 Kernel: Depends on container host Compiler: gcc (Ubuntu 11.4.0-1ubuntu1~22.04) 11.4.0 To view detailed results, visit: https://lab.dpdk.org/results/dashboard/patchsets/33114/ UNH-IOL DPDK Community Lab To manage your email subscriptions, visit: https://lab.dpdk.org/results/dashboard/preferences/subscriptions/