From mboxrd@z Thu Jan 1 00:00:00 1970 Return-Path: Received: from mails.dpdk.org (mails.dpdk.org [217.70.189.124]) by inbox.dpdk.org (Postfix) with ESMTP id 15916466D3 for ; Tue, 6 May 2025 04:38:58 +0200 (CEST) Received: from mails.dpdk.org (localhost [127.0.0.1]) by mails.dpdk.org (Postfix) with ESMTP id E09C74026D; Tue, 6 May 2025 04:38:57 +0200 (CEST) Received: from mail-io1-f100.google.com (mail-io1-f100.google.com [209.85.166.100]) by mails.dpdk.org (Postfix) with ESMTP id 2ECCB40150 for ; Tue, 6 May 2025 04:38:56 +0200 (CEST) Received: by mail-io1-f100.google.com with SMTP id ca18e2360f4ac-861b1f04b99so183761339f.0 for ; Mon, 05 May 2025 19:38:56 -0700 (PDT) DKIM-Signature: v=1; a=rsa-sha256; c=relaxed/relaxed; d=iol.unh.edu; s=unh-iol; t=1746499135; x=1747103935; darn=dpdk.org; h=references:in-reply-to:cc:to:from:subject:message-id:date:from:to :cc:subject:date:message-id:reply-to; bh=VzxJHjXRVyDrvYF04zzEI6NKKnqJBbCjQ2S9GAh2YWM=; b=F3Yeth5OFIkYhpLya3xIDQl+NKPQaFBewV1zlCszgENXwm8dDw+/djg/MUupK8KK0E nAOGfeAudqcWq/M3t7TJEkhpkqJGgOXyCsXkhaDDcbOXgcczpJM2JjgHzfWNg0GoAx/l PAhEcfFU/BrPN4e29oit/bpcIG3lc0xBF807I= X-Google-DKIM-Signature: v=1; a=rsa-sha256; c=relaxed/relaxed; d=1e100.net; s=20230601; t=1746499135; x=1747103935; h=references:in-reply-to:cc:to:from:subject:message-id:date :x-gm-message-state:from:to:cc:subject:date:message-id:reply-to; bh=VzxJHjXRVyDrvYF04zzEI6NKKnqJBbCjQ2S9GAh2YWM=; b=VcNi5/L69CWMI+bJw4pD4GG6PcTfCEGKc1x5dmpZ/qJsyHwOlJE16W0utKP016UL/s EjCuzu4/GXGn0G4FGytfSTBm748zm02BMlslvLxdnJ8bvtdstv3k5DTIVGbMc/+Pfv28 v5vyJXJd8CAIec3sDn01f3vn1iP3anKcfl7jFaG7vGjI1TSPDruq991BzRnaXMGyWSDl m75nTRGIwZ+mPRBMoTDIEnwHwE6O/tX4kzJhnn6PSslwtOslGUz59jxf+GEXldTGp+yQ HzHGY0HkIRUe+a4GpkYD8J0yfNe4V7FXNwbk8vinCCiFGXgFc+UKaR8835iV4Da7L72X 1aVA== X-Gm-Message-State: AOJu0Yy05480KfPq9fdcMG+oeFHK/62kOUWEx2dR7icO0MCzgOr6Mu8n O2c1VEhFV4Mk//F561A77ZzYcejNUBpSKpXqgphFkiv32liVTm8wsXmXiD+TvHYz3kXQjJUH6Cl +puc/TRwFRpalkGFr2XEByLRm0idhq45hxucNyYAJ X-Gm-Gg: ASbGncvFGBUtwu6Lb04V669MXcTDytaXOdAWhyWUkr0RcyeKaFV7XSzP0kzi+enZBDm ezvU7pxK1PDS86XLL+rP62rM7lJ+BazXYXKx1fyUvvIYCamXkDEXSyMP2XwYqd6kCWWm2vjaPTj A9ZvzLK/aQW+XbGYp3AtTnvXQgiArcdJUnJ4/UXaemEk253VLA7Q4TddaszHL8SJGFhukO27lFi 24rPsnGpM3cjlFKOCY6/LUVn4eAsdhkuU8cDJKgVX2tO+m6wQOcPpw9ejtNRhal+EY6mXNBxN/h YUH+xj2d8Hg8lddlYM+PK9AVd/BG/Sky9g6pb46qemjIm1khdm1sQAnpCLs= X-Google-Smtp-Source: AGHT+IG7xv+iQpmh52LP/4x83lX+qJymcqTT512UW+vQ6dxAq938QmG8EwyZLTlrsIYLCqGmic5B17QWPWWb X-Received: by 2002:a05:6e02:3c89:b0:3d4:3ab3:daf0 with SMTP id e9e14a558f8ab-3da5b275e97mr103214545ab.7.1746499135140; Mon, 05 May 2025 19:38:55 -0700 (PDT) Received: from postal.iol.unh.edu (postal.iol.unh.edu. [132.177.123.84]) by smtp-relay.gmail.com with ESMTPS id 8926c6da1cb9f-4f88aa9fd3bsm2033726173.71.2025.05.05.19.38.55 (version=TLS1_2 cipher=ECDHE-ECDSA-AES128-GCM-SHA256 bits=128/128); Mon, 05 May 2025 19:38:55 -0700 (PDT) X-Relaying-Domain: iol.unh.edu Date: Mon, 05 May 2025 19:38:55 -0700 (PDT) Message-ID: <6819763f.050a0220.2f4b8.7608SMTPIN_ADDED_MISSING@mx.google.com> Received: from [172.21.0.14] (unknown [172.18.0.240]) by postal.iol.unh.edu (Postfix) with ESMTP id 9A8E16052471; Mon, 5 May 2025 22:38:54 -0400 (EDT) Subject: |SUCCESS| pw153294 [PATCH] [1/1] net/nbl add doc and minimun nbl bui From: dpdklab@iol.unh.edu To: Test Report Cc: dpdk-test-reports@iol.unh.edu In-Reply-To: <20250424114919.10349-1-kyo.liu@nebula-matrix.com> References: <20250424114919.10349-1-kyo.liu@nebula-matrix.com> Content-Type: text/plain X-BeenThere: test-report@dpdk.org X-Mailman-Version: 2.1.29 Precedence: list List-Id: automatic DPDK test reports List-Unsubscribe: , List-Archive: List-Post: List-Help: List-Subscribe: , Errors-To: test-report-bounces@dpdk.org Test-Label: iol-sample-apps-testing Test-Status: SUCCESS http://dpdk.org/patch/153294 _Testing PASS_ Submitter: Kyo Liu Date: Thursday, April 24 2025 11:49:19 DPDK git baseline: Repo:dpdk Branch: master CommitID:ff05ee3e3f8fb4ce958a2ce6461e8141aea959c6 153294 --> testing pass Upstream job id: ACVP-FIPS-testing#9713 Test environment and result as below: +--------------------+----------------------+----------------------+ | Environment | compressdev_zlib_pmd | dpdk_fips_validation | +====================+======================+======================+ | Ubuntu 22.04 (ARM) | PASS | SKIPPED | +--------------------+----------------------+----------------------+ | Ubuntu 22.04 | PASS | SKIPPED | +--------------------+----------------------+----------------------+ | Ubuntu 20.04 | SKIPPED | PASS | +--------------------+----------------------+----------------------+ Ubuntu 22.04 (ARM) Kernel: 5.15.0-97-generic Compiler: gcc gcc (Ubuntu 11.4.0-1ubuntu1~22.04) 11.4.0 Ubuntu 22.04 Kernel: 5.15.0-100-generic Compiler: gcc gcc (Ubuntu 11.4.0-1ubuntu1~22.04) 11.4.0 Ubuntu 20.04 Kernel: Depends on container host Compiler: gcc (Ubuntu 9.4.0-1ubuntu1~20.04.2) 9.4.0 To view detailed results, visit: https://lab.dpdk.org/results/dashboard/patchsets/33107/ UNH-IOL DPDK Community Lab To manage your email subscriptions, visit: https://lab.dpdk.org/results/dashboard/preferences/subscriptions/