From mboxrd@z Thu Jan 1 00:00:00 1970 Return-Path: Received: from mails.dpdk.org (mails.dpdk.org [217.70.189.124]) by inbox.dpdk.org (Postfix) with ESMTP id E5BF0466D3 for ; Tue, 6 May 2025 05:23:58 +0200 (CEST) Received: from mails.dpdk.org (localhost [127.0.0.1]) by mails.dpdk.org (Postfix) with ESMTP id AE3A44026D; Tue, 6 May 2025 05:23:58 +0200 (CEST) Received: from mail-io1-f100.google.com (mail-io1-f100.google.com [209.85.166.100]) by mails.dpdk.org (Postfix) with ESMTP id AFEDF40150 for ; Tue, 6 May 2025 05:23:56 +0200 (CEST) Received: by mail-io1-f100.google.com with SMTP id ca18e2360f4ac-861525e9b0aso465252039f.3 for ; Mon, 05 May 2025 20:23:56 -0700 (PDT) DKIM-Signature: v=1; a=rsa-sha256; c=relaxed/relaxed; d=iol.unh.edu; s=unh-iol; t=1746501836; x=1747106636; darn=dpdk.org; h=references:in-reply-to:cc:to:from:subject:message-id:date:from:to :cc:subject:date:message-id:reply-to; bh=q+NWfkAb3uLXxEp1qKDS+57ReR76M1BdG+sSXR2Yxs0=; b=UlWMuPKSjan9GpSHn0fSgfrs8y3EB9ykyqsXyYa7zYgRQl4Jpp+44MddLOkofqYxZw qeha9gOQsFcETnXR5eONx3FIJcBaedYa3vdiPLMVOFvinNcmv1aYo38BslzVdg2SrS43 oAwYsPWSVoA7jDk/uU3fO8wCCULjrz7OfwlSE= X-Google-DKIM-Signature: v=1; a=rsa-sha256; c=relaxed/relaxed; d=1e100.net; s=20230601; t=1746501836; x=1747106636; h=references:in-reply-to:cc:to:from:subject:message-id:date :x-gm-message-state:from:to:cc:subject:date:message-id:reply-to; bh=q+NWfkAb3uLXxEp1qKDS+57ReR76M1BdG+sSXR2Yxs0=; b=rWXjDTAnl5Sybyvams+n+wsickrRZeJStvdWqLvFLQVlUGL9N1SmjZlnLUpHj0WOHd OUW6mceFsVecqrjgMpHMSzkndK5+A8fCAdYfoteTAWiQgDoPo764EPV/etHfbSveQvFP YQZzYgCJwlddh8DoCqZDLbxnJPebEkihNFsemRMylieioy9GL0hkqvyCcjHZHIE7PpwR 2CW394Odukgv3lr5B7LLCejxIk2p796EZe5bw/DzYgYW+WQmiQySziVLJpZIo9bTFzXk hfcMY3wAcS5Bpszf8U9wWMUK+bn9lD/4FCR4mkiobx29P4a9khEO0gmeOhUSo6jvDXkG gnIQ== X-Gm-Message-State: AOJu0YxnOOH4YVoT4u1RRJw2f6e1ZVYiF2C2Rf2jlFtTTocNhqHS31rS 21nLpBDg7NMoJT+x1UQlg7KXN6CxRsWIkuoDUvWjoUu+ZKFnf1PRbw61ZbUwVam1A79JNnfvHMm A1h2Gl5bqhrO1oWn5TLuUS87ZNHmotZx6I2n7MkJkGW2IIIDn6kspvdC9 X-Gm-Gg: ASbGncuwJDXBTTPUFRd2Y0AyHMEKDFy5L0b7rxDLCBW0cId2Brihmrjn53yJIRQbnNn STOd3qEa2rGkFBOQvsagRezgTsNvAZ5Qczp5iPToXme9ZHIRFRDKB7azwKoXQ2DtmNWUyYvaGk/ nG1sE+5pDSD34uI2nuUwstYltvrPslailU2aEslfk1z0DVmXBiN/tsldxH/8dMVDMZbH0olKi0h apoaMHfpz4AttoA0TK5KvXIaNld65tnpCQiF3tC9LFFhzfUb81COTblnoLukxUbLcsgI3Cm8/Vc O7nF4ChHz01hWzoMz34UmQX9EUZBVcfJUId0 X-Google-Smtp-Source: AGHT+IE2kqXjtjP2QsZRje5zb6ZA1M4erKt9rYovnZtC5qEBdfxPhezOr5Dw5IANGTWkrIKKO2UYRcBRD/h7 X-Received: by 2002:a05:6602:2d8d:b0:867:17a6:9fd2 with SMTP id ca18e2360f4ac-86717a6a005mr892028839f.9.1746501836034; Mon, 05 May 2025 20:23:56 -0700 (PDT) Received: from postal.iol.unh.edu (postal.iol.unh.edu. [2606:4100:3880:1234::84]) by smtp-relay.gmail.com with ESMTPS id 8926c6da1cb9f-4f88a940669sm1994583173.37.2025.05.05.20.23.55 (version=TLS1_2 cipher=ECDHE-ECDSA-AES128-GCM-SHA256 bits=128/128); Mon, 05 May 2025 20:23:56 -0700 (PDT) X-Relaying-Domain: iol.unh.edu Date: Mon, 05 May 2025 20:23:56 -0700 (PDT) Message-ID: <681980cc.050a0220.867f8.7933SMTPIN_ADDED_MISSING@mx.google.com> Received: from [172.21.0.6] (unknown [172.18.0.240]) by postal.iol.unh.edu (Postfix) with ESMTP id 822D06052471; Mon, 5 May 2025 23:23:55 -0400 (EDT) Subject: |SUCCESS| pw153301 [PATCH] doc: update parameters to use for mlx5 on From: dpdklab@iol.unh.edu To: Test Report Cc: dpdk-test-reports@iol.unh.edu In-Reply-To: <1746458561-13525-1-git-send-email-andremue@linux.microsoft.com> References: <1746458561-13525-1-git-send-email-andremue@linux.microsoft.com> Content-Type: text/plain X-BeenThere: test-report@dpdk.org X-Mailman-Version: 2.1.29 Precedence: list List-Id: automatic DPDK test reports List-Unsubscribe: , List-Archive: List-Post: List-Help: List-Subscribe: , Errors-To: test-report-bounces@dpdk.org Test-Label: iol-unit-arm64-testing Test-Status: SUCCESS http://dpdk.org/patch/153301 _Testing PASS_ Submitter: Andre Muezerie Date: Monday, May 05 2025 15:22:41 DPDK git baseline: Repo:dpdk Branch: master CommitID:edd3f4b1265e6da707c46ca9b6c39d332647baea 153301 --> testing pass Upstream job id: Generic-Unit-Test-DPDK#335552 Test environment and result as below: +-----------------------------+--------------+---------------------------+------------------------------+----------------+ | Environment | lpm_autotest | cryptodev_sw_zuc_autotest | cryptodev_sw_snow3g_autotest | dpdk_unit_test | +=============================+==============+===========================+==============================+================+ | Ubuntu 20.04 ARM SVE | PASS | SKIPPED | SKIPPED | SKIPPED | +-----------------------------+--------------+---------------------------+------------------------------+----------------+ | Debian 12 (arm) | SKIPPED | PASS | PASS | PASS | +-----------------------------+--------------+---------------------------+------------------------------+----------------+ | CentOS Stream 9 (ARM) | SKIPPED | SKIPPED | SKIPPED | PASS | +-----------------------------+--------------+---------------------------+------------------------------+----------------+ | CentOS Stream 10 (ARM) | SKIPPED | SKIPPED | SKIPPED | PASS | +-----------------------------+--------------+---------------------------+------------------------------+----------------+ | Fedora 40 (ARM) | SKIPPED | SKIPPED | SKIPPED | PASS | +-----------------------------+--------------+---------------------------+------------------------------+----------------+ | Fedora 40 (ARM Clang) | SKIPPED | SKIPPED | SKIPPED | PASS | +-----------------------------+--------------+---------------------------+------------------------------+----------------+ | Fedora 41 (ARM Clang) | SKIPPED | SKIPPED | SKIPPED | PASS | +-----------------------------+--------------+---------------------------+------------------------------+----------------+ | Fedora 41 (ARM) | SKIPPED | SKIPPED | SKIPPED | PASS | +-----------------------------+--------------+---------------------------+------------------------------+----------------+ | Ubuntu 22.04 (ARM) | SKIPPED | SKIPPED | SKIPPED | PASS | +-----------------------------+--------------+---------------------------+------------------------------+----------------+ | RHEL9 (ARM) | SKIPPED | SKIPPED | SKIPPED | PASS | +-----------------------------+--------------+---------------------------+------------------------------+----------------+ | Ubuntu 20.04 (ARM) | SKIPPED | SKIPPED | SKIPPED | PASS | +-----------------------------+--------------+---------------------------+------------------------------+----------------+ | Ubuntu 24.04 (ARM) | SKIPPED | SKIPPED | SKIPPED | PASS | +-----------------------------+--------------+---------------------------+------------------------------+----------------+ | 32-bit Ubuntu 22.04.4 (ARM) | SKIPPED | SKIPPED | SKIPPED | PASS | +-----------------------------+--------------+---------------------------+------------------------------+----------------+ Ubuntu 20.04 ARM SVE Kernel: Depends on container host Compiler: gcc (Ubuntu 10.5.0-1ubuntu1~20.04) 10.5.0 Debian 12 (arm) Kernel: Depends on container host Compiler: gcc (Debian 12.2.0-14) 12.2.0 CentOS Stream 9 (ARM) Kernel: Depends on container host Compiler: gcc 11.5.0 20240719 (Red Hat 11.5.0-2) CentOS Stream 10 (ARM) Kernel: Depends on container host Compiler: gcc 14.2.1 20241104 (Red Hat 14.2.1-6) Fedora 40 (ARM) Kernel: Depends on container host Compiler: gcc 14.2.1 20240912 (Red Hat 14.2.1-3) Fedora 40 (ARM Clang) Kernel: Depends on container host Compiler: clang 18.1.8 (Fedora 18.1.8-1.fc40) Fedora 41 (ARM Clang) Kernel: Depends on container host Compiler: clang 19.1.5 (Fedora 19.1.5-1.fc41) Fedora 41 (ARM) Kernel: Depends on container host Compiler: gcc 14.2.1 20240912 (Red Hat 14.2.1-3) Ubuntu 22.04 (ARM) Kernel: Depends on container host Compiler: gcc (Ubuntu 11.4.0-1ubuntu1~22.04) 11.4.0 RHEL9 (ARM) Kernel: Depends on container host Compiler: gcc 11.5.0 20240719 (Red Hat 11.5.0-2) Ubuntu 20.04 (ARM) Kernel: Depends on container host Compiler: gcc (Ubuntu 9.4.0-1ubuntu1~20.04.2) 9.4.0 Ubuntu 24.04 (ARM) Kernel: Depends on container host Compiler: gcc (Ubuntu 13.3.0-6ubuntu2~24.04) 13.3.0 32-bit Ubuntu 22.04.4 (ARM) Kernel: 5.15.83+ aarch64 Compiler: gcc (Ubuntu 11.4.0-1ubuntu1~22.04) 11.4.0 To view detailed results, visit: https://lab.dpdk.org/results/dashboard/patchsets/33114/ UNH-IOL DPDK Community Lab To manage your email subscriptions, visit: https://lab.dpdk.org/results/dashboard/preferences/subscriptions/