From mboxrd@z Thu Jan 1 00:00:00 1970 Return-Path: Received: from mails.dpdk.org (mails.dpdk.org [217.70.189.124]) by inbox.dpdk.org (Postfix) with ESMTP id CD435466D3 for ; Tue, 6 May 2025 05:33:18 +0200 (CEST) Received: from mails.dpdk.org (localhost [127.0.0.1]) by mails.dpdk.org (Postfix) with ESMTP id A4E7D4026D; Tue, 6 May 2025 05:33:18 +0200 (CEST) Received: from mail-yb1-f228.google.com (mail-yb1-f228.google.com [209.85.219.228]) by mails.dpdk.org (Postfix) with ESMTP id 2060140150 for ; Tue, 6 May 2025 05:33:17 +0200 (CEST) Received: by mail-yb1-f228.google.com with SMTP id 3f1490d57ef6-e637edaa652so3952633276.1 for ; Mon, 05 May 2025 20:33:17 -0700 (PDT) DKIM-Signature: v=1; a=rsa-sha256; c=relaxed/relaxed; d=iol.unh.edu; s=unh-iol; t=1746502396; x=1747107196; darn=dpdk.org; h=references:in-reply-to:cc:to:from:subject:message-id:date:from:to :cc:subject:date:message-id:reply-to; bh=lJ/60mIATB9k9BGw6LE8WZqVcdQX3driasA0FGVKgOU=; b=RdcNzCYvSgzhjSksZ/KabAuhjYmkOFIblf5OVx/NxFNpUnuehBVrrNuD2aGFhfeS3m q24l/k37voDdCsmyicJlbrwYV18BO6Ri+fY6uouVmf53Az97Md8vkbcAMVXpvK/MnfBI ARZJ41UQGXX0hlQkMRYFu0ioaNhYHV/OGh3BY= X-Google-DKIM-Signature: v=1; a=rsa-sha256; c=relaxed/relaxed; d=1e100.net; s=20230601; t=1746502396; x=1747107196; h=references:in-reply-to:cc:to:from:subject:message-id:date :x-gm-message-state:from:to:cc:subject:date:message-id:reply-to; bh=lJ/60mIATB9k9BGw6LE8WZqVcdQX3driasA0FGVKgOU=; b=eZFqKFEFMtMwRmPg1aVKItBJC9O56ANR1WxzNyQmiDJYhx5GMTerMvP7VCREZTmE1p SUCAfLGdGg1X+/94BF6WPiqcltKnDZli9dwe5nLxsHUj4Hb4ZhdNpA4CKOyc9/nsCSsK KD7B8S4/TiNP8yX4QmJ0iwH/I9pqqxlW6apwSQiHEi/Hal+JqjfBVAjh1pWBDX940pY9 INQ4tjoaE53Tc4QVGKLNPlj6V4zqWXlDV3VfzNXESl6P/7cXwWAN0TNWBxRqmrYcCrbA CTaW6zBYJX8YOVxDlq8Pi6LBCpzWnmHp5Qw/oQCvFsTPEmCz1GeTIlyzqZqNBNfjJy1c jd5Q== X-Gm-Message-State: AOJu0YywZ4GgmpCLmUwDKsAPcFv1zId6UJCULVyOppflO1ffY5CpeWLs kgtJ7yE8zGj4/xWMdj8t4DxUYKNiWIR0dD+sBh6kZT/gIg6NCRrolvrzaW2JZSPLazzc6rEg5Mb Qv6cJ+1hmeqNniR0EGtHZuyD0hmnUsDSJKuqfApzMwo3yUbcJDVCZAhWi X-Gm-Gg: ASbGncuoKX0xDgzIUPnT09xzr2h65g5X3okNIRA0GP63hKjePaE6OEfwtV13pOJWak7 tTu+7mEmvQS1I9GmZg2ElPY6GZ73WVVxTi2luI/osjICdVyLHSxXfYbQNdu09AuhzbDR07o4BQf /Oa3SLxXevCPv2q/E7fcr1J/qxlJF0D2WZSKBJs2yZAU5Yf/CINmZAix2xTK8LPmjLNjayNecB7 444OlT1yK4PokTAwwpJ6x9utJl7JHSZwy7kUSRzxDC2vx9Fy8N0vY429qrRlOYWs2EIGvN5QuWx CrAspfz5GuOFy6PfmuPEx98/VcvvXVzSIjh8 X-Google-Smtp-Source: AGHT+IErPQRCkL9uJbO37MvGg+Cr/dQpBVuqoCj2WhgvEjjWRaX47+FKO2Hsha2+aM/wgtPLwvRSB42/Hh70 X-Received: by 2002:a05:6902:15ce:b0:e73:2e2e:69c with SMTP id 3f1490d57ef6-e757d0c3e8amr11778334276.8.1746502396427; Mon, 05 May 2025 20:33:16 -0700 (PDT) Received: from postal.iol.unh.edu (postal.iol.unh.edu. [2606:4100:3880:1234::84]) by smtp-relay.gmail.com with ESMTPS id 3f1490d57ef6-e755e79e269sm1616814276.22.2025.05.05.20.33.16 (version=TLS1_2 cipher=ECDHE-ECDSA-AES128-GCM-SHA256 bits=128/128); Mon, 05 May 2025 20:33:16 -0700 (PDT) X-Relaying-Domain: iol.unh.edu Date: Mon, 05 May 2025 20:33:16 -0700 (PDT) Message-ID: <681982fc.050a0220.151524.bc83SMTPIN_ADDED_MISSING@mx.google.com> Received: from [172.21.0.15] (unknown [172.18.0.240]) by postal.iol.unh.edu (Postfix) with ESMTP id 1A7226052471; Mon, 5 May 2025 23:33:16 -0400 (EDT) Subject: |SUCCESS| pw153296 [PATCH] [1/1] net/mlx5: unresolved symbol mlx5_ge From: dpdklab@iol.unh.edu To: Test Report Cc: dpdk-test-reports@iol.unh.edu In-Reply-To: <1746456337-6278-2-git-send-email-andremue@linux.microsoft.com> References: <1746456337-6278-2-git-send-email-andremue@linux.microsoft.com> Content-Type: text/plain X-BeenThere: test-report@dpdk.org X-Mailman-Version: 2.1.29 Precedence: list List-Id: automatic DPDK test reports List-Unsubscribe: , List-Archive: List-Post: List-Help: List-Subscribe: , Errors-To: test-report-bounces@dpdk.org Test-Label: iol-unit-amd64-testing Test-Status: SUCCESS http://dpdk.org/patch/153296 _Testing PASS_ Submitter: Andre Muezerie Date: Monday, May 05 2025 14:45:37 DPDK git baseline: Repo:dpdk Branch: master CommitID:edd3f4b1265e6da707c46ca9b6c39d332647baea 153296 --> testing pass Upstream job id: Generic-VM-Unit-Test-DPDK#28333 Test environment and result as below: +---------------------+----------------+ | Environment | dpdk_unit_test | +=====================+================+ | CentOS Stream 9 | PASS | +---------------------+----------------+ | Fedora 41 | PASS | +---------------------+----------------+ | Debian 12 | PASS | +---------------------+----------------+ | CentOS Stream 10 | PASS | +---------------------+----------------+ | Fedora 40 (Clang) | PASS | +---------------------+----------------+ | Fedora 40 | PASS | +---------------------+----------------+ | RHEL9 | PASS | +---------------------+----------------+ | RHEL8 | PASS | +---------------------+----------------+ | Fedora 41 (Clang) | PASS | +---------------------+----------------+ | Ubuntu 24.04 | PASS | +---------------------+----------------+ | Ubuntu 22.04 | PASS | +---------------------+----------------+ | Ubuntu 20.04 | PASS | +---------------------+----------------+ | Windows Server 2022 | PASS | +---------------------+----------------+ CentOS Stream 9 Kernel: Depends on container host Compiler: gcc 11.5.0 20240719 (Red Hat 11.5.0-2) Fedora 41 Kernel: Depends on container host Compiler: gcc 14.2.1 20240912 (Red Hat 14.2.1-3) Debian 12 Kernel: Depends on container host Compiler: gcc (Debian 12.2.0-14) 12.2.0 CentOS Stream 10 Kernel: Depends on container host Compiler: gcc 14.2.1 20241104 (Red Hat 14.2.1-6) Fedora 40 (Clang) Kernel: Depends on container host Compiler: clang 18.1.8 (Fedora 18.1.8-1.fc40) Fedora 40 Kernel: Depends on container host Compiler: gcc 14.2.1 20240912 (Red Hat 14.2.1-3) RHEL9 Kernel: Depends on container host Compiler: gcc 11.5.0 20240719 (Red Hat 11.5.0-2) RHEL8 Kernel: Depends on container host Compiler: gcc 8.5.0 20210514 (Red Hat 8.5.0-22) Fedora 41 (Clang) Kernel: Depends on container host Compiler: clang 19.1.5 (Fedora 19.1.5-1.fc41) Ubuntu 24.04 Kernel: Depends on container host Compiler: gcc (Ubuntu 13.3.0-6ubuntu2~24.04) 13.3.0 Ubuntu 22.04 Kernel: Depends on container host Compiler: gcc (Ubuntu 11.4.0-1ubuntu1~22.04) 11.4.0 Ubuntu 20.04 Kernel: Depends on container host Compiler: gcc (Ubuntu 9.4.0-1ubuntu1~20.04.2) 9.4.0 Windows Server 2022 Kernel: 10.0.20348.2031 Compiler: clang 15.0.7, gcc 14.1.0 (MinGW), and MSVC VS 19.39.33521 To view detailed results, visit: https://lab.dpdk.org/results/dashboard/patchsets/33109/ UNH-IOL DPDK Community Lab To manage your email subscriptions, visit: https://lab.dpdk.org/results/dashboard/preferences/subscriptions/