From mboxrd@z Thu Jan 1 00:00:00 1970 Return-Path: Received: from mails.dpdk.org (mails.dpdk.org [217.70.189.124]) by inbox.dpdk.org (Postfix) with ESMTP id DFE9A466D3 for ; Tue, 6 May 2025 05:54:35 +0200 (CEST) Received: from mails.dpdk.org (localhost [127.0.0.1]) by mails.dpdk.org (Postfix) with ESMTP id A7E3B4026D; Tue, 6 May 2025 05:54:35 +0200 (CEST) Received: from mail-il1-f228.google.com (mail-il1-f228.google.com [209.85.166.228]) by mails.dpdk.org (Postfix) with ESMTP id 2EEED40150 for ; Tue, 6 May 2025 05:54:34 +0200 (CEST) Received: by mail-il1-f228.google.com with SMTP id e9e14a558f8ab-3d81cba18e1so38820605ab.3 for ; Mon, 05 May 2025 20:54:34 -0700 (PDT) DKIM-Signature: v=1; a=rsa-sha256; c=relaxed/relaxed; d=iol.unh.edu; s=unh-iol; t=1746503673; x=1747108473; darn=dpdk.org; h=references:in-reply-to:cc:to:from:subject:message-id:date:from:to :cc:subject:date:message-id:reply-to; bh=Ozi6RKlhCniSyH5T6gZRYaWjQO1j+jVoh5FxKlex6t8=; b=F2nP3luW4YgtMEIDCK7t7kgYMRdbSmj2bYdEPrQmYvwMecvyytG7ELzbnYS8m4Dltp XeN7BHwLwXglwJMSUt9IWuip35pFH81X+G7d31ItICAjRZuyaF3czMbsC3g8hTAt1Qgc QDT/QF8N+l9GQxakLhc+M4yOTWgq8cjHwc4uE= X-Google-DKIM-Signature: v=1; a=rsa-sha256; c=relaxed/relaxed; d=1e100.net; s=20230601; t=1746503673; x=1747108473; h=references:in-reply-to:cc:to:from:subject:message-id:date :x-gm-message-state:from:to:cc:subject:date:message-id:reply-to; bh=Ozi6RKlhCniSyH5T6gZRYaWjQO1j+jVoh5FxKlex6t8=; b=mHpjYnUYXDAbUcIODtKHMuw5+S8haVhj+CUB5ERxa/5TgmBQZq8qmtE+nH/bv3kpNQ oIvmeVEH9H+Xv9ANJ/+fK6Lvbe+lqOfPUs8EeG7umrGQlM1mlwSj5lMPNwiNslUK0x1p j5nA8gcTy+jSliSfBEssFr2XxrdSHNU0OWhHE+sNFCpIvo6qwD62U1FaqY7V3yVdo7Gm lwwsd6Tll/BdXchDlzKgN8GIb/blRBBL7sCZJCBJJq3zKjk85hdpNVYIfk2FTN0QRr1z wr8jpraOQ0UI4Sbu88Q4Qub8N7XDp36eGnuc3MuEN4TS/aKQG4Uvy5Iqwme4bvOTBIub +NLQ== X-Gm-Message-State: AOJu0YwQ25HAahbu5WrsxglM3OcVlrrcV4Rst/LHyQiQVnUUggEysibO 9ZtOFbq8jIdttCQshy5Vzdsgd/5tLXKDA2Qc+0zb9jiOIwIB4bf5YRG/Uv+gO53YV1EcA7S/xu7 +wa1QmmXDNt3vF99DMPagOaNCTE/JUEbBJTZAKN7gAa41cfE3Fhq6EA+v X-Gm-Gg: ASbGncvasBXUR1YZHJlDD0xcyFWVQGuk9ccT4IjuEzUdOonryOiSx58oPY/O1D7NCSz 9sbckG2F1q+uE9hSiP/EjXs/nfK+PH/p6XpHlWxA2jj4XR7MVVI443dvYYQG6Y72XBipXZOAphX QTPzVdFDpHgq5YF9USPVWtmzKscWDfk+VULc43qgVfGBVvc4uuiowHxBoN4XmzmPWDOG+EbJMHX uwQ/5cqbqiaZdjzs/zdwe7yTaStzFJZm6dzyQvC4WSh94lnsc2crYGDcSUUiAwpOyZJjI4lNPHg qPKifSzJvwlCGAcjJVyZZ6OL8Y3XM2gwTbYt X-Google-Smtp-Source: AGHT+IFw7ZIkrSAk200ZybizcSKL7YS3PkZHhLXSk6lPNXIlQaM8RPWYUeyvUvtQQjwfeYfzZGAct0XkpewP X-Received: by 2002:a05:6e02:1889:b0:3d4:6ff4:2608 with SMTP id e9e14a558f8ab-3da5b2a3507mr116148885ab.12.1746503673479; Mon, 05 May 2025 20:54:33 -0700 (PDT) Received: from postal.iol.unh.edu (postal.iol.unh.edu. [2606:4100:3880:1234::84]) by smtp-relay.gmail.com with ESMTPS id 8926c6da1cb9f-4f88a91421esm2098959173.21.2025.05.05.20.54.33 (version=TLS1_2 cipher=ECDHE-ECDSA-AES128-GCM-SHA256 bits=128/128); Mon, 05 May 2025 20:54:33 -0700 (PDT) X-Relaying-Domain: iol.unh.edu Date: Mon, 05 May 2025 20:54:33 -0700 (PDT) Message-ID: <681987f9.050a0220.28730f.8c8dSMTPIN_ADDED_MISSING@mx.google.com> Received: from [172.21.0.18] (unknown [172.18.0.240]) by postal.iol.unh.edu (Postfix) with ESMTP id EA2126052471; Mon, 5 May 2025 23:54:32 -0400 (EDT) Subject: |SUCCESS| pw153300 [PATCH] net/mlx5: avoid implicit conversion to 64 From: dpdklab@iol.unh.edu To: Test Report Cc: dpdk-test-reports@iol.unh.edu In-Reply-To: <1746458202-12356-1-git-send-email-andremue@linux.microsoft.com> References: <1746458202-12356-1-git-send-email-andremue@linux.microsoft.com> Content-Type: text/plain X-BeenThere: test-report@dpdk.org X-Mailman-Version: 2.1.29 Precedence: list List-Id: automatic DPDK test reports List-Unsubscribe: , List-Archive: List-Post: List-Help: List-Subscribe: , Errors-To: test-report-bounces@dpdk.org Test-Label: iol-unit-amd64-testing Test-Status: SUCCESS http://dpdk.org/patch/153300 _Testing PASS_ Submitter: Andre Muezerie Date: Monday, May 05 2025 15:16:42 DPDK git baseline: Repo:dpdk Branch: master CommitID:ca1690ebd224f148268285b15b97441ccdbdd07e 153300 --> testing pass Upstream job id: Generic-Unit-Test-DPDK#335566 Test environment and result as below: +-------------------+----------------+ | Environment | dpdk_unit_test | +===================+================+ | CentOS Stream 10 | PASS | +-------------------+----------------+ | CentOS Stream 9 | PASS | +-------------------+----------------+ | Fedora 41 (Clang) | PASS | +-------------------+----------------+ | Fedora 41 | PASS | +-------------------+----------------+ | Fedora 40 (Clang) | PASS | +-------------------+----------------+ | Fedora 40 | PASS | +-------------------+----------------+ | Debian 12 | PASS | +-------------------+----------------+ | RHEL8 | PASS | +-------------------+----------------+ | Ubuntu 20.04 | PASS | +-------------------+----------------+ | RHEL9 | PASS | +-------------------+----------------+ | Ubuntu 22.04 | PASS | +-------------------+----------------+ | Ubuntu 24.04 | PASS | +-------------------+----------------+ CentOS Stream 10 Kernel: Depends on container host Compiler: gcc 14.2.1 20241104 (Red Hat 14.2.1-6) CentOS Stream 9 Kernel: Depends on container host Compiler: gcc 11.5.0 20240719 (Red Hat 11.5.0-2) Fedora 41 (Clang) Kernel: Depends on container host Compiler: clang 19.1.5 (Fedora 19.1.5-1.fc41) Fedora 41 Kernel: Depends on container host Compiler: gcc 14.2.1 20240912 (Red Hat 14.2.1-3) Fedora 40 (Clang) Kernel: Depends on container host Compiler: clang 18.1.8 (Fedora 18.1.8-1.fc40) Fedora 40 Kernel: Depends on container host Compiler: gcc 14.2.1 20240912 (Red Hat 14.2.1-3) Debian 12 Kernel: Depends on container host Compiler: gcc (Debian 12.2.0-14) 12.2.0 RHEL8 Kernel: Depends on container host Compiler: gcc 8.5.0 20210514 (Red Hat 8.5.0-22) Ubuntu 20.04 Kernel: Depends on container host Compiler: gcc (Ubuntu 9.4.0-1ubuntu1~20.04.2) 9.4.0 RHEL9 Kernel: Depends on container host Compiler: gcc 11.5.0 20240719 (Red Hat 11.5.0-2) Ubuntu 22.04 Kernel: Depends on container host Compiler: gcc (Ubuntu 11.4.0-1ubuntu1~22.04) 11.4.0 Ubuntu 24.04 Kernel: Depends on container host Compiler: gcc (Ubuntu 13.3.0-6ubuntu2~24.04) 13.3.0 To view detailed results, visit: https://lab.dpdk.org/results/dashboard/patchsets/33113/ UNH-IOL DPDK Community Lab To manage your email subscriptions, visit: https://lab.dpdk.org/results/dashboard/preferences/subscriptions/