From mboxrd@z Thu Jan 1 00:00:00 1970 Return-Path: Received: from mails.dpdk.org (mails.dpdk.org [217.70.189.124]) by inbox.dpdk.org (Postfix) with ESMTP id DA1DE466D3 for ; Tue, 6 May 2025 05:55:55 +0200 (CEST) Received: from mails.dpdk.org (localhost [127.0.0.1]) by mails.dpdk.org (Postfix) with ESMTP id D605B4026D; Tue, 6 May 2025 05:55:55 +0200 (CEST) Received: from mail-il1-f225.google.com (mail-il1-f225.google.com [209.85.166.225]) by mails.dpdk.org (Postfix) with ESMTP id 9C03340150 for ; Tue, 6 May 2025 05:55:54 +0200 (CEST) Received: by mail-il1-f225.google.com with SMTP id e9e14a558f8ab-3d9327d0720so42517005ab.3 for ; Mon, 05 May 2025 20:55:54 -0700 (PDT) DKIM-Signature: v=1; a=rsa-sha256; c=relaxed/relaxed; d=iol.unh.edu; s=unh-iol; t=1746503754; x=1747108554; darn=dpdk.org; h=references:in-reply-to:cc:to:from:subject:message-id:date:from:to :cc:subject:date:message-id:reply-to; bh=sZHKfvNAUiyssJGd5xEFZzXQW4i+UTACT/Obl3a8rKA=; b=fW+gh+Qt8EAdc1vuNKpOYvXuEfrZ8+cxp3BzdkdUQYUeYaz7PiqIFFN2NSR19LN2Z7 rUb0fybfYOoOgiSxRtJ9HcdkFWtzknPUxo6Xkiey32/yq4wijRlSC6SRxXfjpazLokud 91nr4KPjWFN9vVyP7eoKgMnYnRbu0edDC1GVU= X-Google-DKIM-Signature: v=1; a=rsa-sha256; c=relaxed/relaxed; d=1e100.net; s=20230601; t=1746503754; x=1747108554; h=references:in-reply-to:cc:to:from:subject:message-id:date :x-gm-message-state:from:to:cc:subject:date:message-id:reply-to; bh=sZHKfvNAUiyssJGd5xEFZzXQW4i+UTACT/Obl3a8rKA=; b=XwIWv+mWA7o4XMFoggpKOZPhtoNjbxGPHmnexvv0uaUEDpni6Eap1pc9MuTaJ94IM+ 2tmG/uPMSL68xq9DwYtZBw27k/F6Bu9xAUFZ4PlvK4uKIOpU9Uaox9Rqfhi/JiJJG5a7 pTIFhGcD+RTynmu12qFjAss2oAuARSH/64FlKbq/+Qrw6I2jxVo5btzbvaujAcMziakO kMj0xwJkJvuYBPfDcgUQ0x+NeB9LcZsTlEF+OOAWGWtL0C2u1nTeH+zERoZtvHAA3A4N xDnUg+iJDZRZe+4TrDMLGb0qqPknBze25AXKDVLVI6VQKGpsiXHAbmHQuSjN7xDkUgwb A3bA== X-Gm-Message-State: AOJu0Yxo8h/O+jpLMHGYPojKBajV7xvCXKzYq9JtCVCJ9v2C5TOcWT5h oPF3yVyuI/PTSIq7VWtLsfWXypggqLmNQZAKsJuKy8BdHJ1NCT/EJbGx0fsGW6pRFD4phb3t0Rx fCxWazAoTyVRhq5bN7T5Aq/NTqiwPjMAmsUsXSmoJ X-Gm-Gg: ASbGnctkOjra2jYjkIAer5BLjOseq1RSQdfcBwC5qAK5CssdN3Nv5uRDzxrkgeR0TGp ouJcadEQ09uAynTiwGgNPbcUzkkycPWWowiJecAP2OgRdH3f5dL5XyXdxaob8oQKryQ2ez0lkda wzCBvGCdMcsoTgGGYSW7R+xb49WCuWLZGsfWoJM8PrXY2z+h3afWDMtr367eOJHbStZRYMKPUKM ludVkar3sP/CA5xssGkFw7Etu8hVrZ1u82mK2XjqMHN4uANG6g1OBZaZ9IZLfWRJhGKsrFfSoRh BqcgWuFbUxt7Rqc0P/qLl9SAkTldWy733gmPhxv2n0VAysx8TzLoG/G5c/s= X-Google-Smtp-Source: AGHT+IFs+vfRjFAgb02dwYwF2hqsCH0MXtAMLIJof22b4K0YFO5N6oSxNsoGc2p4sB7KG5d9S07em5VY/oFR X-Received: by 2002:a05:6e02:3085:b0:3d3:d074:b0d2 with SMTP id e9e14a558f8ab-3da6ce4bb95mr20714325ab.2.1746503753951; Mon, 05 May 2025 20:55:53 -0700 (PDT) Received: from postal.iol.unh.edu (postal.iol.unh.edu. [132.177.123.84]) by smtp-relay.gmail.com with ESMTPS id 8926c6da1cb9f-4f88a9145a4sm2088467173.27.2025.05.05.20.55.53 (version=TLS1_2 cipher=ECDHE-ECDSA-AES128-GCM-SHA256 bits=128/128); Mon, 05 May 2025 20:55:53 -0700 (PDT) X-Relaying-Domain: iol.unh.edu Date: Mon, 05 May 2025 20:55:53 -0700 (PDT) Message-ID: <68198849.050a0220.28d70d.77e2SMTPIN_ADDED_MISSING@mx.google.com> Received: from [172.21.0.11] (unknown [172.18.0.240]) by postal.iol.unh.edu (Postfix) with ESMTP id 7335A6052471; Mon, 5 May 2025 23:55:53 -0400 (EDT) Subject: |SUCCESS| pw153300 [PATCH] net/mlx5: avoid implicit conversion to 64 From: dpdklab@iol.unh.edu To: Test Report Cc: dpdk-test-reports@iol.unh.edu In-Reply-To: <1746458202-12356-1-git-send-email-andremue@linux.microsoft.com> References: <1746458202-12356-1-git-send-email-andremue@linux.microsoft.com> Content-Type: text/plain X-BeenThere: test-report@dpdk.org X-Mailman-Version: 2.1.29 Precedence: list List-Id: automatic DPDK test reports List-Unsubscribe: , List-Archive: List-Post: List-Help: List-Subscribe: , Errors-To: test-report-bounces@dpdk.org Test-Label: iol-unit-amd64-testing Test-Status: SUCCESS http://dpdk.org/patch/153300 _Testing PASS_ Submitter: Andre Muezerie Date: Monday, May 05 2025 15:16:42 DPDK git baseline: Repo:dpdk Branch: master CommitID:ca1690ebd224f148268285b15b97441ccdbdd07e 153300 --> testing pass Upstream job id: Generic-Unit-Test-DPDK#335576 Test environment and result as below: +-------------------+----------------+ | Environment | dpdk_unit_test | +===================+================+ | CentOS Stream 10 | PASS | +-------------------+----------------+ | CentOS Stream 9 | PASS | +-------------------+----------------+ | Fedora 41 (Clang) | PASS | +-------------------+----------------+ | Fedora 41 | PASS | +-------------------+----------------+ | Fedora 40 (Clang) | PASS | +-------------------+----------------+ | Fedora 40 | PASS | +-------------------+----------------+ | Debian 12 | PASS | +-------------------+----------------+ | RHEL8 | PASS | +-------------------+----------------+ | Ubuntu 20.04 | PASS | +-------------------+----------------+ | RHEL9 | PASS | +-------------------+----------------+ | Ubuntu 22.04 | PASS | +-------------------+----------------+ | Ubuntu 24.04 | PASS | +-------------------+----------------+ CentOS Stream 10 Kernel: Depends on container host Compiler: gcc 14.2.1 20241104 (Red Hat 14.2.1-6) CentOS Stream 9 Kernel: Depends on container host Compiler: gcc 11.5.0 20240719 (Red Hat 11.5.0-2) Fedora 41 (Clang) Kernel: Depends on container host Compiler: clang 19.1.5 (Fedora 19.1.5-1.fc41) Fedora 41 Kernel: Depends on container host Compiler: gcc 14.2.1 20240912 (Red Hat 14.2.1-3) Fedora 40 (Clang) Kernel: Depends on container host Compiler: clang 18.1.8 (Fedora 18.1.8-1.fc40) Fedora 40 Kernel: Depends on container host Compiler: gcc 14.2.1 20240912 (Red Hat 14.2.1-3) Debian 12 Kernel: Depends on container host Compiler: gcc (Debian 12.2.0-14) 12.2.0 RHEL8 Kernel: Depends on container host Compiler: gcc 8.5.0 20210514 (Red Hat 8.5.0-22) Ubuntu 20.04 Kernel: Depends on container host Compiler: gcc (Ubuntu 9.4.0-1ubuntu1~20.04.2) 9.4.0 RHEL9 Kernel: Depends on container host Compiler: gcc 11.5.0 20240719 (Red Hat 11.5.0-2) Ubuntu 22.04 Kernel: Depends on container host Compiler: gcc (Ubuntu 11.4.0-1ubuntu1~22.04) 11.4.0 Ubuntu 24.04 Kernel: Depends on container host Compiler: gcc (Ubuntu 13.3.0-6ubuntu2~24.04) 13.3.0 To view detailed results, visit: https://lab.dpdk.org/results/dashboard/patchsets/33113/ UNH-IOL DPDK Community Lab To manage your email subscriptions, visit: https://lab.dpdk.org/results/dashboard/preferences/subscriptions/