From mboxrd@z Thu Jan 1 00:00:00 1970 Return-Path: Received: from mails.dpdk.org (mails.dpdk.org [217.70.189.124]) by inbox.dpdk.org (Postfix) with ESMTP id 30E86466D3 for ; Tue, 6 May 2025 05:58:41 +0200 (CEST) Received: from mails.dpdk.org (localhost [127.0.0.1]) by mails.dpdk.org (Postfix) with ESMTP id 2C6524026D; Tue, 6 May 2025 05:58:41 +0200 (CEST) Received: from mail-io1-f99.google.com (mail-io1-f99.google.com [209.85.166.99]) by mails.dpdk.org (Postfix) with ESMTP id C96CB40150 for ; Tue, 6 May 2025 05:58:39 +0200 (CEST) Received: by mail-io1-f99.google.com with SMTP id ca18e2360f4ac-864a22fcdf2so147846639f.0 for ; Mon, 05 May 2025 20:58:39 -0700 (PDT) DKIM-Signature: v=1; a=rsa-sha256; c=relaxed/relaxed; d=iol.unh.edu; s=unh-iol; t=1746503919; x=1747108719; darn=dpdk.org; h=references:in-reply-to:cc:to:from:subject:message-id:date:from:to :cc:subject:date:message-id:reply-to; bh=a2f0klwyljiriqFao5PpGBX/aB6HK8usvY4Y2lOaa/E=; b=BETZQXqKfQ2B5o0z8VCKwo7nQsbce5tiMVWfrMQAMlKkR90k22xPQx9isfSeG3nyzp L/GpvPHTTVs4GL9PQWD+lfTAYm5uCnnrO+h9w5piNycdATghnbi2WQeiqtUnJRhU/Xvo A/NYivqYYtRqLBAVrY76q+3dMR3RD0ewM/Lh0= X-Google-DKIM-Signature: v=1; a=rsa-sha256; c=relaxed/relaxed; d=1e100.net; s=20230601; t=1746503919; x=1747108719; h=references:in-reply-to:cc:to:from:subject:message-id:date :x-gm-message-state:from:to:cc:subject:date:message-id:reply-to; bh=a2f0klwyljiriqFao5PpGBX/aB6HK8usvY4Y2lOaa/E=; b=nCac0Pedl2eUCCKvJAAlbmNRVOdQWDqS568Ht/DwbmKEQixg3K/XOYtTRMAaZgW7mR qdcltymTElUbwNnH8NFDlAsH/ArMlzFyzTdYKhlSBlgD9HlaYbVZFkv7LLY0nrdmt0SO hRi8Yb7fLehmwhRKUWp7MkFlNX+ye2LEaH0yc0Zkzs+z5xIr6Ovk/J9treHUQ9M+Yk5U 0R0zRIExNZLK7YUdmpJiFOd4xgUrtmRWDByhzOPULCyFgYjGlqx1sBOZuVdoWk0g/0bj 53dKLY7Un0zBDZC+UrFHik2zUknkDj7Aa7rHl0StRyb5+AgviTgK1xSCakawdckRXrFi ZHpA== X-Gm-Message-State: AOJu0YyEruGVT41bVzYF7/8qjSY4URxTrOFo+HZq8Fx9Nyf12t9NviQ+ d8UNNiGpUOw5hgRGpXICAbUi1uaxVMh4bp8ERQ8uajb1E6fn/OQTDD7tzIBSBwIp9KRsoE+Ybe4 DbxogD/FJhalB4Ii99ClFE1wSeJpZIozgT0tefvs7 X-Gm-Gg: ASbGncuOLkJ4Ve0mUVik5m4Dgtk4oKrHU+HzYcdjzmsUTP1yzVhf02y9XolY+ije3pv xS7FPRe1UQKY7q81Su/M8FiMMoFiOvKfZYX3lCF+wksYKD5vJQWrVIIbIxrSsfI1VX95kmKPHBJ iMn62k77aqGBvlE5WKXAOj3aZrhPyHP/sQaPfV/ZcV6EavtK86NpGveczOF4QdTjcN+0UGvZnMK qPQR7rNWEIZJQKPoQxE+2N63j91le/MHJycHJM/BokntXD5SzeuobEaupQ3IU6tq72iqgTsua3k +rYuqOYlfQW1qkev2PqxJcweyTItKnwDjrkH4lLM8OtuAI61gDSXp/mcSnc= X-Google-Smtp-Source: AGHT+IFwytFnVV9ZM18c0p8zf6ZJRoRzAdpCiW+RrDM0GTirkOOOTbJ+w1u9XlUEiqb+G+uz/KzKecv0MUYq X-Received: by 2002:a05:6602:3289:b0:85d:ad56:af88 with SMTP id ca18e2360f4ac-86732b269e9mr204194639f.1.1746503919120; Mon, 05 May 2025 20:58:39 -0700 (PDT) Received: from postal.iol.unh.edu (postal.iol.unh.edu. [132.177.123.84]) by smtp-relay.gmail.com with ESMTPS id 8926c6da1cb9f-4f88a9401a1sm2066058173.42.2025.05.05.20.58.39 (version=TLS1_2 cipher=ECDHE-ECDSA-AES128-GCM-SHA256 bits=128/128); Mon, 05 May 2025 20:58:39 -0700 (PDT) X-Relaying-Domain: iol.unh.edu Date: Mon, 05 May 2025 20:58:39 -0700 (PDT) Message-ID: <681988ef.050a0220.39d4ab.7463SMTPIN_ADDED_MISSING@mx.google.com> Received: from [172.21.0.14] (unknown [172.18.0.240]) by postal.iol.unh.edu (Postfix) with ESMTP id A26356052471; Mon, 5 May 2025 23:58:38 -0400 (EDT) Subject: |SUCCESS| pw153300 [PATCH] net/mlx5: avoid implicit conversion to 64 From: dpdklab@iol.unh.edu To: Test Report Cc: dpdk-test-reports@iol.unh.edu In-Reply-To: <1746458202-12356-1-git-send-email-andremue@linux.microsoft.com> References: <1746458202-12356-1-git-send-email-andremue@linux.microsoft.com> Content-Type: text/plain X-BeenThere: test-report@dpdk.org X-Mailman-Version: 2.1.29 Precedence: list List-Id: automatic DPDK test reports List-Unsubscribe: , List-Archive: List-Post: List-Help: List-Subscribe: , Errors-To: test-report-bounces@dpdk.org Test-Label: iol-unit-amd64-testing Test-Status: SUCCESS http://dpdk.org/patch/153300 _Testing PASS_ Submitter: Andre Muezerie Date: Monday, May 05 2025 15:16:42 DPDK git baseline: Repo:dpdk Branch: master CommitID:ca1690ebd224f148268285b15b97441ccdbdd07e 153300 --> testing pass Upstream job id: Generic-Unit-Test-DPDK#335570 Test environment and result as below: +-------------------+----------------+ | Environment | dpdk_unit_test | +===================+================+ | CentOS Stream 10 | PASS | +-------------------+----------------+ | CentOS Stream 9 | PASS | +-------------------+----------------+ | Fedora 41 (Clang) | PASS | +-------------------+----------------+ | Fedora 41 | PASS | +-------------------+----------------+ | Fedora 40 (Clang) | PASS | +-------------------+----------------+ | Fedora 40 | PASS | +-------------------+----------------+ | Debian 12 | PASS | +-------------------+----------------+ | RHEL8 | PASS | +-------------------+----------------+ | Ubuntu 20.04 | PASS | +-------------------+----------------+ | RHEL9 | PASS | +-------------------+----------------+ | Ubuntu 22.04 | PASS | +-------------------+----------------+ | Ubuntu 24.04 | PASS | +-------------------+----------------+ CentOS Stream 10 Kernel: Depends on container host Compiler: gcc 14.2.1 20241104 (Red Hat 14.2.1-6) CentOS Stream 9 Kernel: Depends on container host Compiler: gcc 11.5.0 20240719 (Red Hat 11.5.0-2) Fedora 41 (Clang) Kernel: Depends on container host Compiler: clang 19.1.5 (Fedora 19.1.5-1.fc41) Fedora 41 Kernel: Depends on container host Compiler: gcc 14.2.1 20240912 (Red Hat 14.2.1-3) Fedora 40 (Clang) Kernel: Depends on container host Compiler: clang 18.1.8 (Fedora 18.1.8-1.fc40) Fedora 40 Kernel: Depends on container host Compiler: gcc 14.2.1 20240912 (Red Hat 14.2.1-3) Debian 12 Kernel: Depends on container host Compiler: gcc (Debian 12.2.0-14) 12.2.0 RHEL8 Kernel: Depends on container host Compiler: gcc 8.5.0 20210514 (Red Hat 8.5.0-22) Ubuntu 20.04 Kernel: Depends on container host Compiler: gcc (Ubuntu 9.4.0-1ubuntu1~20.04.2) 9.4.0 RHEL9 Kernel: Depends on container host Compiler: gcc 11.5.0 20240719 (Red Hat 11.5.0-2) Ubuntu 22.04 Kernel: Depends on container host Compiler: gcc (Ubuntu 11.4.0-1ubuntu1~22.04) 11.4.0 Ubuntu 24.04 Kernel: Depends on container host Compiler: gcc (Ubuntu 13.3.0-6ubuntu2~24.04) 13.3.0 To view detailed results, visit: https://lab.dpdk.org/results/dashboard/patchsets/33113/ UNH-IOL DPDK Community Lab To manage your email subscriptions, visit: https://lab.dpdk.org/results/dashboard/preferences/subscriptions/