From mboxrd@z Thu Jan 1 00:00:00 1970 Return-Path: Received: from mails.dpdk.org (mails.dpdk.org [217.70.189.124]) by inbox.dpdk.org (Postfix) with ESMTP id 6CCB0466D4 for ; Tue, 6 May 2025 06:11:29 +0200 (CEST) Received: from mails.dpdk.org (localhost [127.0.0.1]) by mails.dpdk.org (Postfix) with ESMTP id 3ADE44026D; Tue, 6 May 2025 06:11:29 +0200 (CEST) Received: from mail-oa1-f99.google.com (mail-oa1-f99.google.com [209.85.160.99]) by mails.dpdk.org (Postfix) with ESMTP id 120A140150 for ; Tue, 6 May 2025 06:11:28 +0200 (CEST) Received: by mail-oa1-f99.google.com with SMTP id 586e51a60fabf-2d4f8c42f49so3472887fac.1 for ; Mon, 05 May 2025 21:11:27 -0700 (PDT) DKIM-Signature: v=1; a=rsa-sha256; c=relaxed/relaxed; d=iol.unh.edu; s=unh-iol; t=1746504687; x=1747109487; darn=dpdk.org; h=references:in-reply-to:cc:to:from:subject:message-id:date:from:to :cc:subject:date:message-id:reply-to; bh=mR1cKrzQBP/d71n88gb11rkHM09aLQ+uKVMU/qtnvYE=; b=P5wWn8oGLzNl32oFF51J4HFUWKd0Jny2o9BMQ9SQK9cCOqqw4+VeUKcpL2dNXxSAD2 r1oGtLdF7N3CcZ1k7yTfzwLr3UnJFeFQzS92CLEDbp4gb6rtJf4zknMfhbIwEHweioNY 5IdY4QbHv9mM8/f8mqG1bglsea+1DKq82Vga4= X-Google-DKIM-Signature: v=1; a=rsa-sha256; c=relaxed/relaxed; d=1e100.net; s=20230601; t=1746504687; x=1747109487; h=references:in-reply-to:cc:to:from:subject:message-id:date :x-gm-message-state:from:to:cc:subject:date:message-id:reply-to; bh=mR1cKrzQBP/d71n88gb11rkHM09aLQ+uKVMU/qtnvYE=; b=Nt0BOYObbEbW9q8EHxZqhqZVxypvBT8jSOHbZQGtv6sYE2p+XP/JOfXzRhgUL0P95E JMtyWqe6fT+eX7cNtNcJZ2KKWoM7N0gNbBlySfOWvtj2/dmKoeIq8AjvgYaOx27BeHsm NDUxvlS9iGMUYgbg0RCVBj1wI7LU0AF6U95QPWjgaZbO3yU+YOlm1HqGLCqiRaKFS6Rz MX/TId3lQQgtai8QAukWHorHmAbX1ysCMFBbLIGQPF+Y9y64O5az9IU7CORQDF67dqzn Q5IX0Om6Tp8ssIHG3w5ojOhpgPN8X63pj/cGrFClNPqOPANzIGASW/jlmPqE7Ou2z+zu vS1g== X-Gm-Message-State: AOJu0YwWYDQlVcABemscHyZ4sFjmNKTCk2VE3UMVHCG2Tjf/TbUpVSSI lmUQi3nKtx6Q+x7l2+kF4r5p1Xqq+pvwrpteqZQ/1bbPrg+SkkH45M0DEZOYTypJyVCmN2Iwu5Z foevsLOun5edSpoo49bwmSXL2Mq5g6t2Ti+URo0NhFvelSKT9GluLSXaM X-Gm-Gg: ASbGncuragBod//A+kwJMVIFDXeqasi1hUbXjZadSLlz7jkOrHznLDH/P5CC+JsZWmr h6zEs5tr/qNtH1q4ZdPDuqorB9c4do6IjtclUnrkAJUQGv3++NJamcY2ihihf9DvIg+Vi6CjbnU igZl77AxWYWAJJq7EUlcJO5h+uBBEc6mWZMJiwfk+oi4UrL0JUBx63XFXzqdJhjiBTanUxj8EM8 mswP7BP6D9l2rdkUoq57m3lUN7WmEDWuhP2DAOwQLRDXe46E7NhUX5j1R4Z+J6UTZ7OciW6NuOm Z+BokCZMDAzTi8yF1NtEfO2B9g8FQD/om6gS X-Google-Smtp-Source: AGHT+IEtzNW27jtLdKwEcpIrdpU0TiORk38ZcxB2qBeRoUg7OqMl9A8qr5Vp+TVHY/EnHGemk8N9sfQY2Zvg X-Received: by 2002:a05:6871:3a06:b0:2da:731e:41b8 with SMTP id 586e51a60fabf-2db38667693mr1279517fac.14.1746504687213; Mon, 05 May 2025 21:11:27 -0700 (PDT) Received: from postal.iol.unh.edu (postal.iol.unh.edu. [2606:4100:3880:1234::84]) by smtp-relay.gmail.com with ESMTPS id 586e51a60fabf-2daa0ee473bsm2203172fac.15.2025.05.05.21.11.27 (version=TLS1_2 cipher=ECDHE-ECDSA-AES128-GCM-SHA256 bits=128/128); Mon, 05 May 2025 21:11:27 -0700 (PDT) X-Relaying-Domain: iol.unh.edu Date: Mon, 05 May 2025 21:11:27 -0700 (PDT) Message-ID: <68198bef.050a0220.105a1.7c19SMTPIN_ADDED_MISSING@mx.google.com> Received: from [172.21.0.11] (unknown [172.18.0.240]) by postal.iol.unh.edu (Postfix) with ESMTP id A7A076052471; Tue, 6 May 2025 00:11:26 -0400 (EDT) Subject: |SUCCESS| pw153300 [PATCH] net/mlx5: avoid implicit conversion to 64 From: dpdklab@iol.unh.edu To: Test Report Cc: dpdk-test-reports@iol.unh.edu In-Reply-To: <1746458202-12356-1-git-send-email-andremue@linux.microsoft.com> References: <1746458202-12356-1-git-send-email-andremue@linux.microsoft.com> Content-Type: text/plain X-BeenThere: test-report@dpdk.org X-Mailman-Version: 2.1.29 Precedence: list List-Id: automatic DPDK test reports List-Unsubscribe: , List-Archive: List-Post: List-Help: List-Subscribe: , Errors-To: test-report-bounces@dpdk.org Test-Label: iol-unit-arm64-testing Test-Status: SUCCESS http://dpdk.org/patch/153300 _Testing PASS_ Submitter: Andre Muezerie Date: Monday, May 05 2025 15:16:42 DPDK git baseline: Repo:dpdk Branch: master CommitID:ca1690ebd224f148268285b15b97441ccdbdd07e 153300 --> testing pass Upstream job id: Generic-Unit-Test-DPDK#335537 Test environment and result as below: +-----------------------------+----------------+--------------+------------------------------+---------------------------+ | Environment | dpdk_unit_test | lpm_autotest | cryptodev_sw_snow3g_autotest | cryptodev_sw_zuc_autotest | +=============================+================+==============+==============================+===========================+ | CentOS Stream 10 (ARM) | PASS | SKIPPED | SKIPPED | SKIPPED | +-----------------------------+----------------+--------------+------------------------------+---------------------------+ | CentOS Stream 9 (ARM) | PASS | SKIPPED | SKIPPED | SKIPPED | +-----------------------------+----------------+--------------+------------------------------+---------------------------+ | Fedora 40 (ARM Clang) | PASS | SKIPPED | SKIPPED | SKIPPED | +-----------------------------+----------------+--------------+------------------------------+---------------------------+ | Fedora 40 (ARM) | PASS | SKIPPED | SKIPPED | SKIPPED | +-----------------------------+----------------+--------------+------------------------------+---------------------------+ | Fedora 41 (ARM) | PASS | SKIPPED | SKIPPED | SKIPPED | +-----------------------------+----------------+--------------+------------------------------+---------------------------+ | Fedora 41 (ARM Clang) | PASS | SKIPPED | SKIPPED | SKIPPED | +-----------------------------+----------------+--------------+------------------------------+---------------------------+ | Debian 12 (arm) | PASS | SKIPPED | PASS | PASS | +-----------------------------+----------------+--------------+------------------------------+---------------------------+ | Ubuntu 20.04 (ARM) | PASS | SKIPPED | SKIPPED | SKIPPED | +-----------------------------+----------------+--------------+------------------------------+---------------------------+ | RHEL9 (ARM) | PASS | SKIPPED | SKIPPED | SKIPPED | +-----------------------------+----------------+--------------+------------------------------+---------------------------+ | Ubuntu 22.04 (ARM) | PASS | SKIPPED | SKIPPED | SKIPPED | +-----------------------------+----------------+--------------+------------------------------+---------------------------+ | Ubuntu 24.04 (ARM) | PASS | SKIPPED | SKIPPED | SKIPPED | +-----------------------------+----------------+--------------+------------------------------+---------------------------+ | 32-bit Ubuntu 22.04.4 (ARM) | PASS | SKIPPED | SKIPPED | SKIPPED | +-----------------------------+----------------+--------------+------------------------------+---------------------------+ | Ubuntu 20.04 ARM SVE | SKIPPED | PASS | SKIPPED | SKIPPED | +-----------------------------+----------------+--------------+------------------------------+---------------------------+ CentOS Stream 10 (ARM) Kernel: Depends on container host Compiler: gcc 14.2.1 20241104 (Red Hat 14.2.1-6) CentOS Stream 9 (ARM) Kernel: Depends on container host Compiler: gcc 11.5.0 20240719 (Red Hat 11.5.0-2) Fedora 40 (ARM Clang) Kernel: Depends on container host Compiler: clang 18.1.8 (Fedora 18.1.8-1.fc40) Fedora 40 (ARM) Kernel: Depends on container host Compiler: gcc 14.2.1 20240912 (Red Hat 14.2.1-3) Fedora 41 (ARM) Kernel: Depends on container host Compiler: gcc 14.2.1 20240912 (Red Hat 14.2.1-3) Fedora 41 (ARM Clang) Kernel: Depends on container host Compiler: clang 19.1.5 (Fedora 19.1.5-1.fc41) Debian 12 (arm) Kernel: Depends on container host Compiler: gcc (Debian 12.2.0-14) 12.2.0 Ubuntu 20.04 (ARM) Kernel: Depends on container host Compiler: gcc (Ubuntu 9.4.0-1ubuntu1~20.04.2) 9.4.0 RHEL9 (ARM) Kernel: Depends on container host Compiler: gcc 11.5.0 20240719 (Red Hat 11.5.0-2) Ubuntu 22.04 (ARM) Kernel: Depends on container host Compiler: gcc (Ubuntu 11.4.0-1ubuntu1~22.04) 11.4.0 Ubuntu 24.04 (ARM) Kernel: Depends on container host Compiler: gcc (Ubuntu 13.3.0-6ubuntu2~24.04) 13.3.0 32-bit Ubuntu 22.04.4 (ARM) Kernel: 5.15.83+ aarch64 Compiler: gcc (Ubuntu 11.4.0-1ubuntu1~22.04) 11.4.0 Ubuntu 20.04 ARM SVE Kernel: Depends on container host Compiler: gcc (Ubuntu 10.5.0-1ubuntu1~20.04) 10.5.0 To view detailed results, visit: https://lab.dpdk.org/results/dashboard/patchsets/33113/ UNH-IOL DPDK Community Lab To manage your email subscriptions, visit: https://lab.dpdk.org/results/dashboard/preferences/subscriptions/