From mboxrd@z Thu Jan 1 00:00:00 1970 Return-Path: Received: from mails.dpdk.org (mails.dpdk.org [217.70.189.124]) by inbox.dpdk.org (Postfix) with ESMTP id A9B78466D4 for ; Tue, 6 May 2025 06:13:59 +0200 (CEST) Received: from mails.dpdk.org (localhost [127.0.0.1]) by mails.dpdk.org (Postfix) with ESMTP id 83F714026D; Tue, 6 May 2025 06:13:59 +0200 (CEST) Received: from mail-qv1-f98.google.com (mail-qv1-f98.google.com [209.85.219.98]) by mails.dpdk.org (Postfix) with ESMTP id 1BEB140150 for ; Tue, 6 May 2025 06:13:58 +0200 (CEST) Received: by mail-qv1-f98.google.com with SMTP id 6a1803df08f44-6ecf0e07954so85092656d6.1 for ; Mon, 05 May 2025 21:13:58 -0700 (PDT) DKIM-Signature: v=1; a=rsa-sha256; c=relaxed/relaxed; d=iol.unh.edu; s=unh-iol; t=1746504837; x=1747109637; darn=dpdk.org; h=references:in-reply-to:cc:to:from:subject:message-id:date:from:to :cc:subject:date:message-id:reply-to; bh=H23Az6nQ4JMnAE4RoYYOmFnjTtEW9nTMymEWQF3Gr4g=; b=W8LzMBOIEot7x8Hu2HH8WAqRVmz5MIozFcnXPwbsw7ccaK2Q6n5E2Rxz3TFYUGepTw S32pWEg33EEC0n8+F7F+f1qxrCczpXC/JX3FJOQU2H21zhbnjDh6Wwg/dKKtyZvUs1at 3sW5t45QveRmd70lEobx+4mmRpxaL8Cb1ALy8= X-Google-DKIM-Signature: v=1; a=rsa-sha256; c=relaxed/relaxed; d=1e100.net; s=20230601; t=1746504837; x=1747109637; h=references:in-reply-to:cc:to:from:subject:message-id:date :x-gm-message-state:from:to:cc:subject:date:message-id:reply-to; bh=H23Az6nQ4JMnAE4RoYYOmFnjTtEW9nTMymEWQF3Gr4g=; b=t9nB8UAz9vMxxBpPdMvAxU56wcEaf0cSFDebi3YHmJo/vPS3/C3ImTwmiwqZ1iueUx 6wj5lKWDXqaJji8fYy8kJ6uDmCvTu5bo+RZ8HcHZKZIVWRCKSNZBeffmPILq57AllvOJ b4lmTjaxbeyi6JAZA4wGt3UMUFlLj2gtgc8xy9hkQeNHBN7KWTzczPsqgvmwEZApq6Wu 0stxvqCj0mbYY5ogF/tTmPnRkle8am4i2foX9c8rOu84V3ayfp5yWXIxoS3q8/iNcUyo lsk55aOT2QME/BFLigChvAg5hgmF5EKXtusTG3NR2uja0FstiV2WJD8tOysTtllpUFcn VzYg== X-Gm-Message-State: AOJu0YzbPPZkC9+GZ5w1jUVfjHUHNch3BDv9pHkWZSZZqrU3BhKhZCCe 9BJ2Mmg8psN5DdAhESJxXhTnyBkxMNsMg4/7h9GkQxdQDwLTmkaFgMzjzKSqYPloc+GzIZV0Ny7 1Me70wGTrFnTaxIPOqsnA7+u6AHa3QfIX20AUrRSR X-Gm-Gg: ASbGnctCbuFzj3SMz0YF7nzajHpMRWF0zt+519TcIZW/VQqlPZFJ+4O0I0CW+PHR2/N +q+dgyey9L+guldWFTJFb8IV5H/aNt1L9IpEm0hlg03GU2oWyXMBCf1kkSzL6mz5HQvCtCZbWoM mqz7jLt349PooSExIvIAuegvYMHfenMbkUXOOR40YPo12tT94E9xBoMRIYazaChrkWmAFRXRqyq 83Ar8g8fw6eRFau9kLukMpyp44a2iN2EKy0DeI6pNBYJP7EJXNjbl2DgvjqUGVYL0gmQhhB7kl8 oTngkIA2A3QH0G8R3ssmYpCJ4hkZxZMZXGfU996iFyFvpeNL9feckhKRp8U= X-Google-Smtp-Source: AGHT+IFbsfGpdqLa7CueAZYVgduRCDtbLMgizXm/z86pEN8P+B7teRz56DTfZ3P//JS+QacxhXRuoMSa4sEP X-Received: by 2002:a05:6214:dab:b0:6f4:b365:a8f9 with SMTP id 6a1803df08f44-6f528c36657mr155560716d6.3.1746504837316; Mon, 05 May 2025 21:13:57 -0700 (PDT) Received: from postal.iol.unh.edu (postal.iol.unh.edu. [132.177.123.84]) by smtp-relay.gmail.com with ESMTPS id 6a1803df08f44-6f50f3cf61csm22685386d6.35.2025.05.05.21.13.57 (version=TLS1_2 cipher=ECDHE-ECDSA-AES128-GCM-SHA256 bits=128/128); Mon, 05 May 2025 21:13:57 -0700 (PDT) X-Relaying-Domain: iol.unh.edu Date: Mon, 05 May 2025 21:13:57 -0700 (PDT) Message-ID: <68198c85.d40a0220.51aa6.9bf5SMTPIN_ADDED_MISSING@mx.google.com> Received: from [172.21.0.11] (unknown [172.18.0.240]) by postal.iol.unh.edu (Postfix) with ESMTP id 010236052471; Tue, 6 May 2025 00:13:56 -0400 (EDT) Subject: |SUCCESS| pw153300 [PATCH] net/mlx5: avoid implicit conversion to 64 From: dpdklab@iol.unh.edu To: Test Report Cc: dpdk-test-reports@iol.unh.edu In-Reply-To: <1746458202-12356-1-git-send-email-andremue@linux.microsoft.com> References: <1746458202-12356-1-git-send-email-andremue@linux.microsoft.com> Content-Type: text/plain X-BeenThere: test-report@dpdk.org X-Mailman-Version: 2.1.29 Precedence: list List-Id: automatic DPDK test reports List-Unsubscribe: , List-Archive: List-Post: List-Help: List-Subscribe: , Errors-To: test-report-bounces@dpdk.org Test-Label: iol-unit-amd64-testing Test-Status: SUCCESS http://dpdk.org/patch/153300 _Testing PASS_ Submitter: Andre Muezerie Date: Monday, May 05 2025 15:16:42 DPDK git baseline: Repo:dpdk Branch: master CommitID:ca1690ebd224f148268285b15b97441ccdbdd07e 153300 --> testing pass Upstream job id: Generic-Unit-Test-DPDK#335568 Test environment and result as below: +-------------------+----------------+ | Environment | dpdk_unit_test | +===================+================+ | CentOS Stream 10 | PASS | +-------------------+----------------+ | CentOS Stream 9 | PASS | +-------------------+----------------+ | Fedora 41 (Clang) | PASS | +-------------------+----------------+ | Fedora 41 | PASS | +-------------------+----------------+ | Fedora 40 (Clang) | PASS | +-------------------+----------------+ | Fedora 40 | PASS | +-------------------+----------------+ | Debian 12 | PASS | +-------------------+----------------+ | RHEL8 | PASS | +-------------------+----------------+ | Ubuntu 20.04 | PASS | +-------------------+----------------+ | RHEL9 | PASS | +-------------------+----------------+ | Ubuntu 22.04 | PASS | +-------------------+----------------+ | Ubuntu 24.04 | PASS | +-------------------+----------------+ CentOS Stream 10 Kernel: Depends on container host Compiler: gcc 14.2.1 20241104 (Red Hat 14.2.1-6) CentOS Stream 9 Kernel: Depends on container host Compiler: gcc 11.5.0 20240719 (Red Hat 11.5.0-2) Fedora 41 (Clang) Kernel: Depends on container host Compiler: clang 19.1.5 (Fedora 19.1.5-1.fc41) Fedora 41 Kernel: Depends on container host Compiler: gcc 14.2.1 20240912 (Red Hat 14.2.1-3) Fedora 40 (Clang) Kernel: Depends on container host Compiler: clang 18.1.8 (Fedora 18.1.8-1.fc40) Fedora 40 Kernel: Depends on container host Compiler: gcc 14.2.1 20240912 (Red Hat 14.2.1-3) Debian 12 Kernel: Depends on container host Compiler: gcc (Debian 12.2.0-14) 12.2.0 RHEL8 Kernel: Depends on container host Compiler: gcc 8.5.0 20210514 (Red Hat 8.5.0-22) Ubuntu 20.04 Kernel: Depends on container host Compiler: gcc (Ubuntu 9.4.0-1ubuntu1~20.04.2) 9.4.0 RHEL9 Kernel: Depends on container host Compiler: gcc 11.5.0 20240719 (Red Hat 11.5.0-2) Ubuntu 22.04 Kernel: Depends on container host Compiler: gcc (Ubuntu 11.4.0-1ubuntu1~22.04) 11.4.0 Ubuntu 24.04 Kernel: Depends on container host Compiler: gcc (Ubuntu 13.3.0-6ubuntu2~24.04) 13.3.0 To view detailed results, visit: https://lab.dpdk.org/results/dashboard/patchsets/33113/ UNH-IOL DPDK Community Lab To manage your email subscriptions, visit: https://lab.dpdk.org/results/dashboard/preferences/subscriptions/