From mboxrd@z Thu Jan 1 00:00:00 1970 Return-Path: Received: from mails.dpdk.org (mails.dpdk.org [217.70.189.124]) by inbox.dpdk.org (Postfix) with ESMTP id 1D8AA466D4 for ; Tue, 6 May 2025 06:18:24 +0200 (CEST) Received: from mails.dpdk.org (localhost [127.0.0.1]) by mails.dpdk.org (Postfix) with ESMTP id 056624026D; Tue, 6 May 2025 06:18:24 +0200 (CEST) Received: from mail-yb1-f227.google.com (mail-yb1-f227.google.com [209.85.219.227]) by mails.dpdk.org (Postfix) with ESMTP id 4F41D40150 for ; Tue, 6 May 2025 06:18:22 +0200 (CEST) Received: by mail-yb1-f227.google.com with SMTP id 3f1490d57ef6-e72a786b1b8so4128649276.1 for ; Mon, 05 May 2025 21:18:22 -0700 (PDT) DKIM-Signature: v=1; a=rsa-sha256; c=relaxed/relaxed; d=iol.unh.edu; s=unh-iol; t=1746505101; x=1747109901; darn=dpdk.org; h=references:in-reply-to:cc:to:from:subject:message-id:date:from:to :cc:subject:date:message-id:reply-to; bh=TevJm6o18EJXEb6YuOLy1MNpBMmqAhDHzUzq3qXpNsc=; b=MdSP5pCo12N/S3IKeUOAlQXQVntskBmZLfxlQGu8sTgUpNCtRWTkxo3Mys/lHllMcW 8PyNKC5sGidHBgw8MBUupQmOEKehsAYIHKRSPZz8oyK4n4fekwjto9VA0q7y2J++XSq/ nHCVV4EBNrLNrwMtCL0jaHFmyVAQFTt6TNg8I= X-Google-DKIM-Signature: v=1; a=rsa-sha256; c=relaxed/relaxed; d=1e100.net; s=20230601; t=1746505101; x=1747109901; h=references:in-reply-to:cc:to:from:subject:message-id:date :x-gm-message-state:from:to:cc:subject:date:message-id:reply-to; bh=TevJm6o18EJXEb6YuOLy1MNpBMmqAhDHzUzq3qXpNsc=; b=bNlAbjGyADkiEHaSXFUZ2hONADs3w9m8htez6UUBLTT4dovuty8GAbz2IVZaho1wbg VBmy9twIJromUXUq/GBUqK6zGey5Du5VY5IXhbIEypLPtwUM/StwIrA5fEndytjOUKZE I8BDbYoD0Z88p0KPQUSQGORJ6ilpIfR/1bCe30IcKE/xjIYbf9SnohV2idCpfAKIiVd+ 0rJnrA5bXTSDtllYxh5q8/U61CHFOSXP39lUOCpKg1TkfNubxHV3x4T1m7R0Cda0MB2C OL2/R+w5V52mvvbjx2OQwVneL0ho+lr1c+jqDcRPl77CiIO+vDVPH6ka4f0jcEfTB2eE SUtw== X-Gm-Message-State: AOJu0Yy6yjfReDFajYZTPxrpHLP5+mggM8AGAckCi+seji4i7uoBIfbA PBocXQCLoTwlMgzeXB4kK6pxBmJv65XmRsLQQNQEgxR55PRZET3V4NR+xY0CvOvWniBmbmEqHxJ bbMY0AMgdFUjazG1WNsU/5q0x5Z7eypzfN7wIdOzz X-Gm-Gg: ASbGncuQKbNE76I72XM2j3LI+HJd57EWRTWZyTP0YQYyputSU7GN1cGf267la3Z0wHR hFRP0ylEDR/hSa6RpI52hCpTJk5K6hb/nA3TIIocIVzUgI8TngfprtJTgQOwqV+h8V332jYmE00 xRMFpY5J4UCKf38bkZx7IM2X7AU2WjhC37lVUY+5DIokAVej0GhhhPYP7orMssGmsKcsQIAB6Q/ 6ohNqGNVD8hR2wZif4v0i5Pg5qVhB01uGOiO05V0ovKUJ41eFHLc3zezQvAhLbiVcQkXoVqPfKU 2uYYd9y9n6XNBb3AXkiziB0cluy+j/13PBlmC0E30E+kJu3aOEN1PsNAFGo= X-Google-Smtp-Source: AGHT+IGfYZ/OdAHQjmfthWp97hZLcFGMU8S4KLD6vo/9GPgwK74fTO10BC/pGCiWlR7HAg2QOi359XNU6nBs X-Received: by 2002:a05:6902:4608:b0:e73:cd3:5250 with SMTP id 3f1490d57ef6-e75bf12e90emr2925604276.23.1746505101601; Mon, 05 May 2025 21:18:21 -0700 (PDT) Received: from postal.iol.unh.edu (postal.iol.unh.edu. [132.177.123.84]) by smtp-relay.gmail.com with ESMTPS id 3f1490d57ef6-e755e7c869fsm1930025276.27.2025.05.05.21.18.21 (version=TLS1_2 cipher=ECDHE-ECDSA-AES128-GCM-SHA256 bits=128/128); Mon, 05 May 2025 21:18:21 -0700 (PDT) X-Relaying-Domain: iol.unh.edu Date: Mon, 05 May 2025 21:18:21 -0700 (PDT) Message-ID: <68198d8d.250a0220.77296.de17SMTPIN_ADDED_MISSING@mx.google.com> Received: from [172.21.0.6] (unknown [172.18.0.240]) by postal.iol.unh.edu (Postfix) with ESMTP id 3F5676052471; Tue, 6 May 2025 00:18:21 -0400 (EDT) Subject: |SUCCESS| pw153300 [PATCH] net/mlx5: avoid implicit conversion to 64 From: dpdklab@iol.unh.edu To: Test Report Cc: dpdk-test-reports@iol.unh.edu In-Reply-To: <1746458202-12356-1-git-send-email-andremue@linux.microsoft.com> References: <1746458202-12356-1-git-send-email-andremue@linux.microsoft.com> Content-Type: text/plain X-BeenThere: test-report@dpdk.org X-Mailman-Version: 2.1.29 Precedence: list List-Id: automatic DPDK test reports List-Unsubscribe: , List-Archive: List-Post: List-Help: List-Subscribe: , Errors-To: test-report-bounces@dpdk.org Test-Label: iol-unit-amd64-testing Test-Status: SUCCESS http://dpdk.org/patch/153300 _Testing PASS_ Submitter: Andre Muezerie Date: Monday, May 05 2025 15:16:42 DPDK git baseline: Repo:dpdk Branch: master CommitID:ca1690ebd224f148268285b15b97441ccdbdd07e 153300 --> testing pass Upstream job id: Generic-Unit-Test-DPDK#335574 Test environment and result as below: +-------------------+----------------+ | Environment | dpdk_unit_test | +===================+================+ | CentOS Stream 10 | PASS | +-------------------+----------------+ | CentOS Stream 9 | PASS | +-------------------+----------------+ | Fedora 41 (Clang) | PASS | +-------------------+----------------+ | Fedora 41 | PASS | +-------------------+----------------+ | Fedora 40 (Clang) | PASS | +-------------------+----------------+ | Fedora 40 | PASS | +-------------------+----------------+ | Debian 12 | PASS | +-------------------+----------------+ | RHEL8 | PASS | +-------------------+----------------+ | Ubuntu 20.04 | PASS | +-------------------+----------------+ | RHEL9 | PASS | +-------------------+----------------+ | Ubuntu 22.04 | PASS | +-------------------+----------------+ | Ubuntu 24.04 | PASS | +-------------------+----------------+ CentOS Stream 10 Kernel: Depends on container host Compiler: gcc 14.2.1 20241104 (Red Hat 14.2.1-6) CentOS Stream 9 Kernel: Depends on container host Compiler: gcc 11.5.0 20240719 (Red Hat 11.5.0-2) Fedora 41 (Clang) Kernel: Depends on container host Compiler: clang 19.1.5 (Fedora 19.1.5-1.fc41) Fedora 41 Kernel: Depends on container host Compiler: gcc 14.2.1 20240912 (Red Hat 14.2.1-3) Fedora 40 (Clang) Kernel: Depends on container host Compiler: clang 18.1.8 (Fedora 18.1.8-1.fc40) Fedora 40 Kernel: Depends on container host Compiler: gcc 14.2.1 20240912 (Red Hat 14.2.1-3) Debian 12 Kernel: Depends on container host Compiler: gcc (Debian 12.2.0-14) 12.2.0 RHEL8 Kernel: Depends on container host Compiler: gcc 8.5.0 20210514 (Red Hat 8.5.0-22) Ubuntu 20.04 Kernel: Depends on container host Compiler: gcc (Ubuntu 9.4.0-1ubuntu1~20.04.2) 9.4.0 RHEL9 Kernel: Depends on container host Compiler: gcc 11.5.0 20240719 (Red Hat 11.5.0-2) Ubuntu 22.04 Kernel: Depends on container host Compiler: gcc (Ubuntu 11.4.0-1ubuntu1~22.04) 11.4.0 Ubuntu 24.04 Kernel: Depends on container host Compiler: gcc (Ubuntu 13.3.0-6ubuntu2~24.04) 13.3.0 To view detailed results, visit: https://lab.dpdk.org/results/dashboard/patchsets/33113/ UNH-IOL DPDK Community Lab To manage your email subscriptions, visit: https://lab.dpdk.org/results/dashboard/preferences/subscriptions/