From mboxrd@z Thu Jan 1 00:00:00 1970 Return-Path: Received: from mails.dpdk.org (mails.dpdk.org [217.70.189.124]) by inbox.dpdk.org (Postfix) with ESMTP id 70ADE466D4 for ; Tue, 6 May 2025 06:21:57 +0200 (CEST) Received: from mails.dpdk.org (localhost [127.0.0.1]) by mails.dpdk.org (Postfix) with ESMTP id 54C534026D; Tue, 6 May 2025 06:21:57 +0200 (CEST) Received: from mail-yw1-f227.google.com (mail-yw1-f227.google.com [209.85.128.227]) by mails.dpdk.org (Postfix) with ESMTP id A269D40150 for ; Tue, 6 May 2025 06:21:55 +0200 (CEST) Received: by mail-yw1-f227.google.com with SMTP id 00721157ae682-707d3c12574so41884567b3.1 for ; Mon, 05 May 2025 21:21:55 -0700 (PDT) DKIM-Signature: v=1; a=rsa-sha256; c=relaxed/relaxed; d=iol.unh.edu; s=unh-iol; t=1746505315; x=1747110115; darn=dpdk.org; h=references:in-reply-to:cc:to:from:subject:message-id:date:from:to :cc:subject:date:message-id:reply-to; bh=JkRreGKuLfA3JIQeYOysziQdMd8qm9zsAdrwkZ/FEG4=; b=QsdCnB8sp7FIVVtjKL83IJvhSucWN/5AOR2wB/2AYRJ04gISltTmjuYx4eHXoAna2B KdpFOgxUJoW6kiV/EDKGjynzNGvItUGQn1DDeG4asRhiJ1y/TL197KnAhRV9mb7YlEdY xccbGV+zNYWGUPeiKzh6PW+B5yrVX9zDwGeaw= X-Google-DKIM-Signature: v=1; a=rsa-sha256; c=relaxed/relaxed; d=1e100.net; s=20230601; t=1746505315; x=1747110115; h=references:in-reply-to:cc:to:from:subject:message-id:date :x-gm-message-state:from:to:cc:subject:date:message-id:reply-to; bh=JkRreGKuLfA3JIQeYOysziQdMd8qm9zsAdrwkZ/FEG4=; b=uOUxRQuWjA23qfcT/RARALYsiR4EHQ+8B6M2GYWk1nAxy4+ifZZemveleJrTVBG8YN ADrc5Ab4i6XNcF+9TI7Fr2CCQwa/4y3f09t1QsA4r/u0EPyDgHPhBu7MY6gnN6ggRftT BPYWKdfiRSvWWywqKY7R4+kM3dk9FJkXt4z6Ue8VVblY/xiwHfhrC7A1i8VuYc2NxNB+ RLhB3Rlhz7I4WzfCWUxlIMGR+7xIFBLDE8joEhE6CRISe+ZVG3/NyXaPtnJbupd2CoZG WtHhyq8Xp9AkOSlAwB4lhQQCbZ2MZJebPzLKI7CCebph0RgWzFknvAItbJ8zIjmNqwst praQ== X-Gm-Message-State: AOJu0Yw31vRHZNG4vYvgbl4V0A/t0O8SFOlw29AOl5Oqtqq2d+uaPshc xlsJh6n1VmhLJMPa14ewMkziRqP4aDFE6p5FaL9G9pxQrjQ0Lpamo4F3q8cbPhPlIAD5gxQzu76 oJCsobJALKl4+jvump8lme18zJC3+ulevImUSCuno X-Gm-Gg: ASbGnctnHBH/0iobGwP/gSZrwWyZpkGwpgW67TL1Oy84xW3miP0sLi/gTs5/HTpi5US eu5HdwtvWpFRjGrLrscF/P4mLA3JowGBivyiRq6T/6z5zCcoVWELKCLsvATBfbREwyM59jmGCSg bV8em+ldn37xmjvRtgbBrpy8b0rRpFWVEAtjFGDMNE4ksIO/EMRTlEPn3T/PSXW+O5CZI2lhUW9 viSICijPrC03jW3B4fCoctZ53Dp5AxwyBYxgu8h42+pudkq0Jfxyy/6ZLbfzBuNCCl8v11fBOvb BKoFwYrPmd63r9qUUvpO9SljPfuWU/tqm1nKYbSRskPLbNzyPNTsNNoroq8= X-Google-Smtp-Source: AGHT+IE2omV8dVe7uAKbun+FcjOAjPSBQN9G57N/TyQSu9EOUrrsbe0S+5vRZ4Z8wjeT0gEg8lPQQsAus6vF X-Received: by 2002:a05:690c:3806:b0:6fb:9e2e:93ed with SMTP id 00721157ae682-70918983c6cmr31922417b3.18.1746505314947; Mon, 05 May 2025 21:21:54 -0700 (PDT) Received: from postal.iol.unh.edu (postal.iol.unh.edu. [132.177.123.84]) by smtp-relay.gmail.com with ESMTPS id 00721157ae682-708c46b8696sm19284397b3.52.2025.05.05.21.21.54 (version=TLS1_2 cipher=ECDHE-ECDSA-AES128-GCM-SHA256 bits=128/128); Mon, 05 May 2025 21:21:54 -0700 (PDT) X-Relaying-Domain: iol.unh.edu Date: Mon, 05 May 2025 21:21:54 -0700 (PDT) Message-ID: <68198e62.050a0220.3bc28c.444eSMTPIN_ADDED_MISSING@mx.google.com> Received: from [172.21.0.6] (unknown [172.18.0.240]) by postal.iol.unh.edu (Postfix) with ESMTP id 9A5FE6052471; Tue, 6 May 2025 00:21:54 -0400 (EDT) Subject: |SUCCESS| pw153300 [PATCH] net/mlx5: avoid implicit conversion to 64 From: dpdklab@iol.unh.edu To: Test Report Cc: dpdk-test-reports@iol.unh.edu In-Reply-To: <1746458202-12356-1-git-send-email-andremue@linux.microsoft.com> References: <1746458202-12356-1-git-send-email-andremue@linux.microsoft.com> Content-Type: text/plain X-BeenThere: test-report@dpdk.org X-Mailman-Version: 2.1.29 Precedence: list List-Id: automatic DPDK test reports List-Unsubscribe: , List-Archive: List-Post: List-Help: List-Subscribe: , Errors-To: test-report-bounces@dpdk.org Test-Label: iol-unit-amd64-testing Test-Status: SUCCESS http://dpdk.org/patch/153300 _Testing PASS_ Submitter: Andre Muezerie Date: Monday, May 05 2025 15:16:42 DPDK git baseline: Repo:dpdk Branch: master CommitID:ca1690ebd224f148268285b15b97441ccdbdd07e 153300 --> testing pass Upstream job id: Generic-Unit-Test-DPDK#335578 Test environment and result as below: +-------------------+----------------+ | Environment | dpdk_unit_test | +===================+================+ | CentOS Stream 10 | PASS | +-------------------+----------------+ | CentOS Stream 9 | PASS | +-------------------+----------------+ | Fedora 41 (Clang) | PASS | +-------------------+----------------+ | Fedora 41 | PASS | +-------------------+----------------+ | Fedora 40 (Clang) | PASS | +-------------------+----------------+ | Fedora 40 | PASS | +-------------------+----------------+ | Debian 12 | PASS | +-------------------+----------------+ | RHEL8 | PASS | +-------------------+----------------+ | Ubuntu 20.04 | PASS | +-------------------+----------------+ | RHEL9 | PASS | +-------------------+----------------+ | Ubuntu 22.04 | PASS | +-------------------+----------------+ | Ubuntu 24.04 | PASS | +-------------------+----------------+ CentOS Stream 10 Kernel: Depends on container host Compiler: gcc 14.2.1 20241104 (Red Hat 14.2.1-6) CentOS Stream 9 Kernel: Depends on container host Compiler: gcc 11.5.0 20240719 (Red Hat 11.5.0-2) Fedora 41 (Clang) Kernel: Depends on container host Compiler: clang 19.1.5 (Fedora 19.1.5-1.fc41) Fedora 41 Kernel: Depends on container host Compiler: gcc 14.2.1 20240912 (Red Hat 14.2.1-3) Fedora 40 (Clang) Kernel: Depends on container host Compiler: clang 18.1.8 (Fedora 18.1.8-1.fc40) Fedora 40 Kernel: Depends on container host Compiler: gcc 14.2.1 20240912 (Red Hat 14.2.1-3) Debian 12 Kernel: Depends on container host Compiler: gcc (Debian 12.2.0-14) 12.2.0 RHEL8 Kernel: Depends on container host Compiler: gcc 8.5.0 20210514 (Red Hat 8.5.0-22) Ubuntu 20.04 Kernel: Depends on container host Compiler: gcc (Ubuntu 9.4.0-1ubuntu1~20.04.2) 9.4.0 RHEL9 Kernel: Depends on container host Compiler: gcc 11.5.0 20240719 (Red Hat 11.5.0-2) Ubuntu 22.04 Kernel: Depends on container host Compiler: gcc (Ubuntu 11.4.0-1ubuntu1~22.04) 11.4.0 Ubuntu 24.04 Kernel: Depends on container host Compiler: gcc (Ubuntu 13.3.0-6ubuntu2~24.04) 13.3.0 To view detailed results, visit: https://lab.dpdk.org/results/dashboard/patchsets/33113/ UNH-IOL DPDK Community Lab To manage your email subscriptions, visit: https://lab.dpdk.org/results/dashboard/preferences/subscriptions/