From mboxrd@z Thu Jan 1 00:00:00 1970 Return-Path: Received: from mails.dpdk.org (mails.dpdk.org [217.70.189.124]) by inbox.dpdk.org (Postfix) with ESMTP id 59A0B466D4 for ; Tue, 6 May 2025 06:30:16 +0200 (CEST) Received: from mails.dpdk.org (localhost [127.0.0.1]) by mails.dpdk.org (Postfix) with ESMTP id 4C6134026D; Tue, 6 May 2025 06:30:16 +0200 (CEST) Received: from mail-il1-f228.google.com (mail-il1-f228.google.com [209.85.166.228]) by mails.dpdk.org (Postfix) with ESMTP id AB19A40150 for ; Tue, 6 May 2025 06:30:14 +0200 (CEST) Received: by mail-il1-f228.google.com with SMTP id e9e14a558f8ab-3d817bc6eb0so16212385ab.1 for ; Mon, 05 May 2025 21:30:14 -0700 (PDT) DKIM-Signature: v=1; a=rsa-sha256; c=relaxed/relaxed; d=iol.unh.edu; s=unh-iol; t=1746505814; x=1747110614; darn=dpdk.org; h=references:in-reply-to:cc:to:from:subject:message-id:date:from:to :cc:subject:date:message-id:reply-to; bh=PaK498Pq2yrjYEwPbkO6rs60Be/2igRczPUYYpwiAWA=; b=TEB0kdRgms6bjV26DBE0FVPagcYdEdyZKIikkNxLgCYJS1il29ugxfwyBpLky0fwxB 9yT/cPW/DJtuqYOnbG+cdF3LlEqw+XqSafTxNXFeppHxdlmfuARVMKuiRPxwj2iAiTDE nUbxrvPtLPsxv2oaNDVG8pYI+UNGNz0u1cbEM= X-Google-DKIM-Signature: v=1; a=rsa-sha256; c=relaxed/relaxed; d=1e100.net; s=20230601; t=1746505814; x=1747110614; h=references:in-reply-to:cc:to:from:subject:message-id:date :x-gm-message-state:from:to:cc:subject:date:message-id:reply-to; bh=PaK498Pq2yrjYEwPbkO6rs60Be/2igRczPUYYpwiAWA=; b=hrL/NVQgBSV7vV76HFpSAjCm/3muSrnJ+DldUHAiH6mEF6P/XC4RGNC4la45nCvFI7 aiNsd5uaolitBWr+LFkoDlVv6leK1KiYd51cjvpG1OLc3u7xxuMXBCVbQa/GDeqUa594 mvdILUMWB7o/PMt60ud7Al2rzDRvHc3kH1BJtsRONT7iluGG23iDMI7mkfrBPJuZtIYR 7xt8bGbXu3An8eilHm5+7//+qYzeW7yt845wFczAlMX6Bo5Je2BjhiwyQd5zNym1z+p8 kBiifkpahyBPRG//F80lwzcIobquE0vHzxh0Qxf1Ucu3bDxdAcj+/mqgRH2B2LDwh0hj iDjg== X-Gm-Message-State: AOJu0YxAPFE9OaTmo2lHb1AlELk9j4A2JzmaLFUXLb0aIiorm9xg40U6 dm5OHtIr245i0cogID+1coddZML6rvu11hIWReGmPQl/1I455MLLF/UJzzrbV1C1N9IYYetwuSu ENG+BR3dgRg+mb1AtsqoKDnLJQvIEU0cBxDZU1ZPvukPE1sti/kPXFV74 X-Gm-Gg: ASbGncveViPD+WEsQYgt5JR80g0HEo47kfaid/KMXQRerXHVnSxg48TgOX1ug54PI5Y znxkxKKUTCdDynF3VSxvBjGCREeyg4YAkL2WWeLmSlLdtORJig44U8qeL3ZBSaiCwZd16yOlZBY QhbkTkkNMCtqpYIqWB2vN8ULe0Df0ZoM5N9k6JPtNy6GgZxH2tPazZuqtj6aOnh3yuNo+tj+B7m MFbF1SsNCfAB9ocbxD5R0aE5nkYnY/Lt7EolTDk79YwCrF3d6+OzMmxREUmMK45PYzKADNlumzx pgMHTNPLAXuVPjN6n1B7qahIhKMwSAAa1vSp X-Google-Smtp-Source: AGHT+IG3yhoBM1B6kdAEudSU6XNAO90KXv0wQf5KczI8JWlwIAYRD0uT3pEZgqHUYJ8/hIBG2EbF1pK/Yjpn X-Received: by 2002:a05:6e02:1aa7:b0:3d8:1d0e:5308 with SMTP id e9e14a558f8ab-3da5b260a48mr93262995ab.6.1746505813872; Mon, 05 May 2025 21:30:13 -0700 (PDT) Received: from postal.iol.unh.edu (postal.iol.unh.edu. [2606:4100:3880:1234::84]) by smtp-relay.gmail.com with ESMTPS id e9e14a558f8ab-3d975ecb854sm21987225ab.31.2025.05.05.21.30.13 (version=TLS1_2 cipher=ECDHE-ECDSA-AES128-GCM-SHA256 bits=128/128); Mon, 05 May 2025 21:30:13 -0700 (PDT) X-Relaying-Domain: iol.unh.edu Date: Mon, 05 May 2025 21:30:13 -0700 (PDT) Message-ID: <68199055.050a0220.ecf13.9e7eSMTPIN_ADDED_MISSING@mx.google.com> Received: from [172.21.0.15] (unknown [172.18.0.240]) by postal.iol.unh.edu (Postfix) with ESMTP id 5AC6C6052471; Tue, 6 May 2025 00:30:13 -0400 (EDT) Subject: |SUCCESS| pw153300 [PATCH] net/mlx5: avoid implicit conversion to 64 From: dpdklab@iol.unh.edu To: Test Report Cc: dpdk-test-reports@iol.unh.edu In-Reply-To: <1746458202-12356-1-git-send-email-andremue@linux.microsoft.com> References: <1746458202-12356-1-git-send-email-andremue@linux.microsoft.com> Content-Type: text/plain X-BeenThere: test-report@dpdk.org X-Mailman-Version: 2.1.29 Precedence: list List-Id: automatic DPDK test reports List-Unsubscribe: , List-Archive: List-Post: List-Help: List-Subscribe: , Errors-To: test-report-bounces@dpdk.org Test-Label: iol-unit-amd64-testing Test-Status: SUCCESS http://dpdk.org/patch/153300 _Testing PASS_ Submitter: Andre Muezerie Date: Monday, May 05 2025 15:16:42 DPDK git baseline: Repo:dpdk Branch: master CommitID:ca1690ebd224f148268285b15b97441ccdbdd07e 153300 --> testing pass Upstream job id: Generic-Unit-Test-DPDK#335572 Test environment and result as below: +-------------------+----------------+ | Environment | dpdk_unit_test | +===================+================+ | CentOS Stream 10 | PASS | +-------------------+----------------+ | CentOS Stream 9 | PASS | +-------------------+----------------+ | Fedora 41 (Clang) | PASS | +-------------------+----------------+ | Fedora 41 | PASS | +-------------------+----------------+ | Fedora 40 (Clang) | PASS | +-------------------+----------------+ | Fedora 40 | PASS | +-------------------+----------------+ | Debian 12 | PASS | +-------------------+----------------+ | RHEL8 | PASS | +-------------------+----------------+ | Ubuntu 20.04 | PASS | +-------------------+----------------+ | RHEL9 | PASS | +-------------------+----------------+ | Ubuntu 22.04 | PASS | +-------------------+----------------+ | Ubuntu 24.04 | PASS | +-------------------+----------------+ CentOS Stream 10 Kernel: Depends on container host Compiler: gcc 14.2.1 20241104 (Red Hat 14.2.1-6) CentOS Stream 9 Kernel: Depends on container host Compiler: gcc 11.5.0 20240719 (Red Hat 11.5.0-2) Fedora 41 (Clang) Kernel: Depends on container host Compiler: clang 19.1.5 (Fedora 19.1.5-1.fc41) Fedora 41 Kernel: Depends on container host Compiler: gcc 14.2.1 20240912 (Red Hat 14.2.1-3) Fedora 40 (Clang) Kernel: Depends on container host Compiler: clang 18.1.8 (Fedora 18.1.8-1.fc40) Fedora 40 Kernel: Depends on container host Compiler: gcc 14.2.1 20240912 (Red Hat 14.2.1-3) Debian 12 Kernel: Depends on container host Compiler: gcc (Debian 12.2.0-14) 12.2.0 RHEL8 Kernel: Depends on container host Compiler: gcc 8.5.0 20210514 (Red Hat 8.5.0-22) Ubuntu 20.04 Kernel: Depends on container host Compiler: gcc (Ubuntu 9.4.0-1ubuntu1~20.04.2) 9.4.0 RHEL9 Kernel: Depends on container host Compiler: gcc 11.5.0 20240719 (Red Hat 11.5.0-2) Ubuntu 22.04 Kernel: Depends on container host Compiler: gcc (Ubuntu 11.4.0-1ubuntu1~22.04) 11.4.0 Ubuntu 24.04 Kernel: Depends on container host Compiler: gcc (Ubuntu 13.3.0-6ubuntu2~24.04) 13.3.0 To view detailed results, visit: https://lab.dpdk.org/results/dashboard/patchsets/33113/ UNH-IOL DPDK Community Lab To manage your email subscriptions, visit: https://lab.dpdk.org/results/dashboard/preferences/subscriptions/