From mboxrd@z Thu Jan 1 00:00:00 1970 Return-Path: Received: from mails.dpdk.org (mails.dpdk.org [217.70.189.124]) by inbox.dpdk.org (Postfix) with ESMTP id 70521466D4 for ; Tue, 6 May 2025 06:30:41 +0200 (CEST) Received: from mails.dpdk.org (localhost [127.0.0.1]) by mails.dpdk.org (Postfix) with ESMTP id 6B3E54026D; Tue, 6 May 2025 06:30:41 +0200 (CEST) Received: from mail-vk1-f225.google.com (mail-vk1-f225.google.com [209.85.221.225]) by mails.dpdk.org (Postfix) with ESMTP id 0E61440150 for ; Tue, 6 May 2025 06:30:40 +0200 (CEST) Received: by mail-vk1-f225.google.com with SMTP id 71dfb90a1353d-525b44ec88aso1515634e0c.3 for ; Mon, 05 May 2025 21:30:40 -0700 (PDT) DKIM-Signature: v=1; a=rsa-sha256; c=relaxed/relaxed; d=iol.unh.edu; s=unh-iol; t=1746505839; x=1747110639; darn=dpdk.org; h=cc:to:from:subject:message-id:date:from:to:cc:subject:date :message-id:reply-to; bh=PSLimCtpQoMGycdXrDLa87yrel8ccppuocc834WV6mw=; b=UorSNMlGnYcdevFzbqhA2LYUdwV/Lp9BpXXqpEkOTgZAO8RkHJ2Cug/p6tEJIAGrWh WYUyBO49wbl/57q7DQi7NWpBAC3qQ6I66t9meKwGJVuY1ivLH87gWB6X69f0wWMEEojq snPetbKCB12/Dj9uFLU5sf+O66CLZVM5aegZ0= X-Google-DKIM-Signature: v=1; a=rsa-sha256; c=relaxed/relaxed; d=1e100.net; s=20230601; t=1746505839; x=1747110639; h=cc:to:from:subject:message-id:date:x-gm-message-state:from:to:cc :subject:date:message-id:reply-to; bh=PSLimCtpQoMGycdXrDLa87yrel8ccppuocc834WV6mw=; b=ddyU841qfJCicN76ba41WPvMk/5G2JPKRry+lEh2Ao2joZWd66RMD8WbpMmrZ3zUEc PkNpKDeYjZmMFE2AbrsI7r62JV2BqC4WEynaBRb/VGwAae5GeCmfXkz8KeDJYi5+kKW7 aA5SprmVoWDZbWYjOcM0J4/Kd/s6jmQWPkpHce4NxFh/KfECK8nEyvI0dKZ9Oy9vS7f9 0q55l3oDCtldoqPGNf2MpguqqpYGNfzHtmJ1ycY321Fapy5iEDQGdNmKKzmPlzEwHdGV xgxE1nZHPyJWSmR46OxiTMiYLyCnGqawZn9VKWinSr4G0r+iQpBglvMZXOZW62GEKY5h 3Qrg== X-Gm-Message-State: AOJu0Yzsbw/B2eOvY3QF358TLaok0K68Qv81UWfUCTBY+H1Q7VisrZIL Z8phxIgjP8U/mADvkLnatzCwj/ug8mz94pEgeCQWRK+NAbF+KTRivHyEr+e0Eq2B+RW1NpqmF4y SbudKwaCsuK/WaGcbHxSz4aY1wX/XgGgbnf+I6DqZ X-Gm-Gg: ASbGnctLNTiPeDJPfpg3y36OJ6bUfdSpi3aL67kfXXvAaCMVRTQQggSuqL/CCElhhbz hnWXGaZlTRmOZfxW6lFaC9y9gVLBlvRWqsMlnGSvz3wtYavO6KRAEjj1NKYQC3gpy4jkMeHkuYo uzsHaLJDfTNYfW6CvDaYO5CP52B5n7Ad37fG9A0RVwFPWgW3nGze1X9PQTqQ4qZRVxvDVxmya/u Srvu6gDm58vvAus0uoAvj67sJTuRTp/V45pFlQyOAcng5IeyjlwDjgOhw+BPgWgVtJoj9vuhRtF +2Qe/XzVpE187xWc+fCnUV68VrA88MfWrcCb94gcdIDXPLO728nfUVfqNdA= X-Google-Smtp-Source: AGHT+IFTpsdNpyG6NRJ8wrGdRGi/6Mju6xzlZy7eT04uGV/YexlU4yb1dy7tqF3xh1HkL2Nqsp302Af4aydD X-Received: by 2002:a05:6122:8d6:b0:525:aecb:6306 with SMTP id 71dfb90a1353d-52b069ef743mr4348257e0c.11.1746505839318; Mon, 05 May 2025 21:30:39 -0700 (PDT) Received: from postal.iol.unh.edu (postal.iol.unh.edu. [132.177.123.84]) by smtp-relay.gmail.com with ESMTPS id 71dfb90a1353d-52ae4002966sm2040996e0c.2.2025.05.05.21.30.39 (version=TLS1_2 cipher=ECDHE-ECDSA-AES128-GCM-SHA256 bits=128/128); Mon, 05 May 2025 21:30:39 -0700 (PDT) X-Relaying-Domain: iol.unh.edu Date: Mon, 05 May 2025 21:30:39 -0700 (PDT) Message-ID: <6819906f.050a0220.334c1a.4f1bSMTPIN_ADDED_MISSING@mx.google.com> Received: from [172.21.0.6] (unknown [172.18.0.240]) by postal.iol.unh.edu (Postfix) with ESMTP id 01B6B6052471; Tue, 6 May 2025 00:30:39 -0400 (EDT) Subject: |SUCCESS| [GIT MASTER] ca1690ebd224f148268285b15b97441ccdbdd07e From: dpdklab@iol.unh.edu To: Test Report Cc: dpdk-test-reports@iol.unh.edu Content-Type: text/plain X-BeenThere: test-report@dpdk.org X-Mailman-Version: 2.1.29 Precedence: list List-Id: automatic DPDK test reports List-Unsubscribe: , List-Archive: List-Post: List-Help: List-Subscribe: , Errors-To: test-report-bounces@dpdk.org _Testing PASS_ Branch: dpdk ca1690ebd224f148268285b15b97441ccdbdd07e --> testing pass Upstream job id: Generic-DPDK-Compile-ABI#125360 Test environment and result as below: +-------------------+----------+ | Environment | abi_test | +===================+==========+ | CentOS Stream 9 | PASS | +-------------------+----------+ | Debian 12 | PASS | +-------------------+----------+ | CentOS Stream 10 | PASS | +-------------------+----------+ | Fedora 40 (Clang) | PASS | +-------------------+----------+ | Fedora 41 (Clang) | PASS | +-------------------+----------+ | Fedora 41 | PASS | +-------------------+----------+ | Fedora 40 | PASS | +-------------------+----------+ | RHEL8 | PASS | +-------------------+----------+ | openSUSE Leap 15 | PASS | +-------------------+----------+ | RHEL9 | PASS | +-------------------+----------+ | Ubuntu 22.04 | PASS | +-------------------+----------+ | Ubuntu 24.04 | PASS | +-------------------+----------+ | Arch Linux | PASS | +-------------------+----------+ CentOS Stream 9 Kernel: Depends on container host Compiler: gcc 11.5.0 20240719 (Red Hat 11.5.0-2) Debian 12 Kernel: Depends on container host Compiler: gcc (Debian 12.2.0-14) 12.2.0 CentOS Stream 10 Kernel: Depends on container host Compiler: gcc 14.2.1 20241104 (Red Hat 14.2.1-6) Fedora 40 (Clang) Kernel: Depends on container host Compiler: clang 18.1.8 (Fedora 18.1.8-1.fc40) Fedora 41 (Clang) Kernel: Depends on container host Compiler: clang 19.1.5 (Fedora 19.1.5-1.fc41) Fedora 41 Kernel: Depends on container host Compiler: gcc 14.2.1 20240912 (Red Hat 14.2.1-3) Fedora 40 Kernel: Depends on container host Compiler: gcc 14.2.1 20240912 (Red Hat 14.2.1-3) RHEL8 Kernel: Depends on container host Compiler: gcc 8.5.0 20210514 (Red Hat 8.5.0-22) openSUSE Leap 15 Kernel: Depends on container host Compiler: gcc (SUSE Linux) 7.5.0 RHEL9 Kernel: Depends on container host Compiler: gcc 11.5.0 20240719 (Red Hat 11.5.0-2) Ubuntu 22.04 Kernel: Depends on container host Compiler: gcc (Ubuntu 11.4.0-1ubuntu1~22.04) 11.4.0 Ubuntu 24.04 Kernel: Depends on container host Compiler: gcc (Ubuntu 13.3.0-6ubuntu2~24.04) 13.3.0 Arch Linux Kernel: Depends on container host Compiler: gcc 14.2.1 20240910 To view detailed results, visit: https://lab.dpdk.org/results/dashboard/tarballs/33441/ UNH-IOL DPDK Community Lab To manage your email subscriptions, visit: https://lab.dpdk.org/results/dashboard/preferences/subscriptions/