From mboxrd@z Thu Jan 1 00:00:00 1970 Return-Path: Received: from mails.dpdk.org (mails.dpdk.org [217.70.189.124]) by inbox.dpdk.org (Postfix) with ESMTP id A10D7466D4 for ; Tue, 6 May 2025 06:31:29 +0200 (CEST) Received: from mails.dpdk.org (localhost [127.0.0.1]) by mails.dpdk.org (Postfix) with ESMTP id 93E3D4026D; Tue, 6 May 2025 06:31:29 +0200 (CEST) Received: from mail-qv1-f100.google.com (mail-qv1-f100.google.com [209.85.219.100]) by mails.dpdk.org (Postfix) with ESMTP id 5A76240150 for ; Tue, 6 May 2025 06:31:27 +0200 (CEST) Received: by mail-qv1-f100.google.com with SMTP id 6a1803df08f44-6f0c30a1cf8so78753216d6.2 for ; Mon, 05 May 2025 21:31:27 -0700 (PDT) DKIM-Signature: v=1; a=rsa-sha256; c=relaxed/relaxed; d=iol.unh.edu; s=unh-iol; t=1746505886; x=1747110686; darn=dpdk.org; h=references:in-reply-to:cc:to:from:subject:message-id:date:from:to :cc:subject:date:message-id:reply-to; bh=fnn+JD3YkU0t3FDDlKl1Fsm6oCBdZTB135ppNrfXdvU=; b=AGEci4oTIynNRtG8dQDHg5ZOxL4YBAQC8X1VosgYVebr9EK9txvkjOPdHz9t+ZvW0H gETzph1aRFMZgMxPHYAxZIirDkq6he1KcZSuF0iCYSTmEORwez49WUETPSuiLpzeBNJk m3fSdGy2go4QP7Ow0s73p3GjPvMnYhCYq0n38= X-Google-DKIM-Signature: v=1; a=rsa-sha256; c=relaxed/relaxed; d=1e100.net; s=20230601; t=1746505886; x=1747110686; h=references:in-reply-to:cc:to:from:subject:message-id:date :x-gm-message-state:from:to:cc:subject:date:message-id:reply-to; bh=fnn+JD3YkU0t3FDDlKl1Fsm6oCBdZTB135ppNrfXdvU=; b=ANNm/m7cZF0Di1TCcunyq4JGZBYoffq5HIMJTpRu3LMgtx8cxRK6P+S1qVCOtXLPvc 2bUXo8FtOUbV29k5UjYSNMfcQY4xEP5+Tz5x6rxWoWfUmWig70WtiVObus7tLLc9mXGI u/E9ZMv+NSOGJTI1rKD9IHJct1KrMGyJ70WV8BhW1+kJGUiHHbpwlcwi4hyY8L+i7ad9 v2+nML+JcuwBv5A8Ne4FCMmYZ8sFF0z62roiEMpuhxtNfnrj4I+nFVDmDBw3bdoglniA YVywIp8puG5A6aUOCPycs4/couTpKwef+0vLgcbC9Ef0gBFOhgXfpN9lrA5Elz9OjQYb M/Kg== X-Gm-Message-State: AOJu0Yw1QxmUxgkZuoTCz6x2t/aUJfqlpxc2GdEd5NzXQv6jBUpfyi9z 5XCYDfzosrbxHit5RaoEGiZuNrqYyvEw96FqarUU57Jfe0rMhDxqACCIkHu/61LIEQ/lmr34htD HBi3AurFvviuKauBF6yM63XNbPG35SEDCZ9qrJ9BN X-Gm-Gg: ASbGnctsMesciRAP2ZHg7amYhsGqv1jQMGegnqIBfdW/j/ELFnVNMNJPd2Aj0N7YWv0 AUNl9gRPfD+Vp2bm5Xrwhsa4gXGiOM8n8oXkwuK5PGxAF0aQfth/xgYPFw6WPHkYXsVuxQQcV1/ DwIp9FVF8qFYcDk8R2F0ZpVsfn0OS3lSEKqRlbOh8y68uic0kX2D2UJXj34kET0G+QVuBGIFd2N yYI1d1/kEeoObMYYNLXekumwH46LYbhbYMOgJeB+uZO6Li7pc8gtv+NCAziJO3xsWXqD1vck/Pt 3akAIl0mk4WEvMRv7qkhdZ+3z1hqlhmhrGOv68mqrwmUmqvvCLPd13NUf8Q= X-Google-Smtp-Source: AGHT+IFBdIC/WU6G40iiUNMP674SeTroxc3J+O8RGji2m0zpliq6hBIfteK9atP6KumD2XtfHHXC8lepUjmI X-Received: by 2002:a05:6214:1c08:b0:6e6:6a6e:7596 with SMTP id 6a1803df08f44-6f528d3f2bamr139147756d6.39.1746505886731; Mon, 05 May 2025 21:31:26 -0700 (PDT) Received: from postal.iol.unh.edu (postal.iol.unh.edu. [132.177.123.84]) by smtp-relay.gmail.com with ESMTPS id 6a1803df08f44-6f50f3bf3b9sm23534326d6.21.2025.05.05.21.31.26 (version=TLS1_2 cipher=ECDHE-ECDSA-AES128-GCM-SHA256 bits=128/128); Mon, 05 May 2025 21:31:26 -0700 (PDT) X-Relaying-Domain: iol.unh.edu Date: Mon, 05 May 2025 21:31:26 -0700 (PDT) Message-ID: <6819909e.050a0220.2d97be.996bSMTPIN_ADDED_MISSING@mx.google.com> Received: from [172.21.0.6] (unknown [172.18.0.240]) by postal.iol.unh.edu (Postfix) with ESMTP id 77FEC6052471; Tue, 6 May 2025 00:31:26 -0400 (EDT) Subject: |SUCCESS| pw153300 [PATCH] net/mlx5: avoid implicit conversion to 64 From: dpdklab@iol.unh.edu To: Test Report Cc: dpdk-test-reports@iol.unh.edu In-Reply-To: <1746458202-12356-1-git-send-email-andremue@linux.microsoft.com> References: <1746458202-12356-1-git-send-email-andremue@linux.microsoft.com> Content-Type: text/plain X-BeenThere: test-report@dpdk.org X-Mailman-Version: 2.1.29 Precedence: list List-Id: automatic DPDK test reports List-Unsubscribe: , List-Archive: List-Post: List-Help: List-Subscribe: , Errors-To: test-report-bounces@dpdk.org Test-Label: iol-unit-amd64-testing Test-Status: SUCCESS http://dpdk.org/patch/153300 _Testing PASS_ Submitter: Andre Muezerie Date: Monday, May 05 2025 15:16:42 DPDK git baseline: Repo:dpdk Branch: master CommitID:ca1690ebd224f148268285b15b97441ccdbdd07e 153300 --> testing pass Upstream job id: Generic-Unit-Test-DPDK#335587 Test environment and result as below: +-------------------+----------------+ | Environment | dpdk_unit_test | +===================+================+ | CentOS Stream 10 | PASS | +-------------------+----------------+ | CentOS Stream 9 | PASS | +-------------------+----------------+ | Fedora 41 (Clang) | PASS | +-------------------+----------------+ | Fedora 41 | PASS | +-------------------+----------------+ | Fedora 40 (Clang) | PASS | +-------------------+----------------+ | Fedora 40 | PASS | +-------------------+----------------+ | Debian 12 | PASS | +-------------------+----------------+ | RHEL8 | PASS | +-------------------+----------------+ | Ubuntu 20.04 | PASS | +-------------------+----------------+ | RHEL9 | PASS | +-------------------+----------------+ | Ubuntu 22.04 | PASS | +-------------------+----------------+ | Ubuntu 24.04 | PASS | +-------------------+----------------+ CentOS Stream 10 Kernel: Depends on container host Compiler: gcc 14.2.1 20241104 (Red Hat 14.2.1-6) CentOS Stream 9 Kernel: Depends on container host Compiler: gcc 11.5.0 20240719 (Red Hat 11.5.0-2) Fedora 41 (Clang) Kernel: Depends on container host Compiler: clang 19.1.5 (Fedora 19.1.5-1.fc41) Fedora 41 Kernel: Depends on container host Compiler: gcc 14.2.1 20240912 (Red Hat 14.2.1-3) Fedora 40 (Clang) Kernel: Depends on container host Compiler: clang 18.1.8 (Fedora 18.1.8-1.fc40) Fedora 40 Kernel: Depends on container host Compiler: gcc 14.2.1 20240912 (Red Hat 14.2.1-3) Debian 12 Kernel: Depends on container host Compiler: gcc (Debian 12.2.0-14) 12.2.0 RHEL8 Kernel: Depends on container host Compiler: gcc 8.5.0 20210514 (Red Hat 8.5.0-22) Ubuntu 20.04 Kernel: Depends on container host Compiler: gcc (Ubuntu 9.4.0-1ubuntu1~20.04.2) 9.4.0 RHEL9 Kernel: Depends on container host Compiler: gcc 11.5.0 20240719 (Red Hat 11.5.0-2) Ubuntu 22.04 Kernel: Depends on container host Compiler: gcc (Ubuntu 11.4.0-1ubuntu1~22.04) 11.4.0 Ubuntu 24.04 Kernel: Depends on container host Compiler: gcc (Ubuntu 13.3.0-6ubuntu2~24.04) 13.3.0 To view detailed results, visit: https://lab.dpdk.org/results/dashboard/patchsets/33113/ UNH-IOL DPDK Community Lab To manage your email subscriptions, visit: https://lab.dpdk.org/results/dashboard/preferences/subscriptions/