From mboxrd@z Thu Jan 1 00:00:00 1970 Return-Path: Received: from mails.dpdk.org (mails.dpdk.org [217.70.189.124]) by inbox.dpdk.org (Postfix) with ESMTP id C315C466D4 for ; Tue, 6 May 2025 07:09:33 +0200 (CEST) Received: from mails.dpdk.org (localhost [127.0.0.1]) by mails.dpdk.org (Postfix) with ESMTP id BE4A74026D; Tue, 6 May 2025 07:09:33 +0200 (CEST) Received: from mail-oo1-f97.google.com (mail-oo1-f97.google.com [209.85.161.97]) by mails.dpdk.org (Postfix) with ESMTP id B6BB440150 for ; Tue, 6 May 2025 07:09:31 +0200 (CEST) Received: by mail-oo1-f97.google.com with SMTP id 006d021491bc7-60402c94319so3328976eaf.1 for ; Mon, 05 May 2025 22:09:31 -0700 (PDT) DKIM-Signature: v=1; a=rsa-sha256; c=relaxed/relaxed; d=iol.unh.edu; s=unh-iol; t=1746508170; x=1747112970; darn=dpdk.org; h=references:in-reply-to:cc:to:from:subject:message-id:date:from:to :cc:subject:date:message-id:reply-to; bh=KQNZsp9DCAf9HzPPxfPtIL8+t101ozR1xIYPe/uullI=; b=N+y7nGU2tPEIFPgIYKRlEaeLrxEklGk5Go6BM1Fv4tcuhS+jE6fvb9ooJ4EQvF2JXM EldnKc4WoZbtsI/xLLNQB5l6zpswR/baMFZTIqPkpF1YStLZ5RJpbBLF48tcqE/jI+CO GFYcw+qfgoWL1y77uli5wnUyrpk+PrQPSTgck= X-Google-DKIM-Signature: v=1; a=rsa-sha256; c=relaxed/relaxed; d=1e100.net; s=20230601; t=1746508170; x=1747112970; h=references:in-reply-to:cc:to:from:subject:message-id:date :x-gm-message-state:from:to:cc:subject:date:message-id:reply-to; bh=KQNZsp9DCAf9HzPPxfPtIL8+t101ozR1xIYPe/uullI=; b=do1klqWRMefOEg0kpDTDQHv1me5xWqCmasdVbaOpBHNtNmoAlBM2z3rE6lcqgr48P+ XOgvuCIQ/D6Li8NwHMNf3qaXAZds1vUlXog/AgdAvJ1LGF6a5t4ZmcSTg1vziOmkHbsy Rb7h2yZVpAHboH9WZucyHxG2SVerSM1ngz2beRH2QYIFKrCOfS/hAi6dn3IMoITQx9yg WAKSEZoRZpvLGCU7b9ju5GfG8kuG+KwO4nIaz+ylaukQAX8UuKu7iuoCiHbu1k6hNW5A v+qcfjV1QcT/MEz8ByXJwS+F4YsUI/Dfd6v4W+RFzDGeKOldmYCC49hCrflAeFCAd6QN Lv5A== X-Gm-Message-State: AOJu0YxjbeL6m2qit5Qf6ZJKB8nkQoDjaVxhCHFj2tAml9SX5FFYE7rX DgmGtWGCpyJfami5d0JPRzsAT/4Q8W4Xw9HgjS55RTObdcibloAPf5hDdaG9NLZCoEln+ndvDzb PIZyydb7yt0/U0F7J9m3JGLHDeZjvPQYOHXjgcr09 X-Gm-Gg: ASbGncsubB5cBPZuS3wYEh8h2UGII8oBhCIfOkpebmJpgDSDjwe4tiplVQOCtCrU/lY +W9aCbaTOS/Y2O7JJvE0EmIiKkZYaDBkj0ilJUcr3ddQ+utJwp87GfswYgxEj1ZB1i5vKBitQSq VAUaokf0EvvwrUzhdNyhewD28u4/Veoed7AC8bkAlx99x0QchUaGZxwdR37nxn5HxbEL7jsMx0k vWeYGzzI+nW8aAf/TLRZRqHrrzuqmh98+vbl/RuHh2dFSec0QxTXrcKlV4AVhfk8VIiMdsw8mFs 7Sv75i1Kwv70iESfRdSrRmnWq5VhuMznun2bfLb44sjzvzXDbqqFOPlq1+M= X-Google-Smtp-Source: AGHT+IFD1xEQ4Ts8sN+MPQXyeVQO+prUUEkztg3ebykGLEqZ2oMbx+IIl7z/zXeEOL2IXfPPHTgeC/FDdAaL X-Received: by 2002:a05:6870:568d:b0:2c8:5831:8d4 with SMTP id 586e51a60fabf-2dab341e2f2mr8477496fac.39.1746508170724; Mon, 05 May 2025 22:09:30 -0700 (PDT) Received: from postal.iol.unh.edu (postal.iol.unh.edu. [132.177.123.84]) by smtp-relay.gmail.com with ESMTPS id 586e51a60fabf-2daa12087aesm2215401fac.35.2025.05.05.22.09.30 (version=TLS1_2 cipher=ECDHE-ECDSA-AES128-GCM-SHA256 bits=128/128); Mon, 05 May 2025 22:09:30 -0700 (PDT) X-Relaying-Domain: iol.unh.edu Date: Mon, 05 May 2025 22:09:30 -0700 (PDT) Message-ID: <6819998a.050a0220.143421.99a8SMTPIN_ADDED_MISSING@mx.google.com> Received: from [172.21.0.6] (unknown [172.18.0.240]) by postal.iol.unh.edu (Postfix) with ESMTP id 34FC06052471; Tue, 6 May 2025 01:09:30 -0400 (EDT) Subject: |SUCCESS| pw153300 [PATCH] net/mlx5: avoid implicit conversion to 64 From: dpdklab@iol.unh.edu To: Test Report Cc: dpdk-test-reports@iol.unh.edu In-Reply-To: <1746458202-12356-1-git-send-email-andremue@linux.microsoft.com> References: <1746458202-12356-1-git-send-email-andremue@linux.microsoft.com> Content-Type: text/plain X-BeenThere: test-report@dpdk.org X-Mailman-Version: 2.1.29 Precedence: list List-Id: automatic DPDK test reports List-Unsubscribe: , List-Archive: List-Post: List-Help: List-Subscribe: , Errors-To: test-report-bounces@dpdk.org Test-Label: iol-compile-amd64-testing Test-Status: SUCCESS http://dpdk.org/patch/153300 _Testing PASS_ Submitter: Andre Muezerie Date: Monday, May 05 2025 15:16:42 DPDK git baseline: Repo:dpdk Branch: master CommitID:ca1690ebd224f148268285b15b97441ccdbdd07e 153300 --> testing pass Upstream job id: Generic-DPDK-Compile-Meson#385367 Test environment and result as below: +-----------------------------------+--------------------+-------------------+-------------------+------------------+-------------------------+ | Environment | dpdk_meson_compile | dpdk_msvc_compile | dpdk_compile_spdk | dpdk_compile_ovs | dpdk_llvm_clang_compile | +===================================+====================+===================+===================+==================+=========================+ | Ubuntu 20.04 | PASS | SKIPPED | SKIPPED | SKIPPED | SKIPPED | +-----------------------------------+--------------------+-------------------+-------------------+------------------+-------------------------+ | FreeBSD 13.5 | PASS | SKIPPED | SKIPPED | SKIPPED | SKIPPED | +-----------------------------------+--------------------+-------------------+-------------------+------------------+-------------------------+ | FreeBSD 14.2 | PASS | SKIPPED | SKIPPED | SKIPPED | SKIPPED | +-----------------------------------+--------------------+-------------------+-------------------+------------------+-------------------------+ | CentOS Stream 9 | PASS | SKIPPED | PASS | SKIPPED | SKIPPED | +-----------------------------------+--------------------+-------------------+-------------------+------------------+-------------------------+ | CentOS Stream 10 | PASS | SKIPPED | SKIPPED | SKIPPED | SKIPPED | +-----------------------------------+--------------------+-------------------+-------------------+------------------+-------------------------+ | Fedora 40 (Clang) | PASS | SKIPPED | PASS | SKIPPED | SKIPPED | +-----------------------------------+--------------------+-------------------+-------------------+------------------+-------------------------+ | Fedora 40 | PASS | SKIPPED | PASS | SKIPPED | SKIPPED | +-----------------------------------+--------------------+-------------------+-------------------+------------------+-------------------------+ | Fedora 41 (Clang) | PASS | SKIPPED | PASS | PASS | SKIPPED | +-----------------------------------+--------------------+-------------------+-------------------+------------------+-------------------------+ | Fedora 41 | PASS | SKIPPED | PASS | PASS | SKIPPED | +-----------------------------------+--------------------+-------------------+-------------------+------------------+-------------------------+ | openSUSE Leap 15 | PASS | SKIPPED | SKIPPED | SKIPPED | SKIPPED | +-----------------------------------+--------------------+-------------------+-------------------+------------------+-------------------------+ | RHEL8 | PASS | SKIPPED | SKIPPED | SKIPPED | SKIPPED | +-----------------------------------+--------------------+-------------------+-------------------+------------------+-------------------------+ | RHEL9 | PASS | SKIPPED | SKIPPED | SKIPPED | SKIPPED | +-----------------------------------+--------------------+-------------------+-------------------+------------------+-------------------------+ | Ubuntu 22.04 | PASS | SKIPPED | PASS | SKIPPED | SKIPPED | +-----------------------------------+--------------------+-------------------+-------------------+------------------+-------------------------+ | Ubuntu 24.04 | PASS | SKIPPED | PASS | PASS | SKIPPED | +-----------------------------------+--------------------+-------------------+-------------------+------------------+-------------------------+ | Alpine | PASS | SKIPPED | SKIPPED | SKIPPED | SKIPPED | +-----------------------------------+--------------------+-------------------+-------------------+------------------+-------------------------+ | Ubuntu 24.04 32 Bit Cross Compile | PASS | SKIPPED | SKIPPED | SKIPPED | SKIPPED | +-----------------------------------+--------------------+-------------------+-------------------+------------------+-------------------------+ | Debian 12 | PASS | SKIPPED | PASS | SKIPPED | SKIPPED | +-----------------------------------+--------------------+-------------------+-------------------+------------------+-------------------------+ | Windows Server 2022 | SKIPPED | PASS | SKIPPED | SKIPPED | PASS | +-----------------------------------+--------------------+-------------------+-------------------+------------------+-------------------------+ Ubuntu 20.04 Kernel: 4.19.325-0419325-generic Compiler: gcc (Ubuntu 9.4.0-1ubuntu1~20.04.2) 9.4.0 FreeBSD 13.5 Kernel: 13.5-RELEASE Compiler: clang 19.1.7 FreeBSD 14.2 Kernel: 14.2-RELEASE Compiler: clang 18.1.6 CentOS Stream 9 Kernel: Depends on container host Compiler: gcc 11.5.0 20240719 (Red Hat 11.5.0-2) CentOS Stream 10 Kernel: Depends on container host Compiler: gcc 14.2.1 20241104 (Red Hat 14.2.1-6) Fedora 40 (Clang) Kernel: Depends on container host Compiler: clang 18.1.8 (Fedora 18.1.8-1.fc40) Fedora 40 Kernel: Depends on container host Compiler: gcc 14.2.1 20240912 (Red Hat 14.2.1-3) Fedora 41 (Clang) Kernel: Depends on container host Compiler: clang 19.1.5 (Fedora 19.1.5-1.fc41) Fedora 41 Kernel: Depends on container host Compiler: gcc 14.2.1 20240912 (Red Hat 14.2.1-3) openSUSE Leap 15 Kernel: Depends on container host Compiler: gcc (SUSE Linux) 7.5.0 RHEL8 Kernel: Depends on container host Compiler: gcc 8.5.0 20210514 (Red Hat 8.5.0-22) RHEL9 Kernel: Depends on container host Compiler: gcc 11.5.0 20240719 (Red Hat 11.5.0-2) Ubuntu 22.04 Kernel: Depends on container host Compiler: gcc (Ubuntu 11.4.0-1ubuntu1~22.04) 11.4.0 Ubuntu 24.04 Kernel: Depends on container host Compiler: gcc (Ubuntu 13.3.0-6ubuntu2~24.04) 13.3.0 Alpine Kernel: Depends on container host Compiler: gcc (Alpine 14.2.0) 14.2.0 Ubuntu 24.04 32 Bit Cross Compile Kernel: Depends on container host Compiler: gcc (Ubuntu 13.3.0-6ubuntu2~24.04) 13.3.0 Debian 12 Kernel: Depends on container host Compiler: gcc (Debian 12.2.0-14) 12.2.0 Windows Server 2022 Kernel: 10.0.20348.2031 Compiler: clang 15.0.7, gcc 14.1.0 (MinGW), and MSVC VS 19.39.33521 To view detailed results, visit: https://lab.dpdk.org/results/dashboard/patchsets/33113/ UNH-IOL DPDK Community Lab To manage your email subscriptions, visit: https://lab.dpdk.org/results/dashboard/preferences/subscriptions/