From mboxrd@z Thu Jan 1 00:00:00 1970 Return-Path: Received: from mails.dpdk.org (mails.dpdk.org [217.70.189.124]) by inbox.dpdk.org (Postfix) with ESMTP id DF1BC466D4 for ; Tue, 6 May 2025 07:10:19 +0200 (CEST) Received: from mails.dpdk.org (localhost [127.0.0.1]) by mails.dpdk.org (Postfix) with ESMTP id D9C2F4026D; Tue, 6 May 2025 07:10:19 +0200 (CEST) Received: from mail-io1-f97.google.com (mail-io1-f97.google.com [209.85.166.97]) by mails.dpdk.org (Postfix) with ESMTP id BC67940150 for ; Tue, 6 May 2025 07:10:17 +0200 (CEST) Received: by mail-io1-f97.google.com with SMTP id ca18e2360f4ac-85db3475637so200390539f.1 for ; Mon, 05 May 2025 22:10:17 -0700 (PDT) DKIM-Signature: v=1; a=rsa-sha256; c=relaxed/relaxed; d=iol.unh.edu; s=unh-iol; t=1746508217; x=1747113017; darn=dpdk.org; h=references:in-reply-to:cc:to:from:subject:message-id:date:from:to :cc:subject:date:message-id:reply-to; bh=vyttQWoOME9p7/pAtM9mFdurFL6AndifW4iDrSBaipw=; b=jnPNUvIVing/govSLWCf6Rh4DLDK5KQkgaLNGQmrAPTheX0Hejwy3+WbU7ytSme44g K0CxgbVJ+QR3Db9CsR7anuxXsKqIF2hiWzl3P20ZtgdWFIuqD4lk0CgOI0FEIPact0um I38PcNonOSbBNcDzzBbMNTDXZJ9bu3OywATbg= X-Google-DKIM-Signature: v=1; a=rsa-sha256; c=relaxed/relaxed; d=1e100.net; s=20230601; t=1746508217; x=1747113017; h=references:in-reply-to:cc:to:from:subject:message-id:date :x-gm-message-state:from:to:cc:subject:date:message-id:reply-to; bh=vyttQWoOME9p7/pAtM9mFdurFL6AndifW4iDrSBaipw=; b=dPwmzT10wFGyfc5j9XntBvQktrG55PX53EX/TABjn0Z0f3VOzOTqGZ2dwBpRLx84jq 5bOSMAQHLtdQ5jOwFBlR9Kald029IXCer5+xsqHWw5qJ7XA47NKgZu6e+fy5/2zEl7zn X7KVOAnv7PeDksooY5Fz5FJNQx2TJXIRpaZ5PBquR3DcnNp87YRypO0zgz20u3cOPOOj WPiDJclFJdzi1ItCRvXQD0HnRZ61fGcWrrGOPs1pyYzUxEZYb35FRsjokW945t/GabPg rYoTffiZ8co89DrPTcMSkotXCGVc2HhicOvynMCHMuSDsc86koW8k0AW2P/HwL7cXUZ2 rsNA== X-Gm-Message-State: AOJu0YyB6edw3KwZKhvIewykx8hc7WJktOYXmDLUDXYufIraCslnIWH2 JXb1Vqkx6zvKdOYPkb55aRR95YDNCq6+l/k8IisWxbW3mNzMnZVxZwUJaUoUqgen54cYSaZJ4lg C5xnnT5sPcAkiM9DreikmVDirdSNvDNrrnWhxTbWEW8sYdOwn1C98xjML X-Gm-Gg: ASbGncvo2FhOdF4IqykApcOwlZOJbeLAc3jMW4tEVao/xTvMTydrVhMqzFi/811O1sc R+TGehWyl7OV9/C+8355UJHMtoS4Y6gMggogX0Sa7Z2rRVIRi6uBDGPHiBNMxushNlIaY3PYvKU LM7KrKOzZlV1K9u5hvY/h3OgEhHhVNieVvu1x5izc85tPdTNNlm0tOEcW6L+ykp1GOD919R6EuZ Toa0DtNed4ZBo2j6Nk4U9felBnG/NWOMZ/ddeMEy/sTpo23I/fp7iF60C5IKXdebL5RXZg++u4S md7Eh3/lB5pMZ4UYNA20cFqyukk4fXe+2YJ3 X-Google-Smtp-Source: AGHT+IE5ndDw+l7JPB9cZGGDw9XChZ/SgcCk7S2mz+cBlEzv5MJFrD5HpYwt45iWfDxga4rFzw7bSibKLJWM X-Received: by 2002:a92:cc06:0:b0:3d6:d147:c6a2 with SMTP id e9e14a558f8ab-3da6cad6873mr26441105ab.8.1746508216948; Mon, 05 May 2025 22:10:16 -0700 (PDT) Received: from postal.iol.unh.edu (postal.iol.unh.edu. [2606:4100:3880:1234::84]) by smtp-relay.gmail.com with ESMTPS id e9e14a558f8ab-3d975e7d774sm21741155ab.18.2025.05.05.22.10.16 (version=TLS1_2 cipher=ECDHE-ECDSA-AES128-GCM-SHA256 bits=128/128); Mon, 05 May 2025 22:10:16 -0700 (PDT) X-Relaying-Domain: iol.unh.edu Date: Mon, 05 May 2025 22:10:16 -0700 (PDT) Message-ID: <681999b8.050a0220.196d6b.a822SMTPIN_ADDED_MISSING@mx.google.com> Received: from [172.21.0.6] (unknown [172.18.0.240]) by postal.iol.unh.edu (Postfix) with ESMTP id 762FA6052471; Tue, 6 May 2025 01:10:16 -0400 (EDT) Subject: |SUCCESS| pw153300 [PATCH] net/mlx5: avoid implicit conversion to 64 From: dpdklab@iol.unh.edu To: Test Report Cc: dpdk-test-reports@iol.unh.edu In-Reply-To: <1746458202-12356-1-git-send-email-andremue@linux.microsoft.com> References: <1746458202-12356-1-git-send-email-andremue@linux.microsoft.com> Content-Type: text/plain X-BeenThere: test-report@dpdk.org X-Mailman-Version: 2.1.29 Precedence: list List-Id: automatic DPDK test reports List-Unsubscribe: , List-Archive: List-Post: List-Help: List-Subscribe: , Errors-To: test-report-bounces@dpdk.org Test-Label: iol-compile-amd64-testing Test-Status: SUCCESS http://dpdk.org/patch/153300 _Testing PASS_ Submitter: Andre Muezerie Date: Monday, May 05 2025 15:16:42 DPDK git baseline: Repo:dpdk Branch: master CommitID:ca1690ebd224f148268285b15b97441ccdbdd07e 153300 --> testing pass Upstream job id: Generic-DPDK-Compile-Meson#385368 Test environment and result as below: +-----------------------------------+--------------------+-------------------+-------------------+------------------+-------------------------+ | Environment | dpdk_meson_compile | dpdk_msvc_compile | dpdk_compile_spdk | dpdk_compile_ovs | dpdk_llvm_clang_compile | +===================================+====================+===================+===================+==================+=========================+ | Ubuntu 20.04 | PASS | SKIPPED | SKIPPED | SKIPPED | SKIPPED | +-----------------------------------+--------------------+-------------------+-------------------+------------------+-------------------------+ | FreeBSD 13.5 | PASS | SKIPPED | SKIPPED | SKIPPED | SKIPPED | +-----------------------------------+--------------------+-------------------+-------------------+------------------+-------------------------+ | FreeBSD 14.2 | PASS | SKIPPED | SKIPPED | SKIPPED | SKIPPED | +-----------------------------------+--------------------+-------------------+-------------------+------------------+-------------------------+ | CentOS Stream 9 | PASS | SKIPPED | PASS | SKIPPED | SKIPPED | +-----------------------------------+--------------------+-------------------+-------------------+------------------+-------------------------+ | CentOS Stream 10 | PASS | SKIPPED | SKIPPED | SKIPPED | SKIPPED | +-----------------------------------+--------------------+-------------------+-------------------+------------------+-------------------------+ | Fedora 40 (Clang) | PASS | SKIPPED | PASS | SKIPPED | SKIPPED | +-----------------------------------+--------------------+-------------------+-------------------+------------------+-------------------------+ | Fedora 40 | PASS | SKIPPED | PASS | SKIPPED | SKIPPED | +-----------------------------------+--------------------+-------------------+-------------------+------------------+-------------------------+ | Fedora 41 (Clang) | PASS | SKIPPED | PASS | PASS | SKIPPED | +-----------------------------------+--------------------+-------------------+-------------------+------------------+-------------------------+ | Fedora 41 | PASS | SKIPPED | PASS | PASS | SKIPPED | +-----------------------------------+--------------------+-------------------+-------------------+------------------+-------------------------+ | openSUSE Leap 15 | PASS | SKIPPED | SKIPPED | SKIPPED | SKIPPED | +-----------------------------------+--------------------+-------------------+-------------------+------------------+-------------------------+ | RHEL8 | PASS | SKIPPED | SKIPPED | SKIPPED | SKIPPED | +-----------------------------------+--------------------+-------------------+-------------------+------------------+-------------------------+ | RHEL9 | PASS | SKIPPED | SKIPPED | SKIPPED | SKIPPED | +-----------------------------------+--------------------+-------------------+-------------------+------------------+-------------------------+ | Ubuntu 22.04 | PASS | SKIPPED | PASS | SKIPPED | SKIPPED | +-----------------------------------+--------------------+-------------------+-------------------+------------------+-------------------------+ | Ubuntu 24.04 | PASS | SKIPPED | PASS | PASS | SKIPPED | +-----------------------------------+--------------------+-------------------+-------------------+------------------+-------------------------+ | Alpine | PASS | SKIPPED | SKIPPED | SKIPPED | SKIPPED | +-----------------------------------+--------------------+-------------------+-------------------+------------------+-------------------------+ | Ubuntu 24.04 32 Bit Cross Compile | PASS | SKIPPED | SKIPPED | SKIPPED | SKIPPED | +-----------------------------------+--------------------+-------------------+-------------------+------------------+-------------------------+ | Debian 12 | PASS | SKIPPED | PASS | SKIPPED | SKIPPED | +-----------------------------------+--------------------+-------------------+-------------------+------------------+-------------------------+ | Windows Server 2022 | SKIPPED | PASS | SKIPPED | SKIPPED | PASS | +-----------------------------------+--------------------+-------------------+-------------------+------------------+-------------------------+ Ubuntu 20.04 Kernel: 4.19.325-0419325-generic Compiler: gcc (Ubuntu 9.4.0-1ubuntu1~20.04.2) 9.4.0 FreeBSD 13.5 Kernel: 13.5-RELEASE Compiler: clang 19.1.7 FreeBSD 14.2 Kernel: 14.2-RELEASE Compiler: clang 18.1.6 CentOS Stream 9 Kernel: Depends on container host Compiler: gcc 11.5.0 20240719 (Red Hat 11.5.0-2) CentOS Stream 10 Kernel: Depends on container host Compiler: gcc 14.2.1 20241104 (Red Hat 14.2.1-6) Fedora 40 (Clang) Kernel: Depends on container host Compiler: clang 18.1.8 (Fedora 18.1.8-1.fc40) Fedora 40 Kernel: Depends on container host Compiler: gcc 14.2.1 20240912 (Red Hat 14.2.1-3) Fedora 41 (Clang) Kernel: Depends on container host Compiler: clang 19.1.5 (Fedora 19.1.5-1.fc41) Fedora 41 Kernel: Depends on container host Compiler: gcc 14.2.1 20240912 (Red Hat 14.2.1-3) openSUSE Leap 15 Kernel: Depends on container host Compiler: gcc (SUSE Linux) 7.5.0 RHEL8 Kernel: Depends on container host Compiler: gcc 8.5.0 20210514 (Red Hat 8.5.0-22) RHEL9 Kernel: Depends on container host Compiler: gcc 11.5.0 20240719 (Red Hat 11.5.0-2) Ubuntu 22.04 Kernel: Depends on container host Compiler: gcc (Ubuntu 11.4.0-1ubuntu1~22.04) 11.4.0 Ubuntu 24.04 Kernel: Depends on container host Compiler: gcc (Ubuntu 13.3.0-6ubuntu2~24.04) 13.3.0 Alpine Kernel: Depends on container host Compiler: gcc (Alpine 14.2.0) 14.2.0 Ubuntu 24.04 32 Bit Cross Compile Kernel: Depends on container host Compiler: gcc (Ubuntu 13.3.0-6ubuntu2~24.04) 13.3.0 Debian 12 Kernel: Depends on container host Compiler: gcc (Debian 12.2.0-14) 12.2.0 Windows Server 2022 Kernel: 10.0.20348.2031 Compiler: clang 15.0.7, gcc 14.1.0 (MinGW), and MSVC VS 19.39.33521 To view detailed results, visit: https://lab.dpdk.org/results/dashboard/patchsets/33113/ UNH-IOL DPDK Community Lab To manage your email subscriptions, visit: https://lab.dpdk.org/results/dashboard/preferences/subscriptions/