From mboxrd@z Thu Jan 1 00:00:00 1970 Return-Path: Received: from mails.dpdk.org (mails.dpdk.org [217.70.189.124]) by inbox.dpdk.org (Postfix) with ESMTP id 20E6F466D4 for ; Tue, 6 May 2025 07:20:46 +0200 (CEST) Received: from mails.dpdk.org (localhost [127.0.0.1]) by mails.dpdk.org (Postfix) with ESMTP id 185B14026D; Tue, 6 May 2025 07:20:46 +0200 (CEST) Received: from mail-pl1-f227.google.com (mail-pl1-f227.google.com [209.85.214.227]) by mails.dpdk.org (Postfix) with ESMTP id CAA4340150 for ; Tue, 6 May 2025 07:20:44 +0200 (CEST) Received: by mail-pl1-f227.google.com with SMTP id d9443c01a7336-22e09f57ed4so48898735ad.0 for ; Mon, 05 May 2025 22:20:44 -0700 (PDT) DKIM-Signature: v=1; a=rsa-sha256; c=relaxed/relaxed; d=iol.unh.edu; s=unh-iol; t=1746508844; x=1747113644; darn=dpdk.org; h=references:in-reply-to:cc:to:from:subject:message-id:date:from:to :cc:subject:date:message-id:reply-to; bh=wkp3365FY6mk0d1vtSIV/mMGw1Niu6Am1Pij1uMrNV0=; b=KVI0I1qd2e01iKENRtPmxC4kGoVc+ah85PliT9YaGHIyEcb6yEKMHEouiotONNhixq jQrjneS/5UiVDipTRPO4KGw99tDrfZY9YrUaVOhLU1F/BI20yEjDjL6YrzlgAE42VH9O 2dxlYWkIRcLwQimND2kxnLgZ2va+7hUOVfMdo= X-Google-DKIM-Signature: v=1; a=rsa-sha256; c=relaxed/relaxed; d=1e100.net; s=20230601; t=1746508844; x=1747113644; h=references:in-reply-to:cc:to:from:subject:message-id:date :x-gm-message-state:from:to:cc:subject:date:message-id:reply-to; bh=wkp3365FY6mk0d1vtSIV/mMGw1Niu6Am1Pij1uMrNV0=; b=ixpzWhLoCZoj9/naMrBa/CSpRznYFPhs48NoZxvOdrvVJPNtgAczRYIi/iOfTMwQiT JUmEwej25TAKtb0p69/NOu5cwrIOYdrN0wD3KzPtKO7G7uraO1qOWjqtW98YUu5CNdc5 vNkeDrwUQWNt6MxRZf0mmdBFF138LGXNWWyk6cHTC6CKHhonJHy6zB00hYLo4GmkVTsq 2XILB8pZF0fmQg+T+jSTHnUZP6VzCgk88bNnnmUWqTKZvDzzh+nV37fkCqLLT+pm4ptB bRqNWtHEE3Po5Rtien46K0uFB+lHhIocwmEcs9+2rFt/zHBKbI+PodubEaEhds3Gmuoi YjdA== X-Gm-Message-State: AOJu0Yy9v6TjJhchJoU7CquLAitcD6Ma4qbossxFJAXT6z+U5VtM4YiN xIj6RTxhMGtvAEWAGcmdq3IeB7aqq7BI7O1r4BOlaIwXUwKYMDpEiBZQnRI0fZZGCrHXC3JpBwz go6QiJeJXFBL1pEX7XIz5jsEm06iiCwA4740vOfrq X-Gm-Gg: ASbGncs21ykOIDOY5OjJtbOTFXvm54ZDmVFngyruGZWdm+3Yt+1B4BGaFlRktxSvL/x YRijX/R2qNoRIM6dQruFvgmvd42B26b2duhBAPZTq4jmSYRdBIj8jw/gKMIuAdYT8jMOBA/8Cpz C46f8WlmCd9Cv08XogByE94IMyeIYxs5j2RYpAMvXy4By0yN3WiNaG1IUHc3AsOdu4EjWVk8LLH f2hh3T3zSfBA7MsevOOBbu4OGH17aMza6ku2ebP76eoRZS5ppLYxQ3kLYAipPqiN2WXDZYZn10F jC31msQtNf+CtWvnvXrstzx7TZwG25H5OH0b1qNuAUJdBopwFe6QnWEVMtk= X-Google-Smtp-Source: AGHT+IG8oWUS2CzDDPoC+tc0Xq8P0rnR8eeJUamdEfv/Krrj41GFL1XBzgLNZXTtfkEIwiY4wSRKR55C7Y5d X-Received: by 2002:a17:903:11c8:b0:224:24d3:60fb with SMTP id d9443c01a7336-22e327d549dmr25187785ad.10.1746508843886; Mon, 05 May 2025 22:20:43 -0700 (PDT) Received: from postal.iol.unh.edu (postal.iol.unh.edu. [132.177.123.84]) by smtp-relay.gmail.com with ESMTPS id d9443c01a7336-22e151f34b7sm17182675ad.65.2025.05.05.22.20.43 (version=TLS1_2 cipher=ECDHE-ECDSA-AES128-GCM-SHA256 bits=128/128); Mon, 05 May 2025 22:20:43 -0700 (PDT) X-Relaying-Domain: iol.unh.edu Date: Mon, 05 May 2025 22:20:43 -0700 (PDT) Message-ID: <68199c2b.170a0220.2f6788.4f39SMTPIN_ADDED_MISSING@mx.google.com> Received: from [172.21.0.11] (unknown [172.18.0.240]) by postal.iol.unh.edu (Postfix) with ESMTP id 5307E6052471; Tue, 6 May 2025 01:20:43 -0400 (EDT) Subject: |SUCCESS| pw153300 [PATCH] net/mlx5: avoid implicit conversion to 64 From: dpdklab@iol.unh.edu To: Test Report Cc: dpdk-test-reports@iol.unh.edu In-Reply-To: <1746458202-12356-1-git-send-email-andremue@linux.microsoft.com> References: <1746458202-12356-1-git-send-email-andremue@linux.microsoft.com> Content-Type: text/plain X-BeenThere: test-report@dpdk.org X-Mailman-Version: 2.1.29 Precedence: list List-Id: automatic DPDK test reports List-Unsubscribe: , List-Archive: List-Post: List-Help: List-Subscribe: , Errors-To: test-report-bounces@dpdk.org Test-Label: iol-compile-amd64-testing Test-Status: SUCCESS http://dpdk.org/patch/153300 _Testing PASS_ Submitter: Andre Muezerie Date: Monday, May 05 2025 15:16:42 DPDK git baseline: Repo:dpdk Branch: master CommitID:ca1690ebd224f148268285b15b97441ccdbdd07e 153300 --> testing pass Upstream job id: Generic-DPDK-Compile-Meson#385371 Test environment and result as below: +-----------------------------------+--------------------+-------------------+-------------------+------------------+-------------------------+ | Environment | dpdk_meson_compile | dpdk_msvc_compile | dpdk_compile_spdk | dpdk_compile_ovs | dpdk_llvm_clang_compile | +===================================+====================+===================+===================+==================+=========================+ | Ubuntu 20.04 | PASS | SKIPPED | SKIPPED | SKIPPED | SKIPPED | +-----------------------------------+--------------------+-------------------+-------------------+------------------+-------------------------+ | FreeBSD 13.5 | PASS | SKIPPED | SKIPPED | SKIPPED | SKIPPED | +-----------------------------------+--------------------+-------------------+-------------------+------------------+-------------------------+ | FreeBSD 14.2 | PASS | SKIPPED | SKIPPED | SKIPPED | SKIPPED | +-----------------------------------+--------------------+-------------------+-------------------+------------------+-------------------------+ | CentOS Stream 9 | PASS | SKIPPED | PASS | SKIPPED | SKIPPED | +-----------------------------------+--------------------+-------------------+-------------------+------------------+-------------------------+ | CentOS Stream 10 | PASS | SKIPPED | SKIPPED | SKIPPED | SKIPPED | +-----------------------------------+--------------------+-------------------+-------------------+------------------+-------------------------+ | Fedora 40 (Clang) | PASS | SKIPPED | PASS | SKIPPED | SKIPPED | +-----------------------------------+--------------------+-------------------+-------------------+------------------+-------------------------+ | Fedora 40 | PASS | SKIPPED | PASS | SKIPPED | SKIPPED | +-----------------------------------+--------------------+-------------------+-------------------+------------------+-------------------------+ | Fedora 41 (Clang) | PASS | SKIPPED | PASS | PASS | SKIPPED | +-----------------------------------+--------------------+-------------------+-------------------+------------------+-------------------------+ | Fedora 41 | PASS | SKIPPED | PASS | PASS | SKIPPED | +-----------------------------------+--------------------+-------------------+-------------------+------------------+-------------------------+ | openSUSE Leap 15 | PASS | SKIPPED | SKIPPED | SKIPPED | SKIPPED | +-----------------------------------+--------------------+-------------------+-------------------+------------------+-------------------------+ | RHEL8 | PASS | SKIPPED | SKIPPED | SKIPPED | SKIPPED | +-----------------------------------+--------------------+-------------------+-------------------+------------------+-------------------------+ | RHEL9 | PASS | SKIPPED | SKIPPED | SKIPPED | SKIPPED | +-----------------------------------+--------------------+-------------------+-------------------+------------------+-------------------------+ | Ubuntu 22.04 | PASS | SKIPPED | PASS | SKIPPED | SKIPPED | +-----------------------------------+--------------------+-------------------+-------------------+------------------+-------------------------+ | Ubuntu 24.04 | PASS | SKIPPED | PASS | PASS | SKIPPED | +-----------------------------------+--------------------+-------------------+-------------------+------------------+-------------------------+ | Alpine | PASS | SKIPPED | SKIPPED | SKIPPED | SKIPPED | +-----------------------------------+--------------------+-------------------+-------------------+------------------+-------------------------+ | Ubuntu 24.04 32 Bit Cross Compile | PASS | SKIPPED | SKIPPED | SKIPPED | SKIPPED | +-----------------------------------+--------------------+-------------------+-------------------+------------------+-------------------------+ | Debian 12 | PASS | SKIPPED | PASS | SKIPPED | SKIPPED | +-----------------------------------+--------------------+-------------------+-------------------+------------------+-------------------------+ | Windows Server 2022 | SKIPPED | PASS | SKIPPED | SKIPPED | PASS | +-----------------------------------+--------------------+-------------------+-------------------+------------------+-------------------------+ Ubuntu 20.04 Kernel: 4.19.325-0419325-generic Compiler: gcc (Ubuntu 9.4.0-1ubuntu1~20.04.2) 9.4.0 FreeBSD 13.5 Kernel: 13.5-RELEASE Compiler: clang 19.1.7 FreeBSD 14.2 Kernel: 14.2-RELEASE Compiler: clang 18.1.6 CentOS Stream 9 Kernel: Depends on container host Compiler: gcc 11.5.0 20240719 (Red Hat 11.5.0-2) CentOS Stream 10 Kernel: Depends on container host Compiler: gcc 14.2.1 20241104 (Red Hat 14.2.1-6) Fedora 40 (Clang) Kernel: Depends on container host Compiler: clang 18.1.8 (Fedora 18.1.8-1.fc40) Fedora 40 Kernel: Depends on container host Compiler: gcc 14.2.1 20240912 (Red Hat 14.2.1-3) Fedora 41 (Clang) Kernel: Depends on container host Compiler: clang 19.1.5 (Fedora 19.1.5-1.fc41) Fedora 41 Kernel: Depends on container host Compiler: gcc 14.2.1 20240912 (Red Hat 14.2.1-3) openSUSE Leap 15 Kernel: Depends on container host Compiler: gcc (SUSE Linux) 7.5.0 RHEL8 Kernel: Depends on container host Compiler: gcc 8.5.0 20210514 (Red Hat 8.5.0-22) RHEL9 Kernel: Depends on container host Compiler: gcc 11.5.0 20240719 (Red Hat 11.5.0-2) Ubuntu 22.04 Kernel: Depends on container host Compiler: gcc (Ubuntu 11.4.0-1ubuntu1~22.04) 11.4.0 Ubuntu 24.04 Kernel: Depends on container host Compiler: gcc (Ubuntu 13.3.0-6ubuntu2~24.04) 13.3.0 Alpine Kernel: Depends on container host Compiler: gcc (Alpine 14.2.0) 14.2.0 Ubuntu 24.04 32 Bit Cross Compile Kernel: Depends on container host Compiler: gcc (Ubuntu 13.3.0-6ubuntu2~24.04) 13.3.0 Debian 12 Kernel: Depends on container host Compiler: gcc (Debian 12.2.0-14) 12.2.0 Windows Server 2022 Kernel: 10.0.20348.2031 Compiler: clang 15.0.7, gcc 14.1.0 (MinGW), and MSVC VS 19.39.33521 To view detailed results, visit: https://lab.dpdk.org/results/dashboard/patchsets/33113/ UNH-IOL DPDK Community Lab To manage your email subscriptions, visit: https://lab.dpdk.org/results/dashboard/preferences/subscriptions/