From mboxrd@z Thu Jan 1 00:00:00 1970 Return-Path: Received: from mails.dpdk.org (mails.dpdk.org [217.70.189.124]) by inbox.dpdk.org (Postfix) with ESMTP id E3C60466D4 for ; Tue, 6 May 2025 07:27:26 +0200 (CEST) Received: from mails.dpdk.org (localhost [127.0.0.1]) by mails.dpdk.org (Postfix) with ESMTP id CB5464026D; Tue, 6 May 2025 07:27:26 +0200 (CEST) Received: from mail-il1-f228.google.com (mail-il1-f228.google.com [209.85.166.228]) by mails.dpdk.org (Postfix) with ESMTP id 8DCE740150 for ; Tue, 6 May 2025 07:27:25 +0200 (CEST) Received: by mail-il1-f228.google.com with SMTP id e9e14a558f8ab-3cfce97a3d9so27281185ab.2 for ; Mon, 05 May 2025 22:27:25 -0700 (PDT) DKIM-Signature: v=1; a=rsa-sha256; c=relaxed/relaxed; d=iol.unh.edu; s=unh-iol; t=1746509245; x=1747114045; darn=dpdk.org; h=references:in-reply-to:cc:to:from:subject:message-id:date:from:to :cc:subject:date:message-id:reply-to; bh=YGZ4q5zlr3wn/avRP2zb+M+uTQ2Cw9Ni548dX0as/II=; b=ay4uVFhUNrXY50Gup1FeNYAnOZdBtko+NLn6aH4VGDFG+tu6l6D1Nyf4Rs7TjzUJjf lI2zJEo2NRWSXiMgfDEhtn6ICftnLPhDztjmNpqEvAby/zGZamkwAC/CSoSI80wDzbmb ST9LrX4QiLARlkeVj82xIl/Du8JFKtCKWXVM4= X-Google-DKIM-Signature: v=1; a=rsa-sha256; c=relaxed/relaxed; d=1e100.net; s=20230601; t=1746509245; x=1747114045; h=references:in-reply-to:cc:to:from:subject:message-id:date :x-gm-message-state:from:to:cc:subject:date:message-id:reply-to; bh=YGZ4q5zlr3wn/avRP2zb+M+uTQ2Cw9Ni548dX0as/II=; b=Q2hS4LUTjsqB5d+YsL3P2DhD0JQ/hTn8W9fzl2b+AfbwnXwGsUxM7j+QQ+txD9Ffsb IPW7XUNwd8b78gZ5q9pW1CIaHc5l+cnh+QidsfEZ3BxApB7KomWMslD3S8ji6u5H6jvF 8tOxYI9IWjiealT37+fv+0tWbsBXdOoZ1GEQU62a4JxJWR9/RvjGgrLXzCAJBUmN+4MM cU0VVJGDPOr7MClp9sD2LBjrILW4fCgrGFYrJn27OnDqeX0tHQBOdM05UIgATQ/5GFvT uqx0qXYCoKjwVVKqyFIPmELXIsNRVqUZzQERxjS1QjqLm8g7TFgip9D6dacvdQpO4J8k 8zMw== X-Gm-Message-State: AOJu0YyLFY6tO31t3RP1JWX+LbwO6wPczIbc3C9oZWPw2cGMFHN9zSQg GO+k1Ue24MYCuqSV1IyTDM6uohS+gof4K2aLWv5CI7CpROtNzZijyplB46ps0xvMF0569UH08e6 ky1DXRvbUdLPLbh2rx2jEbnbgGBkNjU6hq0BT9KaWm2WCFKZuySb1O6EF X-Gm-Gg: ASbGncvhkSf0Cb6Qapf03qj1oNTCeW0nu2rLHx8RXlrB4dn7mvouyxqgGZZOyWjwlla eCUw06GjHG61sJZyc4uHjAD+jABPZlVjYoFNjq9Cn7MMHMbvU8zrPiEEddU5+eJPxNmPwt4cK9h BWuFdwQT/iwIi9vVajjlaV5akuwt7LrzzyBD6xdXzU4C6LiXC/mn0/0kbNDQJl6GrlJfN7qXBwD RFNTR24Z1slwrDwj3Wbp2UR8/joBwd2OQ8LdNB9Up0MhmMAd4XJFxsauNsVMkDdDeafFmV2o1Tz 8DQPGE+WS6FzvvQDeEiPFmSPciG5NJTY+YEv X-Google-Smtp-Source: AGHT+IEbra0NkcOX2JZfUt/Ar5R+Br1WadoQZXuy3Gnq9cBqMo+1JuueeKUfmDsAGGYPpQsnuvY0xWnMDizR X-Received: by 2002:a05:6e02:2608:b0:3d5:e002:b8ac with SMTP id e9e14a558f8ab-3da5b271bc1mr95320505ab.9.1746509244883; Mon, 05 May 2025 22:27:24 -0700 (PDT) Received: from postal.iol.unh.edu (postal.iol.unh.edu. [2606:4100:3880:1234::84]) by smtp-relay.gmail.com with ESMTPS id e9e14a558f8ab-3d975e34b78sm22305115ab.1.2025.05.05.22.27.24 (version=TLS1_2 cipher=ECDHE-ECDSA-AES128-GCM-SHA256 bits=128/128); Mon, 05 May 2025 22:27:24 -0700 (PDT) X-Relaying-Domain: iol.unh.edu Date: Mon, 05 May 2025 22:27:24 -0700 (PDT) Message-ID: <68199dbc.050a0220.2cf16a.a193SMTPIN_ADDED_MISSING@mx.google.com> Received: from [172.21.0.15] (unknown [172.18.0.240]) by postal.iol.unh.edu (Postfix) with ESMTP id 59D286052471; Tue, 6 May 2025 01:27:24 -0400 (EDT) Subject: |SUCCESS| pw153300 [PATCH] net/mlx5: avoid implicit conversion to 64 From: dpdklab@iol.unh.edu To: Test Report Cc: dpdk-test-reports@iol.unh.edu In-Reply-To: <1746458202-12356-1-git-send-email-andremue@linux.microsoft.com> References: <1746458202-12356-1-git-send-email-andremue@linux.microsoft.com> Content-Type: text/plain X-BeenThere: test-report@dpdk.org X-Mailman-Version: 2.1.29 Precedence: list List-Id: automatic DPDK test reports List-Unsubscribe: , List-Archive: List-Post: List-Help: List-Subscribe: , Errors-To: test-report-bounces@dpdk.org Test-Label: iol-compile-amd64-testing Test-Status: SUCCESS http://dpdk.org/patch/153300 _Testing PASS_ Submitter: Andre Muezerie Date: Monday, May 05 2025 15:16:42 DPDK git baseline: Repo:dpdk Branch: master CommitID:ca1690ebd224f148268285b15b97441ccdbdd07e 153300 --> testing pass Upstream job id: Generic-DPDK-Compile-Meson#385373 Test environment and result as below: +-----------------------------------+--------------------+-------------------+-------------------+------------------+-------------------------+ | Environment | dpdk_meson_compile | dpdk_msvc_compile | dpdk_compile_spdk | dpdk_compile_ovs | dpdk_llvm_clang_compile | +===================================+====================+===================+===================+==================+=========================+ | Ubuntu 20.04 | PASS | SKIPPED | SKIPPED | SKIPPED | SKIPPED | +-----------------------------------+--------------------+-------------------+-------------------+------------------+-------------------------+ | FreeBSD 13.5 | PASS | SKIPPED | SKIPPED | SKIPPED | SKIPPED | +-----------------------------------+--------------------+-------------------+-------------------+------------------+-------------------------+ | FreeBSD 14.2 | PASS | SKIPPED | SKIPPED | SKIPPED | SKIPPED | +-----------------------------------+--------------------+-------------------+-------------------+------------------+-------------------------+ | CentOS Stream 9 | PASS | SKIPPED | PASS | SKIPPED | SKIPPED | +-----------------------------------+--------------------+-------------------+-------------------+------------------+-------------------------+ | CentOS Stream 10 | PASS | SKIPPED | SKIPPED | SKIPPED | SKIPPED | +-----------------------------------+--------------------+-------------------+-------------------+------------------+-------------------------+ | Fedora 40 (Clang) | PASS | SKIPPED | PASS | SKIPPED | SKIPPED | +-----------------------------------+--------------------+-------------------+-------------------+------------------+-------------------------+ | Fedora 40 | PASS | SKIPPED | PASS | SKIPPED | SKIPPED | +-----------------------------------+--------------------+-------------------+-------------------+------------------+-------------------------+ | Fedora 41 (Clang) | PASS | SKIPPED | PASS | PASS | SKIPPED | +-----------------------------------+--------------------+-------------------+-------------------+------------------+-------------------------+ | Fedora 41 | PASS | SKIPPED | PASS | PASS | SKIPPED | +-----------------------------------+--------------------+-------------------+-------------------+------------------+-------------------------+ | openSUSE Leap 15 | PASS | SKIPPED | SKIPPED | SKIPPED | SKIPPED | +-----------------------------------+--------------------+-------------------+-------------------+------------------+-------------------------+ | RHEL8 | PASS | SKIPPED | SKIPPED | SKIPPED | SKIPPED | +-----------------------------------+--------------------+-------------------+-------------------+------------------+-------------------------+ | RHEL9 | PASS | SKIPPED | SKIPPED | SKIPPED | SKIPPED | +-----------------------------------+--------------------+-------------------+-------------------+------------------+-------------------------+ | Ubuntu 22.04 | PASS | SKIPPED | PASS | SKIPPED | SKIPPED | +-----------------------------------+--------------------+-------------------+-------------------+------------------+-------------------------+ | Ubuntu 24.04 | PASS | SKIPPED | PASS | PASS | SKIPPED | +-----------------------------------+--------------------+-------------------+-------------------+------------------+-------------------------+ | Alpine | PASS | SKIPPED | SKIPPED | SKIPPED | SKIPPED | +-----------------------------------+--------------------+-------------------+-------------------+------------------+-------------------------+ | Ubuntu 24.04 32 Bit Cross Compile | PASS | SKIPPED | SKIPPED | SKIPPED | SKIPPED | +-----------------------------------+--------------------+-------------------+-------------------+------------------+-------------------------+ | Debian 12 | PASS | SKIPPED | PASS | SKIPPED | SKIPPED | +-----------------------------------+--------------------+-------------------+-------------------+------------------+-------------------------+ | Windows Server 2022 | SKIPPED | PASS | SKIPPED | SKIPPED | PASS | +-----------------------------------+--------------------+-------------------+-------------------+------------------+-------------------------+ Ubuntu 20.04 Kernel: 4.19.325-0419325-generic Compiler: gcc (Ubuntu 9.4.0-1ubuntu1~20.04.2) 9.4.0 FreeBSD 13.5 Kernel: 13.5-RELEASE Compiler: clang 19.1.7 FreeBSD 14.2 Kernel: 14.2-RELEASE Compiler: clang 18.1.6 CentOS Stream 9 Kernel: Depends on container host Compiler: gcc 11.5.0 20240719 (Red Hat 11.5.0-2) CentOS Stream 10 Kernel: Depends on container host Compiler: gcc 14.2.1 20241104 (Red Hat 14.2.1-6) Fedora 40 (Clang) Kernel: Depends on container host Compiler: clang 18.1.8 (Fedora 18.1.8-1.fc40) Fedora 40 Kernel: Depends on container host Compiler: gcc 14.2.1 20240912 (Red Hat 14.2.1-3) Fedora 41 (Clang) Kernel: Depends on container host Compiler: clang 19.1.5 (Fedora 19.1.5-1.fc41) Fedora 41 Kernel: Depends on container host Compiler: gcc 14.2.1 20240912 (Red Hat 14.2.1-3) openSUSE Leap 15 Kernel: Depends on container host Compiler: gcc (SUSE Linux) 7.5.0 RHEL8 Kernel: Depends on container host Compiler: gcc 8.5.0 20210514 (Red Hat 8.5.0-22) RHEL9 Kernel: Depends on container host Compiler: gcc 11.5.0 20240719 (Red Hat 11.5.0-2) Ubuntu 22.04 Kernel: Depends on container host Compiler: gcc (Ubuntu 11.4.0-1ubuntu1~22.04) 11.4.0 Ubuntu 24.04 Kernel: Depends on container host Compiler: gcc (Ubuntu 13.3.0-6ubuntu2~24.04) 13.3.0 Alpine Kernel: Depends on container host Compiler: gcc (Alpine 14.2.0) 14.2.0 Ubuntu 24.04 32 Bit Cross Compile Kernel: Depends on container host Compiler: gcc (Ubuntu 13.3.0-6ubuntu2~24.04) 13.3.0 Debian 12 Kernel: Depends on container host Compiler: gcc (Debian 12.2.0-14) 12.2.0 Windows Server 2022 Kernel: 10.0.20348.2031 Compiler: clang 15.0.7, gcc 14.1.0 (MinGW), and MSVC VS 19.39.33521 To view detailed results, visit: https://lab.dpdk.org/results/dashboard/patchsets/33113/ UNH-IOL DPDK Community Lab To manage your email subscriptions, visit: https://lab.dpdk.org/results/dashboard/preferences/subscriptions/