From mboxrd@z Thu Jan 1 00:00:00 1970 Return-Path: Received: from mails.dpdk.org (mails.dpdk.org [217.70.189.124]) by inbox.dpdk.org (Postfix) with ESMTP id B7109466D4 for ; Tue, 6 May 2025 07:54:05 +0200 (CEST) Received: from mails.dpdk.org (localhost [127.0.0.1]) by mails.dpdk.org (Postfix) with ESMTP id B0EC14026D; Tue, 6 May 2025 07:54:05 +0200 (CEST) Received: from mail-pf1-f225.google.com (mail-pf1-f225.google.com [209.85.210.225]) by mails.dpdk.org (Postfix) with ESMTP id A804A40150 for ; Tue, 6 May 2025 07:54:04 +0200 (CEST) Received: by mail-pf1-f225.google.com with SMTP id d2e1a72fcca58-7396f13b750so6341339b3a.1 for ; Mon, 05 May 2025 22:54:04 -0700 (PDT) DKIM-Signature: v=1; a=rsa-sha256; c=relaxed/relaxed; d=iol.unh.edu; s=unh-iol; t=1746510843; x=1747115643; darn=dpdk.org; h=references:in-reply-to:cc:to:from:subject:message-id:date:from:to :cc:subject:date:message-id:reply-to; bh=vhWOeQAvM4mSyYhOdEqCB6t/SkRaTdl7Dv5vK3KYtIE=; b=Cj0OK5ARP9VIJnuP7ElvgfheXYhqDrB/pNu19r6RDbdEtx0tCelK69B7YjMXTMdkuN BT1Nco/bX4Vj3ajKcScL06izTt5bNA09z29wwYGyTrUwS9a3Zv/MXVqv9C8stDkxfx59 mQ4hKtOW2IzefTIdxoNnAG1lkDkKetaAy61hY= X-Google-DKIM-Signature: v=1; a=rsa-sha256; c=relaxed/relaxed; d=1e100.net; s=20230601; t=1746510843; x=1747115643; h=references:in-reply-to:cc:to:from:subject:message-id:date :x-gm-message-state:from:to:cc:subject:date:message-id:reply-to; bh=vhWOeQAvM4mSyYhOdEqCB6t/SkRaTdl7Dv5vK3KYtIE=; b=CAnXdB9SoRQCG00c7QzHJuuX9EbM9f5QI1rIYx0nqLM7kx6mRchx3AodCMs+WPIsSR rws8Z17zbHN3WYS6ZR/ex8PGqi8aarTSQyOCqehfIdVNN/LkjA58E25qNmrpe14GPN9y sJti5NiYH8tp9XG3mLl3oTnvZKgqLw5XLioYLoVHyBvg89C1fgimCPeTo8UN2D/OSSmm TVU7JzTWZgFJ5a8u4LRFoDTd+piRdAaZzYajTY5vaZARnX/43NKSRnMoeExEuSkg7wXd kOC9H+1FaLq/WKxwHplXPbuWDPnpIlMTcCgmG/zB3Y9wK8cL18ow2zrCoe2QwNoxFW4k Vjog== X-Gm-Message-State: AOJu0YypbtFfstOp+QsW3RNpGZDdew86Dry/JH/+yXVtn/xvTBfJZPKx AW0jW1Smuz51omaicdqIJyuZMI/xqQs/6xWThsMXkNyX62fFmj7EDVq+pg2PHMAOWdEUloN7lx4 ozfsY4EIMEX6WoIjkEU0xbKDrRwlz1dWWDf/9KCr1 X-Gm-Gg: ASbGncuyzPYkAOIGierNtrLsnmiqqAzQbtxvmoj2wOC21OYONZJpjO5rmlTfN/HF4Rd S4zrHVivw2JwJjhUTuUTGg2kH7lkxAeOrc3EaG8XDOvp2+QbdCwWE4hrjfKSxIgCddwxfnuMGZi JHnTi8yKO852rQLuO5kres2MY89Qe1uQpDym3aR8H2hxnEDUBIki3SQvQUJY2Ztio3SaS/wWFUD q0h1AilM7ZNgm+vP24n94FcsuIbJaz/QPpS8N5NpPuwf+FRWKMzTQRNtT8qI1nqlIvTaCWOmZSw lBv8YTzUcOIX6US1mADuWAj7fFZP6KF2Gie9UI/SnpJxNDK/sKUyYqvSjAA= X-Google-Smtp-Source: AGHT+IHp4PRtxjTW+KpNonjti6nRScDIX6HajnTza8fcFBkJzdTphWEld0hZYl+nP60ca/Q4+w66HaiuLlJ2 X-Received: by 2002:a05:6a21:998c:b0:1f5:8d30:a4e3 with SMTP id adf61e73a8af0-211834a9d6emr2679943637.28.1746510843640; Mon, 05 May 2025 22:54:03 -0700 (PDT) Received: from postal.iol.unh.edu (postal.iol.unh.edu. [132.177.123.84]) by smtp-relay.gmail.com with ESMTPS id 41be03b00d2f7-b1fb3b96fe1sm1389303a12.15.2025.05.05.22.54.03 (version=TLS1_2 cipher=ECDHE-ECDSA-AES128-GCM-SHA256 bits=128/128); Mon, 05 May 2025 22:54:03 -0700 (PDT) X-Relaying-Domain: iol.unh.edu Date: Mon, 05 May 2025 22:54:03 -0700 (PDT) Message-ID: <6819a3fb.630a0220.26d2d9.7483SMTPIN_ADDED_MISSING@mx.google.com> Received: from [172.21.0.6] (unknown [172.18.0.240]) by postal.iol.unh.edu (Postfix) with ESMTP id D71406052471; Tue, 6 May 2025 01:54:02 -0400 (EDT) Subject: |SUCCESS| pw153299 [PATCH] net/mlx5: declare size of rte_v128u32_t From: dpdklab@iol.unh.edu To: Test Report Cc: dpdk-test-reports@iol.unh.edu In-Reply-To: <1746457823-11135-1-git-send-email-andremue@linux.microsoft.com> References: <1746457823-11135-1-git-send-email-andremue@linux.microsoft.com> Content-Type: text/plain X-BeenThere: test-report@dpdk.org X-Mailman-Version: 2.1.29 Precedence: list List-Id: automatic DPDK test reports List-Unsubscribe: , List-Archive: List-Post: List-Help: List-Subscribe: , Errors-To: test-report-bounces@dpdk.org Test-Label: iol-sample-apps-testing Test-Status: SUCCESS http://dpdk.org/patch/153299 _Testing PASS_ Submitter: Andre Muezerie Date: Monday, May 05 2025 15:10:23 DPDK git baseline: Repo:dpdk Branch: master CommitID:edd3f4b1265e6da707c46ca9b6c39d332647baea 153299 --> testing pass Upstream job id: ACVP-FIPS-testing#9714 Test environment and result as below: +--------------------+----------------------+----------------------+ | Environment | compressdev_zlib_pmd | dpdk_fips_validation | +====================+======================+======================+ | Ubuntu 22.04 (ARM) | PASS | SKIPPED | +--------------------+----------------------+----------------------+ | Ubuntu 22.04 | PASS | SKIPPED | +--------------------+----------------------+----------------------+ | Ubuntu 20.04 | SKIPPED | PASS | +--------------------+----------------------+----------------------+ Ubuntu 22.04 (ARM) Kernel: 5.15.0-97-generic Compiler: gcc gcc (Ubuntu 11.4.0-1ubuntu1~22.04) 11.4.0 Ubuntu 22.04 Kernel: 5.15.0-100-generic Compiler: gcc gcc (Ubuntu 11.4.0-1ubuntu1~22.04) 11.4.0 Ubuntu 20.04 Kernel: Depends on container host Compiler: gcc (Ubuntu 9.4.0-1ubuntu1~20.04.2) 9.4.0 To view detailed results, visit: https://lab.dpdk.org/results/dashboard/patchsets/33112/ UNH-IOL DPDK Community Lab To manage your email subscriptions, visit: https://lab.dpdk.org/results/dashboard/preferences/subscriptions/