From mboxrd@z Thu Jan 1 00:00:00 1970 Return-Path: Received: from mails.dpdk.org (mails.dpdk.org [217.70.189.124]) by inbox.dpdk.org (Postfix) with ESMTP id 4F5CF466D5 for ; Tue, 6 May 2025 08:07:38 +0200 (CEST) Received: from mails.dpdk.org (localhost [127.0.0.1]) by mails.dpdk.org (Postfix) with ESMTP id 1B1994026D; Tue, 6 May 2025 08:07:38 +0200 (CEST) Received: from mail-il1-f225.google.com (mail-il1-f225.google.com [209.85.166.225]) by mails.dpdk.org (Postfix) with ESMTP id B4F7140150 for ; Tue, 6 May 2025 08:07:36 +0200 (CEST) Received: by mail-il1-f225.google.com with SMTP id e9e14a558f8ab-3d6d162e516so44856845ab.1 for ; Mon, 05 May 2025 23:07:36 -0700 (PDT) DKIM-Signature: v=1; a=rsa-sha256; c=relaxed/relaxed; d=iol.unh.edu; s=unh-iol; t=1746511656; x=1747116456; darn=dpdk.org; h=references:in-reply-to:cc:to:from:subject:message-id:date:from:to :cc:subject:date:message-id:reply-to; bh=yziggoH5I3V5gS7gcaUT97Fkz5PuOZOHuLf6boTkgFM=; b=L1TFib5sDKmkMMNC9GCGSlXSX+/rkFnP7aGcAn21+zCCBImzNVaNbVzl9ylnw3C1Km Dbn87oev6DSbguks+dTTMdD14Fdv15jEsYN2WvQcQSSMfhPP33C2IWwwpiOLDo7tBYxN R/KKAN4w5hwFnyZ20ce59J1nMl2Gdd0yqmkZ8= X-Google-DKIM-Signature: v=1; a=rsa-sha256; c=relaxed/relaxed; d=1e100.net; s=20230601; t=1746511656; x=1747116456; h=references:in-reply-to:cc:to:from:subject:message-id:date :x-gm-message-state:from:to:cc:subject:date:message-id:reply-to; bh=yziggoH5I3V5gS7gcaUT97Fkz5PuOZOHuLf6boTkgFM=; b=MbuK/dqEUugl1UTsngqXccLYIQKJcFXc3iqCoOurzoEAmNKPbPvUkx4I6SNFvhzmZl fEyQeH4yV2mlkNfJupfaV/LFU6NS5lVITnfcxCl5ggfQSMYzkIRNo8HimBvDwc4eBKYK L56jbgoVLSTAwvL/cPf3S5q/VD9fMdJcZpo/T5AWFpZMpUNnHiDtlY+nh5ymCUYG0o+8 z0qr76RvUlCf1IJhrEfeRFRGosKond9yEp4w9AGRinAYqgMe7H89BE/8a3Jczq90sWvh kV01nuhAPlyUS5t4BRYW0KujbFp6SkB9quyuxLTKk0hIjZ3WwROaf//iW1rhdakbZSJw b1Qw== X-Gm-Message-State: AOJu0YzZmRr5hatCdW9ThM7M+Y0RAVAI6u+K3+0zoWRXCabYE1+ULmjL lldjbc/K7896B/uVTX/gr8TI5EXcvYmz1UcgvSd58Nhk9mH0QPB4JNcQjDdWShYwKxm4X8l1FoA fH06JZzh8RhcUliQpi7xil0J0FGGfJIV6xSEsdMzg X-Gm-Gg: ASbGncuXi86xK5pgPGvwpJY3+MKsUTi3Ois9L+RcGHGsPreIB+HnLn3OZH1F9FdSrhe +pYfQ/CDoi9NQH+jXjczbM5YqMFMR7fUIutta6iPlaZpKkn681LzP2sdw/dosCTcHl1oGQ5kQ93 6MKCTOZmZB1j9iLUTeAXlYldDQSZYGkzv3/zVzM1fHZWK6KCMS+bF6nJXJkDuLYvVG0/7RivGW7 C+gIwJkm0MrE89M7zmTyP3hAb/WYpMX1rbESXx2ufO9J98zbMHoPDp3VEBaJ4VrvuNfxlZMolvU w+8qgHhsSYYKEjmPSJ0a4hOsxS11d2h7pmm4QT5HX7gZiPiqUf+EgB8NcQo= X-Google-Smtp-Source: AGHT+IETe2Zd8g2deI0cuyseAmhtgvK6JDavUbxPuZ6miamVe7BzsNu8gyJWf1Dy7I24F5H7gfIi/L/wkQ9A X-Received: by 2002:a05:6e02:12cc:b0:3d6:cbc5:a102 with SMTP id e9e14a558f8ab-3da6ce60833mr18798135ab.13.1746511656043; Mon, 05 May 2025 23:07:36 -0700 (PDT) Received: from postal.iol.unh.edu (postal.iol.unh.edu. [132.177.123.84]) by smtp-relay.gmail.com with ESMTPS id 8926c6da1cb9f-4f88a91421esm2107812173.21.2025.05.05.23.07.35 (version=TLS1_2 cipher=ECDHE-ECDSA-AES128-GCM-SHA256 bits=128/128); Mon, 05 May 2025 23:07:36 -0700 (PDT) X-Relaying-Domain: iol.unh.edu Date: Mon, 05 May 2025 23:07:36 -0700 (PDT) Message-ID: <6819a728.050a0220.28730f.937eSMTPIN_ADDED_MISSING@mx.google.com> Received: from [172.21.0.14] (unknown [172.18.0.240]) by postal.iol.unh.edu (Postfix) with ESMTP id A21426052471; Tue, 6 May 2025 02:07:35 -0400 (EDT) Subject: |SUCCESS| pw153301 [PATCH] doc: update parameters to use for mlx5 on From: dpdklab@iol.unh.edu To: Test Report Cc: dpdk-test-reports@iol.unh.edu In-Reply-To: <1746458561-13525-1-git-send-email-andremue@linux.microsoft.com> References: <1746458561-13525-1-git-send-email-andremue@linux.microsoft.com> Content-Type: text/plain X-BeenThere: test-report@dpdk.org X-Mailman-Version: 2.1.29 Precedence: list List-Id: automatic DPDK test reports List-Unsubscribe: , List-Archive: List-Post: List-Help: List-Subscribe: , Errors-To: test-report-bounces@dpdk.org Test-Label: iol-compile-amd64-testing Test-Status: SUCCESS http://dpdk.org/patch/153301 _Testing PASS_ Submitter: Andre Muezerie Date: Monday, May 05 2025 15:22:41 DPDK git baseline: Repo:dpdk Branch: master CommitID:edd3f4b1265e6da707c46ca9b6c39d332647baea 153301 --> testing pass Upstream job id: Generic-DPDK-Compile-Meson#385327 Test environment and result as below: +-----------------------------------+--------------------+-------------------+------------------+-------------------+-------------------------+----------------------+ | Environment | dpdk_meson_compile | dpdk_compile_spdk | dpdk_compile_ovs | dpdk_msvc_compile | dpdk_llvm_clang_compile | dpdk_mingw64_compile | +===================================+====================+===================+==================+===================+=========================+======================+ | Ubuntu 20.04 | PASS | SKIPPED | SKIPPED | SKIPPED | SKIPPED | SKIPPED | +-----------------------------------+--------------------+-------------------+------------------+-------------------+-------------------------+----------------------+ | FreeBSD 13.5 | PASS | SKIPPED | SKIPPED | SKIPPED | SKIPPED | SKIPPED | +-----------------------------------+--------------------+-------------------+------------------+-------------------+-------------------------+----------------------+ | FreeBSD 14.2 | PASS | SKIPPED | SKIPPED | SKIPPED | SKIPPED | SKIPPED | +-----------------------------------+--------------------+-------------------+------------------+-------------------+-------------------------+----------------------+ | CentOS Stream 9 | PASS | PASS | SKIPPED | SKIPPED | SKIPPED | SKIPPED | +-----------------------------------+--------------------+-------------------+------------------+-------------------+-------------------------+----------------------+ | CentOS Stream 10 | PASS | SKIPPED | SKIPPED | SKIPPED | SKIPPED | SKIPPED | +-----------------------------------+--------------------+-------------------+------------------+-------------------+-------------------------+----------------------+ | Debian 12 | PASS | PASS | SKIPPED | SKIPPED | SKIPPED | SKIPPED | +-----------------------------------+--------------------+-------------------+------------------+-------------------+-------------------------+----------------------+ | Fedora 40 (Clang) | PASS | PASS | SKIPPED | SKIPPED | SKIPPED | SKIPPED | +-----------------------------------+--------------------+-------------------+------------------+-------------------+-------------------------+----------------------+ | Fedora 40 | PASS | PASS | SKIPPED | SKIPPED | SKIPPED | SKIPPED | +-----------------------------------+--------------------+-------------------+------------------+-------------------+-------------------------+----------------------+ | Fedora 41 (Clang) | PASS | PASS | PASS | SKIPPED | SKIPPED | SKIPPED | +-----------------------------------+--------------------+-------------------+------------------+-------------------+-------------------------+----------------------+ | Fedora 41 | PASS | PASS | PASS | SKIPPED | SKIPPED | SKIPPED | +-----------------------------------+--------------------+-------------------+------------------+-------------------+-------------------------+----------------------+ | openSUSE Leap 15 | PASS | SKIPPED | SKIPPED | SKIPPED | SKIPPED | SKIPPED | +-----------------------------------+--------------------+-------------------+------------------+-------------------+-------------------------+----------------------+ | RHEL8 | PASS | SKIPPED | SKIPPED | SKIPPED | SKIPPED | SKIPPED | +-----------------------------------+--------------------+-------------------+------------------+-------------------+-------------------------+----------------------+ | RHEL9 | PASS | SKIPPED | SKIPPED | SKIPPED | SKIPPED | SKIPPED | +-----------------------------------+--------------------+-------------------+------------------+-------------------+-------------------------+----------------------+ | Ubuntu 22.04 | PASS | PASS | SKIPPED | SKIPPED | SKIPPED | SKIPPED | +-----------------------------------+--------------------+-------------------+------------------+-------------------+-------------------------+----------------------+ | Alpine | PASS | SKIPPED | SKIPPED | SKIPPED | SKIPPED | SKIPPED | +-----------------------------------+--------------------+-------------------+------------------+-------------------+-------------------------+----------------------+ | Ubuntu 24.04 32 Bit Cross Compile | PASS | SKIPPED | SKIPPED | SKIPPED | SKIPPED | SKIPPED | +-----------------------------------+--------------------+-------------------+------------------+-------------------+-------------------------+----------------------+ | Ubuntu 24.04 | PASS | PASS | PASS | SKIPPED | SKIPPED | SKIPPED | +-----------------------------------+--------------------+-------------------+------------------+-------------------+-------------------------+----------------------+ | Windows Server 2022 | SKIPPED | SKIPPED | SKIPPED | PASS | PASS | PASS | +-----------------------------------+--------------------+-------------------+------------------+-------------------+-------------------------+----------------------+ Ubuntu 20.04 Kernel: 4.19.325-0419325-generic Compiler: gcc (Ubuntu 9.4.0-1ubuntu1~20.04.2) 9.4.0 FreeBSD 13.5 Kernel: 13.5-RELEASE Compiler: clang 19.1.7 FreeBSD 14.2 Kernel: 14.2-RELEASE Compiler: clang 18.1.6 CentOS Stream 9 Kernel: Depends on container host Compiler: gcc 11.5.0 20240719 (Red Hat 11.5.0-2) CentOS Stream 10 Kernel: Depends on container host Compiler: gcc 14.2.1 20241104 (Red Hat 14.2.1-6) Debian 12 Kernel: Depends on container host Compiler: gcc (Debian 12.2.0-14) 12.2.0 Fedora 40 (Clang) Kernel: Depends on container host Compiler: clang 18.1.8 (Fedora 18.1.8-1.fc40) Fedora 40 Kernel: Depends on container host Compiler: gcc 14.2.1 20240912 (Red Hat 14.2.1-3) Fedora 41 (Clang) Kernel: Depends on container host Compiler: clang 19.1.5 (Fedora 19.1.5-1.fc41) Fedora 41 Kernel: Depends on container host Compiler: gcc 14.2.1 20240912 (Red Hat 14.2.1-3) openSUSE Leap 15 Kernel: Depends on container host Compiler: gcc (SUSE Linux) 7.5.0 RHEL8 Kernel: Depends on container host Compiler: gcc 8.5.0 20210514 (Red Hat 8.5.0-22) RHEL9 Kernel: Depends on container host Compiler: gcc 11.5.0 20240719 (Red Hat 11.5.0-2) Ubuntu 22.04 Kernel: Depends on container host Compiler: gcc (Ubuntu 11.4.0-1ubuntu1~22.04) 11.4.0 Alpine Kernel: Depends on container host Compiler: gcc (Alpine 14.2.0) 14.2.0 Ubuntu 24.04 32 Bit Cross Compile Kernel: Depends on container host Compiler: gcc (Ubuntu 13.3.0-6ubuntu2~24.04) 13.3.0 Ubuntu 24.04 Kernel: Depends on container host Compiler: gcc (Ubuntu 13.3.0-6ubuntu2~24.04) 13.3.0 Windows Server 2022 Kernel: 10.0.20348.2031 Compiler: clang 15.0.7, gcc 14.1.0 (MinGW), and MSVC VS 19.39.33521 To view detailed results, visit: https://lab.dpdk.org/results/dashboard/patchsets/33114/ UNH-IOL DPDK Community Lab To manage your email subscriptions, visit: https://lab.dpdk.org/results/dashboard/preferences/subscriptions/