From mboxrd@z Thu Jan  1 00:00:00 1970
Return-Path: <test-report-bounces@dpdk.org>
Received: from mails.dpdk.org (mails.dpdk.org [217.70.189.124])
	by inbox.dpdk.org (Postfix) with ESMTP id 85152466D5
	for <public@inbox.dpdk.org>; Tue,  6 May 2025 08:10:03 +0200 (CEST)
Received: from mails.dpdk.org (localhost [127.0.0.1])
	by mails.dpdk.org (Postfix) with ESMTP id 7F7C54026D;
	Tue,  6 May 2025 08:10:03 +0200 (CEST)
Received: from mail-yw1-f226.google.com (mail-yw1-f226.google.com
 [209.85.128.226])
 by mails.dpdk.org (Postfix) with ESMTP id 3A31340150
 for <test-report@dpdk.org>; Tue,  6 May 2025 08:10:02 +0200 (CEST)
Received: by mail-yw1-f226.google.com with SMTP id
 00721157ae682-6ff37565232so41691987b3.3
 for <test-report@dpdk.org>; Mon, 05 May 2025 23:10:02 -0700 (PDT)
DKIM-Signature: v=1; a=rsa-sha256; c=relaxed/relaxed;
 d=iol.unh.edu; s=unh-iol; t=1746511801; x=1747116601; darn=dpdk.org;
 h=references:in-reply-to:cc:to:from:subject:message-id:date:from:to
 :cc:subject:date:message-id:reply-to;
 bh=JVde+6asZHgTAxhFG56k7xCin6YYmueQhG2mQQWTN7o=;
 b=RFJiMojHQNpdUIegHElzOUh+iCBKdRlr1kYdGd2pBvDpFjWHMRRXt61IBhlnV28Oow
 DLgsLI4CQ+IAsJuqOOXdgjkACvpFDyxvBLfxt8bNfyIgAAPhvvQdqPIHGictrUQMycWj
 qSloelt15GWKPyx+x4OIb6nqkJCc/RGwRy8Ug=
X-Google-DKIM-Signature: v=1; a=rsa-sha256; c=relaxed/relaxed;
 d=1e100.net; s=20230601; t=1746511801; x=1747116601;
 h=references:in-reply-to:cc:to:from:subject:message-id:date
 :x-gm-message-state:from:to:cc:subject:date:message-id:reply-to;
 bh=JVde+6asZHgTAxhFG56k7xCin6YYmueQhG2mQQWTN7o=;
 b=KsSBOiOl5IKPXi4AGu9orxL5oB0uy6LVplUNQDLhEYCrfq3MfcA9dHwn/MUsUC1cvf
 NRaapoztrOLvriSqQA0D85r4t5mzaUa+DDCeF2rePmz3lboC34XnUp/cE1zoyYiotsJh
 DBGiqblSY2zYVBWGLy7NRQgdYhG1WNjSs4h6dnHBHqOe3AhSWCBdPU2j3VVu69JEAQIK
 NQ+9/97YLfBFJiityaXRqDMRgmp8cN5FSNLAgu3ivzYHvc9VZzFgCAGh5tca1Lsipk40
 toD619WKWWSGigB5E+H/3sfQG75TkmVlm1OtHOmGWLShqwt+6n/apqU5Gqy/jGtD86b+
 UUJA==
X-Gm-Message-State: AOJu0Yw99/bBvdI3UahcBhxH/9CpJLjXXLEgk2ouffZz4F5gShEMlMmY
 hxazCFSesEP02Ke86v2+XrPDBrWqyYvWRDlwlGqGvRZPArKzRQ1GuttfUVKx/16iMTAASt3nvQ9
 o6q9cEijCnxvqSi3FFDd3N+0d6pQAV6fqabyrrg0n
X-Gm-Gg: ASbGncsDyCKnqRBH/NbLslMSEiaCaisMRXsgV9wSZyXvtbi5ZgJpu1+cBUndToI0XLD
 IQTz3UB3+a3xIVY/mnhjfnP1u33MnGSLA89z9XGdibHZpW4Xo0YiH17aSMD2a9zmPAPk99e59RV
 n8Niu3Lunoe1UNHm1hrGNpF927RTRsQTYJ7yZcSrP9Y+QDBIG3fn9RyAVxSkIrx4144e4xU8byE
 T1u20fqFAKEY12QQpnPpMAiBdyL/AAF+nPxeRspLkM7VYpICmdB0DD/0Z1FvZP/Gf5yzyE/Hphl
 XypHUpi76RpfbpnkKhFoKmeGqBWW8wqUyBpsSPOeM/xKWhWNdCLilDnOfKs=
X-Google-Smtp-Source: AGHT+IGXv6JulB9/B3b/8K2Q7L5tDyCtaK1X9LEJDAah3Lwrt8Tkb/aS9pvDk6/LHavoOSucrBNXrgi7gnYg
X-Received: by 2002:a05:690c:e1a:b0:703:ace3:150a with SMTP id
 00721157ae682-708cf2612b4mr184617377b3.34.1746511801550; 
 Mon, 05 May 2025 23:10:01 -0700 (PDT)
Received: from postal.iol.unh.edu (postal.iol.unh.edu. [132.177.123.84])
 by smtp-relay.gmail.com with ESMTPS id
 00721157ae682-708c412c84csm19419307b3.17.2025.05.05.23.10.01
 (version=TLS1_2 cipher=ECDHE-ECDSA-AES128-GCM-SHA256 bits=128/128);
 Mon, 05 May 2025 23:10:01 -0700 (PDT)
X-Relaying-Domain: iol.unh.edu
Date: Mon, 05 May 2025 23:10:01 -0700 (PDT)
Message-ID: <6819a7b9.050a0220.195f7c.1686SMTPIN_ADDED_MISSING@mx.google.com>
Received: from [172.21.0.6] (unknown [172.18.0.240])
 by postal.iol.unh.edu (Postfix) with ESMTP id 2FA6D6052471;
 Tue,  6 May 2025 02:10:01 -0400 (EDT)
Subject: |SUCCESS| pw153303 [PATCH] eal: add getline() function for Windows
From: dpdklab@iol.unh.edu
To: Test Report <test-report@dpdk.org>
Cc: dpdk-test-reports@iol.unh.edu
In-Reply-To: <1746477607-14961-1-git-send-email-andremue@linux.microsoft.com>
References: <1746477607-14961-1-git-send-email-andremue@linux.microsoft.com>
Content-Type: text/plain
X-BeenThere: test-report@dpdk.org
X-Mailman-Version: 2.1.29
Precedence: list
List-Id: automatic DPDK test reports <test-report.dpdk.org>
List-Unsubscribe: <https://mails.dpdk.org/options/test-report>,
 <mailto:test-report-request@dpdk.org?subject=unsubscribe>
List-Archive: <http://mails.dpdk.org/archives/test-report/>
List-Post: <mailto:test-report@dpdk.org>
List-Help: <mailto:test-report-request@dpdk.org?subject=help>
List-Subscribe: <https://mails.dpdk.org/listinfo/test-report>,
 <mailto:test-report-request@dpdk.org?subject=subscribe>
Errors-To: test-report-bounces@dpdk.org

Test-Label: iol-unit-arm64-testing
Test-Status: SUCCESS
http://dpdk.org/patch/153303

_Testing PASS_

Submitter: Andre Muezerie <andremue@linux.microsoft.com>
Date: Monday, May 05 2025 20:40:07 
DPDK git baseline: Repo:dpdk
  Branch: master
  CommitID:ca1690ebd224f148268285b15b97441ccdbdd07e

153303 --> testing pass

Upstream job id: Generic-Unit-Test-DPDK#335642

Test environment and result as below:

+-----------------------------+------------------------------+--------------+---------------------------+----------------+
|         Environment         | cryptodev_sw_snow3g_autotest | lpm_autotest | cryptodev_sw_zuc_autotest | dpdk_unit_test |
+=============================+==============================+==============+===========================+================+
| Debian 12 (arm)             | PASS                         | SKIPPED      | PASS                      | PASS           |
+-----------------------------+------------------------------+--------------+---------------------------+----------------+
| Ubuntu 20.04 ARM SVE        | SKIPPED                      | PASS         | SKIPPED                   | SKIPPED        |
+-----------------------------+------------------------------+--------------+---------------------------+----------------+
| CentOS Stream 9 (ARM)       | SKIPPED                      | SKIPPED      | SKIPPED                   | PASS           |
+-----------------------------+------------------------------+--------------+---------------------------+----------------+
| CentOS Stream 10 (ARM)      | SKIPPED                      | SKIPPED      | SKIPPED                   | PASS           |
+-----------------------------+------------------------------+--------------+---------------------------+----------------+
| Fedora 41 (ARM Clang)       | SKIPPED                      | SKIPPED      | SKIPPED                   | PASS           |
+-----------------------------+------------------------------+--------------+---------------------------+----------------+
| Fedora 41 (ARM)             | SKIPPED                      | SKIPPED      | SKIPPED                   | PASS           |
+-----------------------------+------------------------------+--------------+---------------------------+----------------+
| Fedora 40 (ARM)             | SKIPPED                      | SKIPPED      | SKIPPED                   | PASS           |
+-----------------------------+------------------------------+--------------+---------------------------+----------------+
| Fedora 40 (ARM Clang)       | SKIPPED                      | SKIPPED      | SKIPPED                   | PASS           |
+-----------------------------+------------------------------+--------------+---------------------------+----------------+
| Ubuntu 20.04 (ARM)          | SKIPPED                      | SKIPPED      | SKIPPED                   | PASS           |
+-----------------------------+------------------------------+--------------+---------------------------+----------------+
| RHEL9 (ARM)                 | SKIPPED                      | SKIPPED      | SKIPPED                   | PASS           |
+-----------------------------+------------------------------+--------------+---------------------------+----------------+
| Ubuntu 24.04 (ARM)          | SKIPPED                      | SKIPPED      | SKIPPED                   | PASS           |
+-----------------------------+------------------------------+--------------+---------------------------+----------------+
| Ubuntu 22.04 (ARM)          | SKIPPED                      | SKIPPED      | SKIPPED                   | PASS           |
+-----------------------------+------------------------------+--------------+---------------------------+----------------+
| 32-bit Ubuntu 22.04.4 (ARM) | SKIPPED                      | SKIPPED      | SKIPPED                   | PASS           |
+-----------------------------+------------------------------+--------------+---------------------------+----------------+


Debian 12 (arm)
	Kernel: Depends on container host
	Compiler: gcc (Debian 12.2.0-14) 12.2.0

Ubuntu 20.04 ARM SVE
	Kernel: Depends on container host
	Compiler: gcc (Ubuntu 10.5.0-1ubuntu1~20.04) 10.5.0

CentOS Stream 9 (ARM)
	Kernel: Depends on container host
	Compiler: gcc 11.5.0 20240719 (Red Hat 11.5.0-2)

CentOS Stream 10 (ARM)
	Kernel: Depends on container host
	Compiler: gcc 14.2.1 20241104 (Red Hat 14.2.1-6)

Fedora 41 (ARM Clang)
	Kernel: Depends on container host
	Compiler: clang 19.1.5 (Fedora 19.1.5-1.fc41)

Fedora 41 (ARM)
	Kernel: Depends on container host
	Compiler: gcc 14.2.1 20240912 (Red Hat 14.2.1-3)

Fedora 40 (ARM)
	Kernel: Depends on container host
	Compiler: gcc 14.2.1 20240912 (Red Hat 14.2.1-3)

Fedora 40 (ARM Clang)
	Kernel: Depends on container host
	Compiler: clang 18.1.8 (Fedora 18.1.8-1.fc40)

Ubuntu 20.04 (ARM)
	Kernel: Depends on container host
	Compiler: gcc (Ubuntu 9.4.0-1ubuntu1~20.04.2) 9.4.0

RHEL9 (ARM)
	Kernel: Depends on container host
	Compiler: gcc 11.5.0 20240719 (Red Hat 11.5.0-2)

Ubuntu 24.04 (ARM)
	Kernel: Depends on container host
	Compiler: gcc (Ubuntu 13.3.0-6ubuntu2~24.04) 13.3.0

Ubuntu 22.04 (ARM)
	Kernel: Depends on container host
	Compiler: gcc (Ubuntu 11.4.0-1ubuntu1~22.04) 11.4.0

32-bit Ubuntu 22.04.4 (ARM)
	Kernel: 5.15.83+ aarch64
	Compiler: gcc (Ubuntu 11.4.0-1ubuntu1~22.04) 11.4.0

To view detailed results, visit:
https://lab.dpdk.org/results/dashboard/patchsets/33116/

UNH-IOL DPDK Community Lab

To manage your email subscriptions, visit: 
https://lab.dpdk.org/results/dashboard/preferences/subscriptions/