From mboxrd@z Thu Jan 1 00:00:00 1970 Return-Path: Received: from mails.dpdk.org (mails.dpdk.org [217.70.189.124]) by inbox.dpdk.org (Postfix) with ESMTP id 9D7AF466D5 for ; Tue, 6 May 2025 08:10:44 +0200 (CEST) Received: from mails.dpdk.org (localhost [127.0.0.1]) by mails.dpdk.org (Postfix) with ESMTP id 982D84026D; Tue, 6 May 2025 08:10:44 +0200 (CEST) Received: from mail-il1-f226.google.com (mail-il1-f226.google.com [209.85.166.226]) by mails.dpdk.org (Postfix) with ESMTP id 806B740150 for ; Tue, 6 May 2025 08:10:43 +0200 (CEST) Received: by mail-il1-f226.google.com with SMTP id e9e14a558f8ab-3d96d16b375so27982535ab.1 for ; Mon, 05 May 2025 23:10:43 -0700 (PDT) DKIM-Signature: v=1; a=rsa-sha256; c=relaxed/relaxed; d=iol.unh.edu; s=unh-iol; t=1746511843; x=1747116643; darn=dpdk.org; h=references:in-reply-to:cc:to:from:subject:message-id:date:from:to :cc:subject:date:message-id:reply-to; bh=wYFWS1d5o6c4Xp5FEfeUYsAgDLFJYRYeJlvdJdkS3ps=; b=j0KJ7Oi3oevw0klO9HhesoNzlgCbvpnIveBg+QVgFpRmOdDYCz9o7ANDs2yHRbMeBL mwyyJ+W4x8eRGSp9VFMp6I+zGKEBK/HpsYg5JQ6L+st4d0pnCx5BcSRxyEr19zUBrvo+ YSjhoXy23MfESW+hXBJq8Mp4XD1MohNibdyOk= X-Google-DKIM-Signature: v=1; a=rsa-sha256; c=relaxed/relaxed; d=1e100.net; s=20230601; t=1746511843; x=1747116643; h=references:in-reply-to:cc:to:from:subject:message-id:date :x-gm-message-state:from:to:cc:subject:date:message-id:reply-to; bh=wYFWS1d5o6c4Xp5FEfeUYsAgDLFJYRYeJlvdJdkS3ps=; b=JsVZ0fuCxTukhTv7lJZoUWE+5UfO20Pv2NDf33yA3M7XLi2IH3T6v2H7sQl1jlElU+ PJ0YB3oNLrcllsNkWhVSsdGNVayRRDlfY1qe7O2qVUkgFsKxdXPcEDE3GHyZDZgzSgh8 Uap4f8vEXqFJZitRT4pMTRPYghqhwYHPjrdB2l5DaUij6mUCndEpiLOphZakupWo9Qkr GZtvqqWwjMAj+dvaw/tFVsuOBEggJC41XKrQ+dIimy9P9yx4bIxbE4Ql7gHR7ukECDJo A6msBf0gHRyQzuYHxGOgYCYYwUJkm4bRP454fXLDE1zT01zUBvtvgwmLub/bBNvANkn3 qAuQ== X-Gm-Message-State: AOJu0Yzignz5DuL8JM/8KFRXNpBCvqaz+CUuGSRklDzbJhCoL/3Jc5nw WKf9ekwpj2npzf/kF0sLb99vVqGjS9phfJORrHY9dWt6ukuYM/WllmCIU+tdT3wK56CpdXOCZDq HF7Qm6Szy8axBZR2YuOWH3mj0cj2R5LJG/7NYQrh7 X-Gm-Gg: ASbGnctjimbX6rrUwNuf41X/+egsVs38gbjUpBERZuWthfnDHfhIJWADUm47VE33FEB DV5iUtvFAvznzmnH567dbu1Vp+5nSDkdht4rO1h6ngJckfFInLuzjoQ/5hu3XCjTOrS2m4MQAlq zZQWxDlkF+k/X2KuaSY9dXis7WEjnaalYeb/ZeHzeYQtCNoVUPM0N3HkvspB32LJ6bNe2AXQ0J6 d9MlOItKuY9yQpXnTT3HKcv8gykkOINGUb4Ie/M7DbIriBOKRITmplZB+9Btp1bOJaufVrmi14k dGs4jkHwzSheB0Huy72eSvEZM8DMQjRfDCckLlCkQgtF4kko0Y+jzJHBIDw= X-Google-Smtp-Source: AGHT+IGgX8zMussyEYuhJ/dohmnd1DcQVJLc14A+/epKHG1FgI76+zwOg9NYRLVCYwjZUVM+fcST8lIFMBUh X-Received: by 2002:a05:6e02:1545:b0:3d9:64e7:959f with SMTP id e9e14a558f8ab-3da6ce0827fmr24143085ab.21.1746511842797; Mon, 05 May 2025 23:10:42 -0700 (PDT) Received: from postal.iol.unh.edu (postal.iol.unh.edu. [132.177.123.84]) by smtp-relay.gmail.com with ESMTPS id e9e14a558f8ab-3d975e787bbsm21428035ab.16.2025.05.05.23.10.42 (version=TLS1_2 cipher=ECDHE-ECDSA-AES128-GCM-SHA256 bits=128/128); Mon, 05 May 2025 23:10:42 -0700 (PDT) X-Relaying-Domain: iol.unh.edu Date: Mon, 05 May 2025 23:10:42 -0700 (PDT) Message-ID: <6819a7e2.050a0220.1e14ef.76fcSMTPIN_ADDED_MISSING@mx.google.com> Received: from [172.21.0.6] (unknown [172.18.0.240]) by postal.iol.unh.edu (Postfix) with ESMTP id 3C65E6052471; Tue, 6 May 2025 02:10:42 -0400 (EDT) Subject: |SUCCESS| pw153303 [PATCH] eal: add getline() function for Windows From: dpdklab@iol.unh.edu To: Test Report Cc: dpdk-test-reports@iol.unh.edu In-Reply-To: <1746477607-14961-1-git-send-email-andremue@linux.microsoft.com> References: <1746477607-14961-1-git-send-email-andremue@linux.microsoft.com> Content-Type: text/plain X-BeenThere: test-report@dpdk.org X-Mailman-Version: 2.1.29 Precedence: list List-Id: automatic DPDK test reports List-Unsubscribe: , List-Archive: List-Post: List-Help: List-Subscribe: , Errors-To: test-report-bounces@dpdk.org Test-Label: iol-unit-arm64-testing Test-Status: SUCCESS http://dpdk.org/patch/153303 _Testing PASS_ Submitter: Andre Muezerie Date: Monday, May 05 2025 20:40:07 DPDK git baseline: Repo:dpdk Branch: master CommitID:ca1690ebd224f148268285b15b97441ccdbdd07e 153303 --> testing pass Upstream job id: Aarch32-Unit-Test#6145 Test environment and result as below: +-----------------------------+------------------------------+--------------+---------------------------+----------------+ | Environment | cryptodev_sw_snow3g_autotest | lpm_autotest | cryptodev_sw_zuc_autotest | dpdk_unit_test | +=============================+==============================+==============+===========================+================+ | Debian 12 (arm) | PASS | SKIPPED | PASS | PASS | +-----------------------------+------------------------------+--------------+---------------------------+----------------+ | Ubuntu 20.04 ARM SVE | SKIPPED | PASS | SKIPPED | SKIPPED | +-----------------------------+------------------------------+--------------+---------------------------+----------------+ | CentOS Stream 9 (ARM) | SKIPPED | SKIPPED | SKIPPED | PASS | +-----------------------------+------------------------------+--------------+---------------------------+----------------+ | CentOS Stream 10 (ARM) | SKIPPED | SKIPPED | SKIPPED | PASS | +-----------------------------+------------------------------+--------------+---------------------------+----------------+ | Fedora 41 (ARM Clang) | SKIPPED | SKIPPED | SKIPPED | PASS | +-----------------------------+------------------------------+--------------+---------------------------+----------------+ | Fedora 41 (ARM) | SKIPPED | SKIPPED | SKIPPED | PASS | +-----------------------------+------------------------------+--------------+---------------------------+----------------+ | Fedora 40 (ARM) | SKIPPED | SKIPPED | SKIPPED | PASS | +-----------------------------+------------------------------+--------------+---------------------------+----------------+ | Fedora 40 (ARM Clang) | SKIPPED | SKIPPED | SKIPPED | PASS | +-----------------------------+------------------------------+--------------+---------------------------+----------------+ | Ubuntu 20.04 (ARM) | SKIPPED | SKIPPED | SKIPPED | PASS | +-----------------------------+------------------------------+--------------+---------------------------+----------------+ | RHEL9 (ARM) | SKIPPED | SKIPPED | SKIPPED | PASS | +-----------------------------+------------------------------+--------------+---------------------------+----------------+ | Ubuntu 24.04 (ARM) | SKIPPED | SKIPPED | SKIPPED | PASS | +-----------------------------+------------------------------+--------------+---------------------------+----------------+ | Ubuntu 22.04 (ARM) | SKIPPED | SKIPPED | SKIPPED | PASS | +-----------------------------+------------------------------+--------------+---------------------------+----------------+ | 32-bit Ubuntu 22.04.4 (ARM) | SKIPPED | SKIPPED | SKIPPED | PASS | +-----------------------------+------------------------------+--------------+---------------------------+----------------+ Debian 12 (arm) Kernel: Depends on container host Compiler: gcc (Debian 12.2.0-14) 12.2.0 Ubuntu 20.04 ARM SVE Kernel: Depends on container host Compiler: gcc (Ubuntu 10.5.0-1ubuntu1~20.04) 10.5.0 CentOS Stream 9 (ARM) Kernel: Depends on container host Compiler: gcc 11.5.0 20240719 (Red Hat 11.5.0-2) CentOS Stream 10 (ARM) Kernel: Depends on container host Compiler: gcc 14.2.1 20241104 (Red Hat 14.2.1-6) Fedora 41 (ARM Clang) Kernel: Depends on container host Compiler: clang 19.1.5 (Fedora 19.1.5-1.fc41) Fedora 41 (ARM) Kernel: Depends on container host Compiler: gcc 14.2.1 20240912 (Red Hat 14.2.1-3) Fedora 40 (ARM) Kernel: Depends on container host Compiler: gcc 14.2.1 20240912 (Red Hat 14.2.1-3) Fedora 40 (ARM Clang) Kernel: Depends on container host Compiler: clang 18.1.8 (Fedora 18.1.8-1.fc40) Ubuntu 20.04 (ARM) Kernel: Depends on container host Compiler: gcc (Ubuntu 9.4.0-1ubuntu1~20.04.2) 9.4.0 RHEL9 (ARM) Kernel: Depends on container host Compiler: gcc 11.5.0 20240719 (Red Hat 11.5.0-2) Ubuntu 24.04 (ARM) Kernel: Depends on container host Compiler: gcc (Ubuntu 13.3.0-6ubuntu2~24.04) 13.3.0 Ubuntu 22.04 (ARM) Kernel: Depends on container host Compiler: gcc (Ubuntu 11.4.0-1ubuntu1~22.04) 11.4.0 32-bit Ubuntu 22.04.4 (ARM) Kernel: 5.15.83+ aarch64 Compiler: gcc (Ubuntu 11.4.0-1ubuntu1~22.04) 11.4.0 To view detailed results, visit: https://lab.dpdk.org/results/dashboard/patchsets/33116/ UNH-IOL DPDK Community Lab To manage your email subscriptions, visit: https://lab.dpdk.org/results/dashboard/preferences/subscriptions/