From mboxrd@z Thu Jan 1 00:00:00 1970 Return-Path: Received: from mails.dpdk.org (mails.dpdk.org [217.70.189.124]) by inbox.dpdk.org (Postfix) with ESMTP id 8492E466D5 for ; Tue, 6 May 2025 08:19:10 +0200 (CEST) Received: from mails.dpdk.org (localhost [127.0.0.1]) by mails.dpdk.org (Postfix) with ESMTP id 5ED604026D; Tue, 6 May 2025 08:19:10 +0200 (CEST) Received: from mail-pj1-f100.google.com (mail-pj1-f100.google.com [209.85.216.100]) by mails.dpdk.org (Postfix) with ESMTP id 6FC5840150 for ; Tue, 6 May 2025 08:19:08 +0200 (CEST) Received: by mail-pj1-f100.google.com with SMTP id 98e67ed59e1d1-3031354f134so4163656a91.3 for ; Mon, 05 May 2025 23:19:08 -0700 (PDT) DKIM-Signature: v=1; a=rsa-sha256; c=relaxed/relaxed; d=iol.unh.edu; s=unh-iol; t=1746512347; x=1747117147; darn=dpdk.org; h=references:in-reply-to:cc:to:from:subject:message-id:date:from:to :cc:subject:date:message-id:reply-to; bh=lozch//1CSGlL7lJpJmoU619eUdESvh3G5xUMI7RQio=; b=d1/2Wv6zsXvQC/GhekqUxvkGQrEk/ueh4P3TRI4rv4aH7N0hS/Srm9My2oq3ouSUdv nhmoaWtlAF0lkY6R0xb7W4GvjO40Ei19rbp0b3lpz+995sl8RKS95eTDa91VP6UnbHnz JtVje03x1wURpAbf8Bgy0onVxBBKZoAWcF+bY= X-Google-DKIM-Signature: v=1; a=rsa-sha256; c=relaxed/relaxed; d=1e100.net; s=20230601; t=1746512347; x=1747117147; h=references:in-reply-to:cc:to:from:subject:message-id:date :x-gm-message-state:from:to:cc:subject:date:message-id:reply-to; bh=lozch//1CSGlL7lJpJmoU619eUdESvh3G5xUMI7RQio=; b=OJIlJBHGV1HSp3MEop7+LCvJrPa0fplOOjCZnuCogalW0E3h9hqf2shK0r2dZ1CVsF KHqcaBrQBiNss5hbiHRk/bR6aNDTHdk11iyPliDb/rAgUcRXsLZ5eoqv/qbqa2hS+HxY CaHnN1nrBkZo9VGLsJ8a6UgTS1AcV0lEYhbnOwQgCd0d3/nxU465Qg66yEVTEIcfUUPB fqCDfFjm42ny1tNbdiObzY9ceE9DTChHQnWRsyehOCqx6HTBNkxext4t96gu5GUO6uXT Y+932+DAmEUqxfjD2PoyxCxTK4Y2frfxlpiQgceXcC3dUJC+Q/csKY7uC26zrD7FpZHj nybQ== X-Gm-Message-State: AOJu0YxK5fl6rG06zdpS2lLejPmZt4HhbCmYM+5wXBRmkat0t215zBaP qDb618rVgR1CLq4ROYt2TgBa4XJ9ucty2lobdCzZ3knaVmpvbrHHBiqM7sLgwd/Ky+/xlbunFCv GFIChGrj4IOnT5w1LqEWCp44kwLM5czOd5CLLdRQm X-Gm-Gg: ASbGncv27BNRVD0zedXP54+4bYlnV6hJuC22SrX0+xHPjzAksSAn5OjsAkuKDHuJG4F BHc1B4HVPnxiZEach774gE1o7+yaLBE7QjBCmb3m7RG0es9qDoEPYIQpjOO6Jjws7gXcfZHml+/ fSWmCTDdvCFFvqPv+nqEcsdtUimdC0adi7oMmWphoeW6DzN76WqfOYDl47q3wvcUjLkzz00ZBGu 7jVjPXqTLdQShy9WydWj3wm8gWFwb9vB1qxVZ7HysCJf3ceHHmPRDHeSKM1PwMnZnazkDJ/yChQ QzFM6yW6qXuVtKBgtFTMoKYl4u/n6Vmj5Vp1kM2SIGzTZuF/gp2sBP2zEbQ= X-Google-Smtp-Source: AGHT+IFQs3pF9baWoBvl0xhf3mFsb1f6jP6hpmOPneYIvh8xOTcF6VMpw3fwz2kaGhUr1C/JM1qYzCW1Gb4z X-Received: by 2002:a17:90b:4985:b0:30a:214a:c64f with SMTP id 98e67ed59e1d1-30a61a6f83amr12687533a91.32.1746512347270; Mon, 05 May 2025 23:19:07 -0700 (PDT) Received: from postal.iol.unh.edu (postal.iol.unh.edu. [132.177.123.84]) by smtp-relay.gmail.com with ESMTPS id 98e67ed59e1d1-30a347811cdsm2972305a91.8.2025.05.05.23.19.07 (version=TLS1_2 cipher=ECDHE-ECDSA-AES128-GCM-SHA256 bits=128/128); Mon, 05 May 2025 23:19:07 -0700 (PDT) X-Relaying-Domain: iol.unh.edu Date: Mon, 05 May 2025 23:19:07 -0700 (PDT) Message-ID: <6819a9db.170a0220.11826c.57eeSMTPIN_ADDED_MISSING@mx.google.com> Received: from [172.21.0.14] (unknown [172.18.0.240]) by postal.iol.unh.edu (Postfix) with ESMTP id A3ECE6052471; Tue, 6 May 2025 02:19:06 -0400 (EDT) Subject: |SUCCESS| pw153300 [PATCH] net/mlx5: avoid implicit conversion to 64 From: dpdklab@iol.unh.edu To: Test Report Cc: dpdk-test-reports@iol.unh.edu In-Reply-To: <1746458202-12356-1-git-send-email-andremue@linux.microsoft.com> References: <1746458202-12356-1-git-send-email-andremue@linux.microsoft.com> Content-Type: text/plain X-BeenThere: test-report@dpdk.org X-Mailman-Version: 2.1.29 Precedence: list List-Id: automatic DPDK test reports List-Unsubscribe: , List-Archive: List-Post: List-Help: List-Subscribe: , Errors-To: test-report-bounces@dpdk.org Test-Label: iol-compile-amd64-testing Test-Status: SUCCESS http://dpdk.org/patch/153300 _Testing PASS_ Submitter: Andre Muezerie Date: Monday, May 05 2025 15:16:42 DPDK git baseline: Repo:dpdk Branch: master CommitID:ca1690ebd224f148268285b15b97441ccdbdd07e 153300 --> testing pass Upstream job id: Windows-Compile-DPDK-Native#28225 Test environment and result as below: +-----------------------------------+--------------------+-------------------+-------------------+------------------+-------------------------+----------------------+ | Environment | dpdk_meson_compile | dpdk_msvc_compile | dpdk_compile_spdk | dpdk_compile_ovs | dpdk_llvm_clang_compile | dpdk_mingw64_compile | +===================================+====================+===================+===================+==================+=========================+======================+ | Ubuntu 20.04 | PASS | SKIPPED | SKIPPED | SKIPPED | SKIPPED | SKIPPED | +-----------------------------------+--------------------+-------------------+-------------------+------------------+-------------------------+----------------------+ | FreeBSD 13.5 | PASS | SKIPPED | SKIPPED | SKIPPED | SKIPPED | SKIPPED | +-----------------------------------+--------------------+-------------------+-------------------+------------------+-------------------------+----------------------+ | FreeBSD 14.2 | PASS | SKIPPED | SKIPPED | SKIPPED | SKIPPED | SKIPPED | +-----------------------------------+--------------------+-------------------+-------------------+------------------+-------------------------+----------------------+ | CentOS Stream 9 | PASS | SKIPPED | PASS | SKIPPED | SKIPPED | SKIPPED | +-----------------------------------+--------------------+-------------------+-------------------+------------------+-------------------------+----------------------+ | CentOS Stream 10 | PASS | SKIPPED | SKIPPED | SKIPPED | SKIPPED | SKIPPED | +-----------------------------------+--------------------+-------------------+-------------------+------------------+-------------------------+----------------------+ | Fedora 40 (Clang) | PASS | SKIPPED | PASS | SKIPPED | SKIPPED | SKIPPED | +-----------------------------------+--------------------+-------------------+-------------------+------------------+-------------------------+----------------------+ | Fedora 40 | PASS | SKIPPED | PASS | SKIPPED | SKIPPED | SKIPPED | +-----------------------------------+--------------------+-------------------+-------------------+------------------+-------------------------+----------------------+ | Fedora 41 (Clang) | PASS | SKIPPED | PASS | PASS | SKIPPED | SKIPPED | +-----------------------------------+--------------------+-------------------+-------------------+------------------+-------------------------+----------------------+ | Fedora 41 | PASS | SKIPPED | PASS | PASS | SKIPPED | SKIPPED | +-----------------------------------+--------------------+-------------------+-------------------+------------------+-------------------------+----------------------+ | openSUSE Leap 15 | PASS | SKIPPED | SKIPPED | SKIPPED | SKIPPED | SKIPPED | +-----------------------------------+--------------------+-------------------+-------------------+------------------+-------------------------+----------------------+ | RHEL8 | PASS | SKIPPED | SKIPPED | SKIPPED | SKIPPED | SKIPPED | +-----------------------------------+--------------------+-------------------+-------------------+------------------+-------------------------+----------------------+ | RHEL9 | PASS | SKIPPED | SKIPPED | SKIPPED | SKIPPED | SKIPPED | +-----------------------------------+--------------------+-------------------+-------------------+------------------+-------------------------+----------------------+ | Ubuntu 22.04 | PASS | SKIPPED | PASS | SKIPPED | SKIPPED | SKIPPED | +-----------------------------------+--------------------+-------------------+-------------------+------------------+-------------------------+----------------------+ | Ubuntu 24.04 | PASS | SKIPPED | PASS | PASS | SKIPPED | SKIPPED | +-----------------------------------+--------------------+-------------------+-------------------+------------------+-------------------------+----------------------+ | Alpine | PASS | SKIPPED | SKIPPED | SKIPPED | SKIPPED | SKIPPED | +-----------------------------------+--------------------+-------------------+-------------------+------------------+-------------------------+----------------------+ | Ubuntu 24.04 32 Bit Cross Compile | PASS | SKIPPED | SKIPPED | SKIPPED | SKIPPED | SKIPPED | +-----------------------------------+--------------------+-------------------+-------------------+------------------+-------------------------+----------------------+ | Debian 12 | PASS | SKIPPED | PASS | SKIPPED | SKIPPED | SKIPPED | +-----------------------------------+--------------------+-------------------+-------------------+------------------+-------------------------+----------------------+ | Windows Server 2022 | SKIPPED | PASS | SKIPPED | SKIPPED | PASS | PASS | +-----------------------------------+--------------------+-------------------+-------------------+------------------+-------------------------+----------------------+ Ubuntu 20.04 Kernel: 4.19.325-0419325-generic Compiler: gcc (Ubuntu 9.4.0-1ubuntu1~20.04.2) 9.4.0 FreeBSD 13.5 Kernel: 13.5-RELEASE Compiler: clang 19.1.7 FreeBSD 14.2 Kernel: 14.2-RELEASE Compiler: clang 18.1.6 CentOS Stream 9 Kernel: Depends on container host Compiler: gcc 11.5.0 20240719 (Red Hat 11.5.0-2) CentOS Stream 10 Kernel: Depends on container host Compiler: gcc 14.2.1 20241104 (Red Hat 14.2.1-6) Fedora 40 (Clang) Kernel: Depends on container host Compiler: clang 18.1.8 (Fedora 18.1.8-1.fc40) Fedora 40 Kernel: Depends on container host Compiler: gcc 14.2.1 20240912 (Red Hat 14.2.1-3) Fedora 41 (Clang) Kernel: Depends on container host Compiler: clang 19.1.5 (Fedora 19.1.5-1.fc41) Fedora 41 Kernel: Depends on container host Compiler: gcc 14.2.1 20240912 (Red Hat 14.2.1-3) openSUSE Leap 15 Kernel: Depends on container host Compiler: gcc (SUSE Linux) 7.5.0 RHEL8 Kernel: Depends on container host Compiler: gcc 8.5.0 20210514 (Red Hat 8.5.0-22) RHEL9 Kernel: Depends on container host Compiler: gcc 11.5.0 20240719 (Red Hat 11.5.0-2) Ubuntu 22.04 Kernel: Depends on container host Compiler: gcc (Ubuntu 11.4.0-1ubuntu1~22.04) 11.4.0 Ubuntu 24.04 Kernel: Depends on container host Compiler: gcc (Ubuntu 13.3.0-6ubuntu2~24.04) 13.3.0 Alpine Kernel: Depends on container host Compiler: gcc (Alpine 14.2.0) 14.2.0 Ubuntu 24.04 32 Bit Cross Compile Kernel: Depends on container host Compiler: gcc (Ubuntu 13.3.0-6ubuntu2~24.04) 13.3.0 Debian 12 Kernel: Depends on container host Compiler: gcc (Debian 12.2.0-14) 12.2.0 Windows Server 2022 Kernel: 10.0.20348.2031 Compiler: clang 15.0.7, gcc 14.1.0 (MinGW), and MSVC VS 19.39.33521 To view detailed results, visit: https://lab.dpdk.org/results/dashboard/patchsets/33113/ UNH-IOL DPDK Community Lab To manage your email subscriptions, visit: https://lab.dpdk.org/results/dashboard/preferences/subscriptions/