From mboxrd@z Thu Jan  1 00:00:00 1970
Return-Path: <test-report-bounces@dpdk.org>
Received: from mails.dpdk.org (mails.dpdk.org [217.70.189.124])
	by inbox.dpdk.org (Postfix) with ESMTP id D0CBF466D5
	for <public@inbox.dpdk.org>; Tue,  6 May 2025 08:22:15 +0200 (CEST)
Received: from mails.dpdk.org (localhost [127.0.0.1])
	by mails.dpdk.org (Postfix) with ESMTP id B0BAA4026D;
	Tue,  6 May 2025 08:22:15 +0200 (CEST)
Received: from mail-pl1-f227.google.com (mail-pl1-f227.google.com
 [209.85.214.227])
 by mails.dpdk.org (Postfix) with ESMTP id 5DB0340150
 for <test-report@dpdk.org>; Tue,  6 May 2025 08:22:14 +0200 (CEST)
Received: by mail-pl1-f227.google.com with SMTP id
 d9443c01a7336-22423adf751so60932905ad.2
 for <test-report@dpdk.org>; Mon, 05 May 2025 23:22:14 -0700 (PDT)
DKIM-Signature: v=1; a=rsa-sha256; c=relaxed/relaxed;
 d=iol.unh.edu; s=unh-iol; t=1746512533; x=1747117333; darn=dpdk.org;
 h=references:in-reply-to:cc:to:from:subject:message-id:date:from:to
 :cc:subject:date:message-id:reply-to;
 bh=TgpALDwD0MQRz16dAi6bSNbapKNYdpXoIdJQHOPY4fU=;
 b=ffSikCQnO0VriI9U4R8BwSZa1at44WwiagLQf9eJVTHQq7Jy30Dde4Wj066pQ1lGet
 bNa2r5wFuoHm7EPXGba5gsG2uk+wcmFGQNq0Y44yVDNFVzcro8N1WLa7zMSZaCfmnR34
 XwaFaJyFZxBA4rtTNj9plECqOe5MeS57Uqk+Y=
X-Google-DKIM-Signature: v=1; a=rsa-sha256; c=relaxed/relaxed;
 d=1e100.net; s=20230601; t=1746512533; x=1747117333;
 h=references:in-reply-to:cc:to:from:subject:message-id:date
 :x-gm-message-state:from:to:cc:subject:date:message-id:reply-to;
 bh=TgpALDwD0MQRz16dAi6bSNbapKNYdpXoIdJQHOPY4fU=;
 b=e/m9lOR3esB35l/bm0X1ZiXo/bY4CsZqwOdiakzpRbIvFvjfUIaapUI3aM351LSj+c
 cEtACHR/qcboI17NvJF5O8dsBgDJ1VPX4v8DuCfQEedgaaTZrQseOsh919G+FdajCbRf
 UGrxcP+MUBsSJozrS0e0XVWQxmO9HEpfmQ2bdGnU7ZxQPUFq4L7Bf0CXynjHeHN8eDML
 5qQuY6ZzNzU7BzD8QP/zysahHu4pqdO+iwqKUEQ71rKyjkalzZIc6xng56VWFHY23D54
 HDJDLjtDAu/3/uDs/XOCe7Q41tOnafpkWz9joM5eT297konHhvryY9TtQysuJU03o8wc
 PQPA==
X-Gm-Message-State: AOJu0YwLoed2J638ZnkoVAJNOLU0nY77dUv7GqUCSD5U3Emu0ccOoI0U
 T97YvwCIACk+dRCisqJw2SCX0Bi9MsWBso1RHgatYFEgu0bmsD+SJitKzfCXY0v+wglGvMNPbig
 jYy9r35iwjtsCvvfi78GFyhnexmEwvazd0QvNLGCS
X-Gm-Gg: ASbGncsNz67NZ2gt6ffrrBdWK4zz/jtHEsi+KTPrzOKjoc5+te9slds1mD5sokD6cuK
 QV08ZDS/uF2E9sRVGWO20E5sF6T7PIcuUeHML+YxlI72q0fDdmi6oGwG3W0XuFjgf1Y3otIe6PL
 dbuTDjIFzuhUYUmcNLZ8fGvxkw/5fI4oKde0E6GuZXt+5wq6m+2tS+Y8LALueGv2JrvHzZyLX9z
 P9lBqWGEMoky1yaIXLTkWpp5NbiF0kJO4nPpYMWJxAl3ASSTVv09ziYOq1ioSW1C5i7Cd3eS4RD
 mRnHZzGLa5ue1HZlv7sqGNd5HG1PVpBIY+gaNT+/K7GO5Hk0k2OI/JfYlvc=
X-Google-Smtp-Source: AGHT+IGgIyHe7k1f9ht4WLMIRrX+8WVGyS3R7QjjBDAANNV6ecTg76BsL1CyG0TYK4Op5P3hMWzE1K4S/FWQ
X-Received: by 2002:a17:903:2290:b0:22e:a59:af6f with SMTP id
 d9443c01a7336-22e1031d85cmr266227375ad.28.1746512533502; 
 Mon, 05 May 2025 23:22:13 -0700 (PDT)
Received: from postal.iol.unh.edu (postal.iol.unh.edu. [132.177.123.84])
 by smtp-relay.gmail.com with ESMTPS id
 d9443c01a7336-22e35b83f36sm461015ad.28.2025.05.05.23.22.13
 (version=TLS1_2 cipher=ECDHE-ECDSA-AES128-GCM-SHA256 bits=128/128);
 Mon, 05 May 2025 23:22:13 -0700 (PDT)
X-Relaying-Domain: iol.unh.edu
Date: Mon, 05 May 2025 23:22:13 -0700 (PDT)
Message-ID: <6819aa95.170a0220.20bffd.2589SMTPIN_ADDED_MISSING@mx.google.com>
Received: from [172.21.0.6] (unknown [172.18.0.240])
 by postal.iol.unh.edu (Postfix) with ESMTP id B21EE6052471;
 Tue,  6 May 2025 02:22:12 -0400 (EDT)
Subject: |SUCCESS| pw153300 [PATCH] net/mlx5: avoid implicit conversion to 64
From: dpdklab@iol.unh.edu
To: Test Report <test-report@dpdk.org>
Cc: dpdk-test-reports@iol.unh.edu
In-Reply-To: <1746458202-12356-1-git-send-email-andremue@linux.microsoft.com>
References: <1746458202-12356-1-git-send-email-andremue@linux.microsoft.com>
Content-Type: text/plain
X-BeenThere: test-report@dpdk.org
X-Mailman-Version: 2.1.29
Precedence: list
List-Id: automatic DPDK test reports <test-report.dpdk.org>
List-Unsubscribe: <https://mails.dpdk.org/options/test-report>,
 <mailto:test-report-request@dpdk.org?subject=unsubscribe>
List-Archive: <http://mails.dpdk.org/archives/test-report/>
List-Post: <mailto:test-report@dpdk.org>
List-Help: <mailto:test-report-request@dpdk.org?subject=help>
List-Subscribe: <https://mails.dpdk.org/listinfo/test-report>,
 <mailto:test-report-request@dpdk.org?subject=subscribe>
Errors-To: test-report-bounces@dpdk.org

Test-Label: iol-compile-amd64-testing
Test-Status: SUCCESS
http://dpdk.org/patch/153300

_Testing PASS_

Submitter: Andre Muezerie <andremue@linux.microsoft.com>
Date: Monday, May 05 2025 15:16:42 
DPDK git baseline: Repo:dpdk
  Branch: master
  CommitID:ca1690ebd224f148268285b15b97441ccdbdd07e

153300 --> testing pass

Upstream job id: Generic-DPDK-Compile-Meson#385366

Test environment and result as below:

+-----------------------------------+--------------------+-------------------+-------------------+------------------+-------------------------+----------------------+
|            Environment            | dpdk_meson_compile | dpdk_msvc_compile | dpdk_compile_spdk | dpdk_compile_ovs | dpdk_llvm_clang_compile | dpdk_mingw64_compile |
+===================================+====================+===================+===================+==================+=========================+======================+
| Ubuntu 20.04                      | PASS               | SKIPPED           | SKIPPED           | SKIPPED          | SKIPPED                 | SKIPPED              |
+-----------------------------------+--------------------+-------------------+-------------------+------------------+-------------------------+----------------------+
| FreeBSD 13.5                      | PASS               | SKIPPED           | SKIPPED           | SKIPPED          | SKIPPED                 | SKIPPED              |
+-----------------------------------+--------------------+-------------------+-------------------+------------------+-------------------------+----------------------+
| FreeBSD 14.2                      | PASS               | SKIPPED           | SKIPPED           | SKIPPED          | SKIPPED                 | SKIPPED              |
+-----------------------------------+--------------------+-------------------+-------------------+------------------+-------------------------+----------------------+
| CentOS Stream 9                   | PASS               | SKIPPED           | PASS              | SKIPPED          | SKIPPED                 | SKIPPED              |
+-----------------------------------+--------------------+-------------------+-------------------+------------------+-------------------------+----------------------+
| CentOS Stream 10                  | PASS               | SKIPPED           | SKIPPED           | SKIPPED          | SKIPPED                 | SKIPPED              |
+-----------------------------------+--------------------+-------------------+-------------------+------------------+-------------------------+----------------------+
| Fedora 40 (Clang)                 | PASS               | SKIPPED           | PASS              | SKIPPED          | SKIPPED                 | SKIPPED              |
+-----------------------------------+--------------------+-------------------+-------------------+------------------+-------------------------+----------------------+
| Fedora 40                         | PASS               | SKIPPED           | PASS              | SKIPPED          | SKIPPED                 | SKIPPED              |
+-----------------------------------+--------------------+-------------------+-------------------+------------------+-------------------------+----------------------+
| Fedora 41 (Clang)                 | PASS               | SKIPPED           | PASS              | PASS             | SKIPPED                 | SKIPPED              |
+-----------------------------------+--------------------+-------------------+-------------------+------------------+-------------------------+----------------------+
| Fedora 41                         | PASS               | SKIPPED           | PASS              | PASS             | SKIPPED                 | SKIPPED              |
+-----------------------------------+--------------------+-------------------+-------------------+------------------+-------------------------+----------------------+
| openSUSE Leap 15                  | PASS               | SKIPPED           | SKIPPED           | SKIPPED          | SKIPPED                 | SKIPPED              |
+-----------------------------------+--------------------+-------------------+-------------------+------------------+-------------------------+----------------------+
| RHEL8                             | PASS               | SKIPPED           | SKIPPED           | SKIPPED          | SKIPPED                 | SKIPPED              |
+-----------------------------------+--------------------+-------------------+-------------------+------------------+-------------------------+----------------------+
| RHEL9                             | PASS               | SKIPPED           | SKIPPED           | SKIPPED          | SKIPPED                 | SKIPPED              |
+-----------------------------------+--------------------+-------------------+-------------------+------------------+-------------------------+----------------------+
| Ubuntu 22.04                      | PASS               | SKIPPED           | PASS              | SKIPPED          | SKIPPED                 | SKIPPED              |
+-----------------------------------+--------------------+-------------------+-------------------+------------------+-------------------------+----------------------+
| Ubuntu 24.04                      | PASS               | SKIPPED           | PASS              | PASS             | SKIPPED                 | SKIPPED              |
+-----------------------------------+--------------------+-------------------+-------------------+------------------+-------------------------+----------------------+
| Alpine                            | PASS               | SKIPPED           | SKIPPED           | SKIPPED          | SKIPPED                 | SKIPPED              |
+-----------------------------------+--------------------+-------------------+-------------------+------------------+-------------------------+----------------------+
| Ubuntu 24.04 32 Bit Cross Compile | PASS               | SKIPPED           | SKIPPED           | SKIPPED          | SKIPPED                 | SKIPPED              |
+-----------------------------------+--------------------+-------------------+-------------------+------------------+-------------------------+----------------------+
| Debian 12                         | PASS               | SKIPPED           | PASS              | SKIPPED          | SKIPPED                 | SKIPPED              |
+-----------------------------------+--------------------+-------------------+-------------------+------------------+-------------------------+----------------------+
| Windows Server 2022               | SKIPPED            | PASS              | SKIPPED           | SKIPPED          | PASS                    | PASS                 |
+-----------------------------------+--------------------+-------------------+-------------------+------------------+-------------------------+----------------------+


Ubuntu 20.04
	Kernel: 4.19.325-0419325-generic
	Compiler: gcc (Ubuntu 9.4.0-1ubuntu1~20.04.2) 9.4.0

FreeBSD 13.5
	Kernel: 13.5-RELEASE
	Compiler: clang 19.1.7

FreeBSD 14.2
	Kernel: 14.2-RELEASE
	Compiler: clang 18.1.6

CentOS Stream 9
	Kernel: Depends on container host
	Compiler: gcc 11.5.0 20240719 (Red Hat 11.5.0-2)

CentOS Stream 10
	Kernel: Depends on container host
	Compiler: gcc 14.2.1 20241104 (Red Hat 14.2.1-6)

Fedora 40 (Clang)
	Kernel: Depends on container host
	Compiler: clang 18.1.8 (Fedora 18.1.8-1.fc40)

Fedora 40
	Kernel: Depends on container host
	Compiler: gcc 14.2.1 20240912 (Red Hat 14.2.1-3)

Fedora 41 (Clang)
	Kernel: Depends on container host
	Compiler: clang 19.1.5 (Fedora 19.1.5-1.fc41)

Fedora 41
	Kernel: Depends on container host
	Compiler: gcc 14.2.1 20240912 (Red Hat 14.2.1-3)

openSUSE Leap 15
	Kernel: Depends on container host
	Compiler: gcc (SUSE Linux) 7.5.0

RHEL8
	Kernel: Depends on container host
	Compiler: gcc 8.5.0 20210514 (Red Hat 8.5.0-22)

RHEL9
	Kernel: Depends on container host
	Compiler: gcc 11.5.0 20240719 (Red Hat 11.5.0-2)

Ubuntu 22.04
	Kernel: Depends on container host
	Compiler: gcc (Ubuntu 11.4.0-1ubuntu1~22.04) 11.4.0

Ubuntu 24.04
	Kernel: Depends on container host
	Compiler: gcc (Ubuntu 13.3.0-6ubuntu2~24.04) 13.3.0

Alpine
	Kernel: Depends on container host
	Compiler: gcc (Alpine 14.2.0) 14.2.0

Ubuntu 24.04 32 Bit Cross Compile
	Kernel: Depends on container host
	Compiler: gcc (Ubuntu 13.3.0-6ubuntu2~24.04) 13.3.0

Debian 12
	Kernel: Depends on container host
	Compiler: gcc (Debian 12.2.0-14) 12.2.0

Windows Server 2022
	Kernel: 10.0.20348.2031
	Compiler: clang 15.0.7, gcc 14.1.0 (MinGW), and MSVC VS 19.39.33521

To view detailed results, visit:
https://lab.dpdk.org/results/dashboard/patchsets/33113/

UNH-IOL DPDK Community Lab

To manage your email subscriptions, visit: 
https://lab.dpdk.org/results/dashboard/preferences/subscriptions/