From mboxrd@z Thu Jan 1 00:00:00 1970 Return-Path: Received: from mails.dpdk.org (mails.dpdk.org [217.70.189.124]) by inbox.dpdk.org (Postfix) with ESMTP id 565F6466D5 for ; Tue, 6 May 2025 08:59:05 +0200 (CEST) Received: from mails.dpdk.org (localhost [127.0.0.1]) by mails.dpdk.org (Postfix) with ESMTP id 525E040269; Tue, 6 May 2025 08:59:05 +0200 (CEST) Received: from mail-pl1-f225.google.com (mail-pl1-f225.google.com [209.85.214.225]) by mails.dpdk.org (Postfix) with ESMTP id 4C6AE40150 for ; Tue, 6 May 2025 08:59:04 +0200 (CEST) Received: by mail-pl1-f225.google.com with SMTP id d9443c01a7336-2255003f4c6so54548025ad.0 for ; Mon, 05 May 2025 23:59:04 -0700 (PDT) DKIM-Signature: v=1; a=rsa-sha256; c=relaxed/relaxed; d=iol.unh.edu; s=unh-iol; t=1746514743; x=1747119543; darn=dpdk.org; h=references:in-reply-to:cc:to:from:subject:message-id:date:from:to :cc:subject:date:message-id:reply-to; bh=fTxgDVWrI9JEcRVQHssDSFCQhCbNXsaXoXvakH+BjOs=; b=juKt9ZPdw/ZMdOr6+V80/lya/KAQs1wSvlkaOYSGKyx83K06sQ/KwlErXp8voeF3xp 7YfqZSiwgJZMWQoNFGF49wB6QIJc6EbGYOVQtbJffYJqec//NeEIUzRPM3Obxpy0rM+B jr+cwW/QQpwOXHUi+u+D/fhC+PuE0vg059QnU= X-Google-DKIM-Signature: v=1; a=rsa-sha256; c=relaxed/relaxed; d=1e100.net; s=20230601; t=1746514743; x=1747119543; h=references:in-reply-to:cc:to:from:subject:message-id:date :x-gm-message-state:from:to:cc:subject:date:message-id:reply-to; bh=fTxgDVWrI9JEcRVQHssDSFCQhCbNXsaXoXvakH+BjOs=; b=GHdwBfkpsoshkdaxb+XBBceinamvbzDfdZdss5blGUvncc5fdTwUx7A6wd8UXNHq3I ABOg4N9s3ssJycFA+JUb3aP3yUPflhXIwwJFFQuKB/Q9YzQiew99LPGS4MJsAk6tt2pe c9SyNn34iFbZmZI4DFjRYLEwASbK5C6OqUYkRqzjGJa4bA+nteDdcEvbm9WmcIDtgspz X9yvk0WK8Ap+Jp+JZiP7Gwb7l0SrI098LEn5F+BC7QKtbWUJTkfIxhIwcZir3Ji+DrMT 1SQlJbGAyX7bg7k9oLqUIJTxwxRr2bP6WdEaACyw9doX8czkS9QHJYwqMa/GChX/D1+d B5Ww== X-Gm-Message-State: AOJu0Yx+U271CsRyCAyg5SNbGrsscpkn4eNXcruB5WokuUL3aR6zxOYV 2GKHFfakyR+r8fi6i8huhfM13ukq+AEB0UGyi4t6P+vkGJD+M2biLqxQAfK+YAkTXzgFwrxt0+3 Iu01lGsjzyzzutmMYJoTcjVjxZ/Y1r6Sfan5L01A+ X-Gm-Gg: ASbGnctoor9MKSgNOoqjiq+W9KIjg9XjkWfEnKhn/qIggpUwb6H1jmFIcWvlmZpgoAE Q4vQ6KTYQFyBmMfchOJxveQwMVoK0U4B9zsCytN3vqagYzzTMpcKf7yqYRdvQIQqS+wHJonZs1j PTUdiUHjsjabTyzEyW39WnYeTbRbumjypo+qpm9w1Qt0gakEXcQHXB6aTUD7Bs9z+6ItsCWDbOc gMGLSgW9yOTyUsDYteZLzYL5snBjT3NVYqLWV3aFoSssBr8Yg3jzLlWu3B9piSvUtTeyB/mw789 BHZ8GKqAhsz+Z7hy6aM0OidPJu+c0ze9NEU2YCjyJ9YEGZWt1lH11vvFuZE= X-Google-Smtp-Source: AGHT+IFwjaNu9U4UNz+o3pWuDAv/yNYIYWuPtszeW64kE9PCaWEMTZ+/HwOgy4lVD3HhQYWXnOSyx7/rgh4w X-Received: by 2002:a17:903:41ca:b0:22e:4cae:5966 with SMTP id d9443c01a7336-22e4cae5cc7mr2332025ad.24.1746514743437; Mon, 05 May 2025 23:59:03 -0700 (PDT) Received: from postal.iol.unh.edu (postal.iol.unh.edu. [132.177.123.84]) by smtp-relay.gmail.com with ESMTPS id d9443c01a7336-22e152332fbsm17666165ad.105.2025.05.05.23.59.03 (version=TLS1_2 cipher=ECDHE-ECDSA-AES128-GCM-SHA256 bits=128/128); Mon, 05 May 2025 23:59:03 -0700 (PDT) X-Relaying-Domain: iol.unh.edu Date: Mon, 05 May 2025 23:59:03 -0700 (PDT) Message-ID: <6819b337.170a0220.2736c1.5d19SMTPIN_ADDED_MISSING@mx.google.com> Received: from [172.21.0.6] (unknown [172.18.0.240]) by postal.iol.unh.edu (Postfix) with ESMTP id E02616052471; Tue, 6 May 2025 02:59:02 -0400 (EDT) Subject: |SUCCESS| pw153303 [PATCH] eal: add getline() function for Windows From: dpdklab@iol.unh.edu To: Test Report Cc: dpdk-test-reports@iol.unh.edu In-Reply-To: <1746477607-14961-1-git-send-email-andremue@linux.microsoft.com> References: <1746477607-14961-1-git-send-email-andremue@linux.microsoft.com> Content-Type: text/plain X-BeenThere: test-report@dpdk.org X-Mailman-Version: 2.1.29 Precedence: list List-Id: automatic DPDK test reports List-Unsubscribe: , List-Archive: List-Post: List-Help: List-Subscribe: , Errors-To: test-report-bounces@dpdk.org Test-Label: iol-unit-amd64-testing Test-Status: SUCCESS http://dpdk.org/patch/153303 _Testing PASS_ Submitter: Andre Muezerie Date: Monday, May 05 2025 20:40:07 DPDK git baseline: Repo:dpdk Branch: master CommitID:ca1690ebd224f148268285b15b97441ccdbdd07e 153303 --> testing pass Upstream job id: Generic-Unit-Test-DPDK#335666 Test environment and result as below: +-------------------+----------------+ | Environment | dpdk_unit_test | +===================+================+ | Debian 12 | PASS | +-------------------+----------------+ | CentOS Stream 9 | PASS | +-------------------+----------------+ | CentOS Stream 10 | PASS | +-------------------+----------------+ | Fedora 40 | PASS | +-------------------+----------------+ | Fedora 40 (Clang) | PASS | +-------------------+----------------+ | Fedora 41 | PASS | +-------------------+----------------+ | Fedora 41 (Clang) | PASS | +-------------------+----------------+ | RHEL9 | PASS | +-------------------+----------------+ | RHEL8 | PASS | +-------------------+----------------+ | Ubuntu 20.04 | PASS | +-------------------+----------------+ | Ubuntu 24.04 | PASS | +-------------------+----------------+ | Ubuntu 22.04 | PASS | +-------------------+----------------+ Debian 12 Kernel: Depends on container host Compiler: gcc (Debian 12.2.0-14) 12.2.0 CentOS Stream 9 Kernel: Depends on container host Compiler: gcc 11.5.0 20240719 (Red Hat 11.5.0-2) CentOS Stream 10 Kernel: Depends on container host Compiler: gcc 14.2.1 20241104 (Red Hat 14.2.1-6) Fedora 40 Kernel: Depends on container host Compiler: gcc 14.2.1 20240912 (Red Hat 14.2.1-3) Fedora 40 (Clang) Kernel: Depends on container host Compiler: clang 18.1.8 (Fedora 18.1.8-1.fc40) Fedora 41 Kernel: Depends on container host Compiler: gcc 14.2.1 20240912 (Red Hat 14.2.1-3) Fedora 41 (Clang) Kernel: Depends on container host Compiler: clang 19.1.5 (Fedora 19.1.5-1.fc41) RHEL9 Kernel: Depends on container host Compiler: gcc 11.5.0 20240719 (Red Hat 11.5.0-2) RHEL8 Kernel: Depends on container host Compiler: gcc 8.5.0 20210514 (Red Hat 8.5.0-22) Ubuntu 20.04 Kernel: Depends on container host Compiler: gcc (Ubuntu 9.4.0-1ubuntu1~20.04.2) 9.4.0 Ubuntu 24.04 Kernel: Depends on container host Compiler: gcc (Ubuntu 13.3.0-6ubuntu2~24.04) 13.3.0 Ubuntu 22.04 Kernel: Depends on container host Compiler: gcc (Ubuntu 11.4.0-1ubuntu1~22.04) 11.4.0 To view detailed results, visit: https://lab.dpdk.org/results/dashboard/patchsets/33116/ UNH-IOL DPDK Community Lab To manage your email subscriptions, visit: https://lab.dpdk.org/results/dashboard/preferences/subscriptions/