From mboxrd@z Thu Jan 1 00:00:00 1970 Return-Path: Received: from mails.dpdk.org (mails.dpdk.org [217.70.189.124]) by inbox.dpdk.org (Postfix) with ESMTP id 1201E466D5 for ; Tue, 6 May 2025 09:11:19 +0200 (CEST) Received: from mails.dpdk.org (localhost [127.0.0.1]) by mails.dpdk.org (Postfix) with ESMTP id 0DA9640269; Tue, 6 May 2025 09:11:19 +0200 (CEST) Received: from mail-il1-f228.google.com (mail-il1-f228.google.com [209.85.166.228]) by mails.dpdk.org (Postfix) with ESMTP id 856E840150 for ; Tue, 6 May 2025 09:11:18 +0200 (CEST) Received: by mail-il1-f228.google.com with SMTP id e9e14a558f8ab-3d9189e9a06so21003205ab.2 for ; Tue, 06 May 2025 00:11:18 -0700 (PDT) DKIM-Signature: v=1; a=rsa-sha256; c=relaxed/relaxed; d=iol.unh.edu; s=unh-iol; t=1746515478; x=1747120278; darn=dpdk.org; h=references:in-reply-to:cc:to:from:subject:message-id:date:from:to :cc:subject:date:message-id:reply-to; bh=SGQP94s8sBIBWO0gBmMpr3feNfDWQKElHogq6ptuxZw=; b=b8LzInZ0tRwwrjgyCvf0jW4B0+bQEm9ArL4f0ar/k/rpOw96Ym0mDMMDfN14xioXeT bqAfDGYupJwf4NX2/0VvOEwF0IZuEjZw590wYfyeHFH16XX7xTmP2X8DH/dtPYHNtva4 B5Xvc13sd+/lK6zH7RQ5oDXsnWlVe0tmzyZ84= X-Google-DKIM-Signature: v=1; a=rsa-sha256; c=relaxed/relaxed; d=1e100.net; s=20230601; t=1746515478; x=1747120278; h=references:in-reply-to:cc:to:from:subject:message-id:date :x-gm-message-state:from:to:cc:subject:date:message-id:reply-to; bh=SGQP94s8sBIBWO0gBmMpr3feNfDWQKElHogq6ptuxZw=; b=s2VejZi7G+ax9PpeUfJJTUUZZ4WDarRol+pnflo8MO54QFkdZ10gFjWVpticQIk+Lh KkySjprBxT8QwU+Uy3l0dyFw+wpQptmPwW7LURPCxWsKeSwq4Zk/Xz+rJy8saUExMWj6 6AGYybsayGu9nTIXu1Ky9K7NAXk8H1zQ/5kXkLGAkAbMf5CnlWCcKP9EyC9A01IPdRMh 9bq3ff9Yx9cbSdQVcCaJkrro51f1LzYOnBkCa0dCqfRn49u8ypaIypX6zYvILbXXy/99 /x8XdNeENeZwWBcHkKukwUR1NeousvSHD0rX60asSh5S3DGTtlupOtTTxW6SbJ7zXKyK S1DA== X-Gm-Message-State: AOJu0YwTcEm3/azGPLy9F+LOCShQ3BslTE4ISbRn2Ojo7OWg0yZnm9bj VTkPXHU6uqKblPyRVvtteKPjgVKjXQgnzw+wgfrhwhQ+MeEvzn4askIAWWbEd9mCy16Z5QEwq7a sAUlc4HjQa4mGNk4cTsGjkqO78jFu1eR8r7yNLA0/ X-Gm-Gg: ASbGncvlp2mil1PeAXhhlm5viXBVVCeluaadI0iMpAm8Mkojkmo+v/UhnPi7lN6RoJy Y5FZIhHJpyxPOvZfmr+OGY9srQ6nluIaQmMBfaH4K2Wbd/ZD0JljpQpRi6FAvSqlBnQ7P7ps8a7 4AHh69cxpo22mYdTveCX2QXJuafQU4M3TOMvTbqt38R++JYD0SBr0EojiK8I6Q9kcJZK/pANFU6 rjG7Q7V569b7qXmC85FbsZTnMfrnaNbyzG0F8eZ7qW+am/B07wWEaRx1z5zFlhpm6E87E2Z+/Bu oUxB+oRWsBT5Xzv12HxTrkFC/wjoYyUSXgFpH73XTvf0pwXsik1FZxG2MDI= X-Google-Smtp-Source: AGHT+IEQQKenyKuNlLgOLPI1zF2YF815CiwbwcHc6zSVi1z5cMJE+7gLsxXkazbDAeBFuZtohz/T96m03xj6 X-Received: by 2002:a05:6e02:1605:b0:3d5:890b:8ee with SMTP id e9e14a558f8ab-3da6cdc6211mr22963055ab.2.1746515477735; Tue, 06 May 2025 00:11:17 -0700 (PDT) Received: from postal.iol.unh.edu (postal.iol.unh.edu. [132.177.123.84]) by smtp-relay.gmail.com with ESMTPS id 8926c6da1cb9f-4f88a8cd6f6sm2109148173.6.2025.05.06.00.11.17 (version=TLS1_2 cipher=ECDHE-ECDSA-AES128-GCM-SHA256 bits=128/128); Tue, 06 May 2025 00:11:17 -0700 (PDT) X-Relaying-Domain: iol.unh.edu Date: Tue, 06 May 2025 00:11:17 -0700 (PDT) Message-ID: <6819b615.050a0220.3d56c9.8687SMTPIN_ADDED_MISSING@mx.google.com> Received: from [172.21.0.14] (unknown [172.18.0.240]) by postal.iol.unh.edu (Postfix) with ESMTP id 42BED6052471; Tue, 6 May 2025 03:11:17 -0400 (EDT) Subject: |SUCCESS| pw153304 [PATCH] eal: add asprintf() function for Windows From: dpdklab@iol.unh.edu To: Test Report Cc: dpdk-test-reports@iol.unh.edu In-Reply-To: <1746495789-14101-1-git-send-email-andremue@linux.microsoft.com> References: <1746495789-14101-1-git-send-email-andremue@linux.microsoft.com> Content-Type: text/plain X-BeenThere: test-report@dpdk.org X-Mailman-Version: 2.1.29 Precedence: list List-Id: automatic DPDK test reports List-Unsubscribe: , List-Archive: List-Post: List-Help: List-Subscribe: , Errors-To: test-report-bounces@dpdk.org Test-Label: iol-compile-arm64-testing Test-Status: SUCCESS http://dpdk.org/patch/153304 _Testing PASS_ Submitter: Andre Muezerie Date: Tuesday, May 06 2025 01:43:09 DPDK git baseline: Repo:dpdk Branch: master CommitID:ca1690ebd224f148268285b15b97441ccdbdd07e 153304 --> testing pass Upstream job id: Generic-DPDK-Compile-Meson#385422 Test environment and result as below: +----------------------------------------+--------------------+ | Environment | dpdk_meson_compile | +========================================+====================+ | RHEL9 (ARM) | PASS | +----------------------------------------+--------------------+ | Ubuntu 20.04 ARM GCC Cross Compile | PASS | +----------------------------------------+--------------------+ | Ubuntu 20.04 ARM SVE | PASS | +----------------------------------------+--------------------+ | Debian 12 with MUSDK | PASS | +----------------------------------------+--------------------+ | Fedora 40 (ARM) | PASS | +----------------------------------------+--------------------+ | Fedora 40 (ARM Clang) | PASS | +----------------------------------------+--------------------+ | Fedora 41 (ARM) | PASS | +----------------------------------------+--------------------+ | Fedora 41 (ARM Clang) | PASS | +----------------------------------------+--------------------+ | Ubuntu 20.04 (ARM) | PASS | +----------------------------------------+--------------------+ | Ubuntu 22.04 (ARM) | PASS | +----------------------------------------+--------------------+ | Ubuntu 24.04 (ARM) | PASS | +----------------------------------------+--------------------+ | CentOS Stream 9 (ARM) | PASS | +----------------------------------------+--------------------+ | CentOS Stream 10 (ARM) | PASS | +----------------------------------------+--------------------+ | Debian 12 (arm) | PASS | +----------------------------------------+--------------------+ | Ubuntu 20.04 ARM Clang Cross Compile | PASS | +----------------------------------------+--------------------+ | Ubuntu 20.04 aarch32 GCC Cross Compile | PASS | +----------------------------------------+--------------------+ RHEL9 (ARM) Kernel: Depends on container host Compiler: gcc 11.5.0 20240719 (Red Hat 11.5.0-2) Ubuntu 20.04 ARM GCC Cross Compile Kernel: Depends on container host Compiler: aarch64-linux-gnu-gcc (Ubuntu 9.4.0-1ubuntu1~20.04.2) 9.4.0 Ubuntu 20.04 ARM SVE Kernel: Depends on container host Compiler: gcc (Ubuntu 10.5.0-1ubuntu1~20.04) 10.5.0 Debian 12 with MUSDK Kernel: Depends on container host Compiler: gcc (Debian 12.2.0-14) 12.2.0 Fedora 40 (ARM) Kernel: Depends on container host Compiler: gcc 14.2.1 20240912 (Red Hat 14.2.1-3) Fedora 40 (ARM Clang) Kernel: Depends on container host Compiler: clang 18.1.8 (Fedora 18.1.8-1.fc40) Fedora 41 (ARM) Kernel: Depends on container host Compiler: gcc 14.2.1 20240912 (Red Hat 14.2.1-3) Fedora 41 (ARM Clang) Kernel: Depends on container host Compiler: clang 19.1.5 (Fedora 19.1.5-1.fc41) Ubuntu 20.04 (ARM) Kernel: Depends on container host Compiler: gcc (Ubuntu 9.4.0-1ubuntu1~20.04.2) 9.4.0 Ubuntu 22.04 (ARM) Kernel: Depends on container host Compiler: gcc (Ubuntu 11.4.0-1ubuntu1~22.04) 11.4.0 Ubuntu 24.04 (ARM) Kernel: Depends on container host Compiler: gcc (Ubuntu 13.3.0-6ubuntu2~24.04) 13.3.0 CentOS Stream 9 (ARM) Kernel: Depends on container host Compiler: gcc 11.5.0 20240719 (Red Hat 11.5.0-2) CentOS Stream 10 (ARM) Kernel: Depends on container host Compiler: gcc 14.2.1 20241104 (Red Hat 14.2.1-6) Debian 12 (arm) Kernel: Depends on container host Compiler: gcc (Debian 12.2.0-14) 12.2.0 Ubuntu 20.04 ARM Clang Cross Compile Kernel: Depends on container host Compiler: clang 10.0.0-4ubuntu1 Ubuntu 20.04 aarch32 GCC Cross Compile Kernel: Depends on container host Compiler: gcc 9.4.0 To view detailed results, visit: https://lab.dpdk.org/results/dashboard/patchsets/33117/ UNH-IOL DPDK Community Lab To manage your email subscriptions, visit: https://lab.dpdk.org/results/dashboard/preferences/subscriptions/