From mboxrd@z Thu Jan 1 00:00:00 1970 Return-Path: Received: from mails.dpdk.org (mails.dpdk.org [217.70.189.124]) by inbox.dpdk.org (Postfix) with ESMTP id 2084F466D5 for ; Tue, 6 May 2025 09:11:34 +0200 (CEST) Received: from mails.dpdk.org (localhost [127.0.0.1]) by mails.dpdk.org (Postfix) with ESMTP id 1D1E040269; Tue, 6 May 2025 09:11:34 +0200 (CEST) Received: from mail-pl1-f225.google.com (mail-pl1-f225.google.com [209.85.214.225]) by mails.dpdk.org (Postfix) with ESMTP id 7FCD240150 for ; Tue, 6 May 2025 09:11:33 +0200 (CEST) Received: by mail-pl1-f225.google.com with SMTP id d9443c01a7336-2295d78b45cso69045385ad.0 for ; Tue, 06 May 2025 00:11:33 -0700 (PDT) DKIM-Signature: v=1; a=rsa-sha256; c=relaxed/relaxed; d=iol.unh.edu; s=unh-iol; t=1746515492; x=1747120292; darn=dpdk.org; h=references:in-reply-to:cc:to:from:subject:message-id:date:from:to :cc:subject:date:message-id:reply-to; bh=gijEmqxbAPiWQg7NdVhDysKk3mhOn4EDqH1ia9dgvHw=; b=gaAmbA+/yewalq89J798xP3PG2bmyYQ8E0zgLRfWO+nf+zCgZ+gSDmvMVGuQf3VqXg OXLpKC/3usur4xSZwLeHpiXZUEKqPl5DpQytyDQ1sWNcvnZ2QZvbI24Uddcwpz7L2JYF YN4x9Hd6pF1zLY9206MZdvYHFoX425n4szQBg= X-Google-DKIM-Signature: v=1; a=rsa-sha256; c=relaxed/relaxed; d=1e100.net; s=20230601; t=1746515492; x=1747120292; h=references:in-reply-to:cc:to:from:subject:message-id:date :x-gm-message-state:from:to:cc:subject:date:message-id:reply-to; bh=gijEmqxbAPiWQg7NdVhDysKk3mhOn4EDqH1ia9dgvHw=; b=wIuTzfqefPe3o3iDDbOMjvSy2kZ1mAF2/FJGdp7KavaCqbCnfmTyThrCdsPtSaMz+Y QlgnC3ncObkBw1k9RvQbgjEgCTk8xMicHSP5c6FcIiOSlsH7VjpY1sCL7omQzTYhbSPW Ki/SgCxt843rIqMHoOQ09ki1yvUHTUrOGcrtMQleKdaV6eoA4+FfncHCaWOxaAFEku8o dzoKkZSlmD1JuRjqIk6+7U6OZdW9S/AbuaCz7bYjBcVBxc46g5ag96BvM1mho8F1CrXc gYNJq5LtmCleKQ7dT04W69ZA/VQG2TN83kDHIhVI0Lvk3l0HRYQ9ckd4014wRzjSuBdm GomQ== X-Gm-Message-State: AOJu0YyD+frNhoo4sJVMqVUvmdy8o902SmAqLyJQHtN8gtQpnjwiMQW2 2dgXTsQNXBXEvRUjn3Ur2cbBZsMGoKtDzGzyJ3EOsqRAGgm9ODF4uIoDHcO02Cj22neIpFq4eqJ DOk2+P+CCHoPxQORtfO5TQbams5Vw+93hUSI985HF7+2HOwywV0+JCAwr X-Gm-Gg: ASbGnctj8nmYMYXI82uju06lj8fT+lw5nWcpr5LipciNPXGVe0XAw/G8aqj6aD/rbDe woCxySdQPkf1vqir0iid59+SkWyUM5QvxehLUqSsshdrmI27SzF/afYFHkUEtce6jA9e63Ormc3 aZAI2/0EJvYY+RSRlnuMlQDM2OUKNVuRGvJaqTWWg8NykdAEmNqJfbMeb50UX+mR6poV42YhvOm 8cKTZGchUmeFrI9aEYTNLe+9nvUTNXQwbz796Cat4/017n4xrjJyfFjiUlh1rlZm6buHvdg/HsY Q9rNy+ExJOTm45JuT/SZ6zxaT+wvvjAvgxR3 X-Google-Smtp-Source: AGHT+IEs466QLGwDdjkW+Q4AsRXzp86fqzJDV5mXAFc0QfxCVXeEkYyvaV55sM9HW5IBtKvCULs6P15HsyVu X-Received: by 2002:a17:903:46cd:b0:220:c178:b2e with SMTP id d9443c01a7336-22e328d42bamr32459125ad.17.1746515492605; Tue, 06 May 2025 00:11:32 -0700 (PDT) Received: from postal.iol.unh.edu (postal.iol.unh.edu. [2606:4100:3880:1234::84]) by smtp-relay.gmail.com with ESMTPS id d9443c01a7336-22e151f020dsm17663255ad.53.2025.05.06.00.11.32 (version=TLS1_2 cipher=ECDHE-ECDSA-AES128-GCM-SHA256 bits=128/128); Tue, 06 May 2025 00:11:32 -0700 (PDT) X-Relaying-Domain: iol.unh.edu Date: Tue, 06 May 2025 00:11:32 -0700 (PDT) Message-ID: <6819b624.170a0220.273773.55fcSMTPIN_ADDED_MISSING@mx.google.com> Received: from [172.21.0.15] (unknown [172.18.0.240]) by postal.iol.unh.edu (Postfix) with ESMTP id 09CB16052471; Tue, 6 May 2025 03:11:32 -0400 (EDT) Subject: |SUCCESS| pw153304 [PATCH] eal: add asprintf() function for Windows From: dpdklab@iol.unh.edu To: Test Report Cc: dpdk-test-reports@iol.unh.edu In-Reply-To: <1746495789-14101-1-git-send-email-andremue@linux.microsoft.com> References: <1746495789-14101-1-git-send-email-andremue@linux.microsoft.com> Content-Type: text/plain X-BeenThere: test-report@dpdk.org X-Mailman-Version: 2.1.29 Precedence: list List-Id: automatic DPDK test reports List-Unsubscribe: , List-Archive: List-Post: List-Help: List-Subscribe: , Errors-To: test-report-bounces@dpdk.org Test-Label: iol-compile-amd64-testing Test-Status: SUCCESS http://dpdk.org/patch/153304 _Testing PASS_ Submitter: Andre Muezerie Date: Tuesday, May 06 2025 01:43:09 DPDK git baseline: Repo:dpdk Branch: master CommitID:ca1690ebd224f148268285b15b97441ccdbdd07e 153304 --> testing pass Upstream job id: Generic-DPDK-Compile-Meson#385398 Test environment and result as below: +-----------------------------------+-------------------+--------------------+-------------------+------------------+-------------------------+ | Environment | dpdk_msvc_compile | dpdk_meson_compile | dpdk_compile_spdk | dpdk_compile_ovs | dpdk_llvm_clang_compile | +===================================+===================+====================+===================+==================+=========================+ | Windows Server 2022 | PASS | SKIPPED | SKIPPED | SKIPPED | PASS | +-----------------------------------+-------------------+--------------------+-------------------+------------------+-------------------------+ | FreeBSD 13.5 | SKIPPED | PASS | SKIPPED | SKIPPED | SKIPPED | +-----------------------------------+-------------------+--------------------+-------------------+------------------+-------------------------+ | FreeBSD 14.2 | SKIPPED | PASS | SKIPPED | SKIPPED | SKIPPED | +-----------------------------------+-------------------+--------------------+-------------------+------------------+-------------------------+ | Ubuntu 20.04 | SKIPPED | PASS | SKIPPED | SKIPPED | SKIPPED | +-----------------------------------+-------------------+--------------------+-------------------+------------------+-------------------------+ | CentOS Stream 9 | SKIPPED | PASS | PASS | SKIPPED | SKIPPED | +-----------------------------------+-------------------+--------------------+-------------------+------------------+-------------------------+ | CentOS Stream 10 | SKIPPED | PASS | SKIPPED | SKIPPED | SKIPPED | +-----------------------------------+-------------------+--------------------+-------------------+------------------+-------------------------+ | Debian 12 | SKIPPED | PASS | PASS | SKIPPED | SKIPPED | +-----------------------------------+-------------------+--------------------+-------------------+------------------+-------------------------+ | Fedora 40 (Clang) | SKIPPED | PASS | PASS | SKIPPED | SKIPPED | +-----------------------------------+-------------------+--------------------+-------------------+------------------+-------------------------+ | Fedora 40 | SKIPPED | PASS | PASS | SKIPPED | SKIPPED | +-----------------------------------+-------------------+--------------------+-------------------+------------------+-------------------------+ | Fedora 41 (Clang) | SKIPPED | PASS | PASS | PASS | SKIPPED | +-----------------------------------+-------------------+--------------------+-------------------+------------------+-------------------------+ | Fedora 41 | SKIPPED | PASS | PASS | PASS | SKIPPED | +-----------------------------------+-------------------+--------------------+-------------------+------------------+-------------------------+ | openSUSE Leap 15 | SKIPPED | PASS | SKIPPED | SKIPPED | SKIPPED | +-----------------------------------+-------------------+--------------------+-------------------+------------------+-------------------------+ | RHEL8 | SKIPPED | PASS | SKIPPED | SKIPPED | SKIPPED | +-----------------------------------+-------------------+--------------------+-------------------+------------------+-------------------------+ | RHEL9 | SKIPPED | PASS | SKIPPED | SKIPPED | SKIPPED | +-----------------------------------+-------------------+--------------------+-------------------+------------------+-------------------------+ | Ubuntu 22.04 | SKIPPED | PASS | PASS | SKIPPED | SKIPPED | +-----------------------------------+-------------------+--------------------+-------------------+------------------+-------------------------+ | Ubuntu 24.04 | SKIPPED | PASS | PASS | PASS | SKIPPED | +-----------------------------------+-------------------+--------------------+-------------------+------------------+-------------------------+ | Alpine | SKIPPED | PASS | SKIPPED | SKIPPED | SKIPPED | +-----------------------------------+-------------------+--------------------+-------------------+------------------+-------------------------+ | Ubuntu 24.04 32 Bit Cross Compile | SKIPPED | PASS | SKIPPED | SKIPPED | SKIPPED | +-----------------------------------+-------------------+--------------------+-------------------+------------------+-------------------------+ Windows Server 2022 Kernel: 10.0.20348.2031 Compiler: clang 15.0.7, gcc 14.1.0 (MinGW), and MSVC VS 19.39.33521 FreeBSD 13.5 Kernel: 13.5-RELEASE Compiler: clang 19.1.7 FreeBSD 14.2 Kernel: 14.2-RELEASE Compiler: clang 18.1.6 Ubuntu 20.04 Kernel: 4.19.325-0419325-generic Compiler: gcc (Ubuntu 9.4.0-1ubuntu1~20.04.2) 9.4.0 CentOS Stream 9 Kernel: Depends on container host Compiler: gcc 11.5.0 20240719 (Red Hat 11.5.0-2) CentOS Stream 10 Kernel: Depends on container host Compiler: gcc 14.2.1 20241104 (Red Hat 14.2.1-6) Debian 12 Kernel: Depends on container host Compiler: gcc (Debian 12.2.0-14) 12.2.0 Fedora 40 (Clang) Kernel: Depends on container host Compiler: clang 18.1.8 (Fedora 18.1.8-1.fc40) Fedora 40 Kernel: Depends on container host Compiler: gcc 14.2.1 20240912 (Red Hat 14.2.1-3) Fedora 41 (Clang) Kernel: Depends on container host Compiler: clang 19.1.5 (Fedora 19.1.5-1.fc41) Fedora 41 Kernel: Depends on container host Compiler: gcc 14.2.1 20240912 (Red Hat 14.2.1-3) openSUSE Leap 15 Kernel: Depends on container host Compiler: gcc (SUSE Linux) 7.5.0 RHEL8 Kernel: Depends on container host Compiler: gcc 8.5.0 20210514 (Red Hat 8.5.0-22) RHEL9 Kernel: Depends on container host Compiler: gcc 11.5.0 20240719 (Red Hat 11.5.0-2) Ubuntu 22.04 Kernel: Depends on container host Compiler: gcc (Ubuntu 11.4.0-1ubuntu1~22.04) 11.4.0 Ubuntu 24.04 Kernel: Depends on container host Compiler: gcc (Ubuntu 13.3.0-6ubuntu2~24.04) 13.3.0 Alpine Kernel: Depends on container host Compiler: gcc (Alpine 14.2.0) 14.2.0 Ubuntu 24.04 32 Bit Cross Compile Kernel: Depends on container host Compiler: gcc (Ubuntu 13.3.0-6ubuntu2~24.04) 13.3.0 To view detailed results, visit: https://lab.dpdk.org/results/dashboard/patchsets/33117/ UNH-IOL DPDK Community Lab To manage your email subscriptions, visit: https://lab.dpdk.org/results/dashboard/preferences/subscriptions/